Uber Exif Photo
Date Created : 2016:04:21
Photometric Interpretation : RGB
Make : Canon
Camera Model Name : Canon EOS 5D Mark III
Orientation : Horizontal (normal)
Samples Per Pixel : 3
Software : Adobe Photoshop CS5 Windows
Modify Date : 2018:02:28 20:27:31
Exposure Time : 1/80
F Number : 5.6
Exposure Program : Aperture-priority AE
ISO : 125
Sensitivity Type : Recommended Exposure Index
Recommended Exposure Index : 125
Date/Time Original : 2016:04:21 11:07:23
Create Date : 2016:04:21 11:07:23
Shutter Speed Value : 1/80
Aperture Value : 5.6
Exposure Compensation : 0
Max Aperture Value : 5.7
Subject Distance : 1.31 m
Metering Mode : Multi-segment
Focal Length : 140.0 mm
Image Number : 0
Color Space : sRGB
Exif Image Width : 719
Exif Image Height : 480
Custom Rendered : Normal
Exposure Mode : Auto
White Balance : Auto
Scene Capture Type : Standard
Contrast : High
Saturation : High
Sharpness : Hard
Serial Number : 043023002934
Lens Info : 140-400mm f/?
Lens Model : EF70-200mm f/2.8L IS II USM +2x III
Lens Serial Number : 0000c027da
Approximate Focus Distance : 1.31
Firmware : 1.2.3
Flash Compensation : 0
Lens : EF70-200mm f/2.8L IS II USM +2x III
Format : image/jpeg
Flash Fired : False
Flash Function : False
Flash Mode : Off
Flash Red Eye Mode : False
Flash Return : No return detection
Color Mode : RGB
ICC Profile Name : sRGB IEC61966-2.1
Creator Tool : Adobe Photoshop CS5 Windows
Already Applied : True
Auto Lateral CA : 0
Blacks 2012 : 0
Blue Hue : 0
Blue Saturation : 0
Brightness : +49
Camera Profile : Adobe Standard
Clarity : +22
Clarity 2012 : 0
Color Noise Reduction : 25
Color Noise Reduction Detail : 50
Contrast 2012 : 0
Convert To Grayscale : False
Defringe : 0
Exposure : -1.25
Exposure 2012 : 0.00
Fill Light : 52
Grain Amount : 0
Green Hue : 0
Green Saturation : 0
Has Crop : False
Has Settings : True
Highlight Recovery : 50
Highlights 2012 : 0
Hue Adjustment Aqua : 0
Hue Adjustment Blue : 0
Hue Adjustment Green : 0
Hue Adjustment Magenta : 0
Hue Adjustment Orange : 0
Hue Adjustment Purple : 0
Hue Adjustment Red : 0
Hue Adjustment Yellow : 0
Lens Manual Distortion Amount : 0
Lens Profile Enable : 0
Lens Profile Setup : LensDefaults
Luminance Adjustment Aqua : 0
Luminance Adjustment Blue : 0
Luminance Adjustment Green : 0
Luminance Adjustment Magenta : 0
Luminance Adjustment Orange : 0
Luminance Adjustment Purple : 0
Luminance Adjustment Red : 0
Luminance Adjustment Yellow : 0
Luminance Smoothing : 0
Parametric Darks : 0
Parametric Highlight Split : 75
Parametric Highlights : 0
Parametric Lights : 0
Parametric Midtone Split : 50
Parametric Shadow Split : 25
Parametric Shadows : 0
Perspective Horizontal : 0
Perspective Rotate : 0.0
Perspective Scale : 100
Perspective Vertical : 0
Post Crop Vignette Amount : 0
Process Version : 5.7
Raw File Name : 854A4423.CR2
Red Hue : 0
Red Saturation : 0
Saturation Adjustment Aqua : 0
Saturation Adjustment Blue : 0
Saturation Adjustment Green : 0
Saturation Adjustment Magenta : 0
Saturation Adjustment Orange : 0
Saturation Adjustment Purple : 0
Saturation Adjustment Red : 0
Saturation Adjustment Yellow : 0
Shadow Tint : 0
Shadows : 5
Shadows 2012 : 0
Sharpen Detail : 25
Sharpen Edge Masking : 0
Sharpen Radius : +1.0
Split Toning Balance : 0
Split Toning Highlight Hue : 0
Split Toning Highlight Saturation : 0
Split Toning Shadow Hue : 0
Split Toning Shadow Saturation : 0
Tint : +20
Tone Curve : 0, 0, 32, 22, 64, 56, 128, 128, 192, 196, 255, 255
Tone Curve Blue : 0, 0, 255, 255
Tone Curve Green : 0, 0, 255, 255
Tone Curve Name : Medium Contrast
Tone Curve Name 2012 : Linear
Tone Curve PV2012 : 0, 0, 255, 255
Tone Curve PV2012 Blue : 0, 0, 255, 255
Tone Curve PV2012 Green : 0, 0, 255, 255
Tone Curve PV2012 Red : 0, 0, 255, 255
Tone Curve Red : 0, 0, 255, 255
Version : 6.7.1
Vibrance : +13
Vignette Amount : 0
Whites 2012 : 0
Image Width : 300
Image Height : 200
Bits Per Sample : 8
Color Components : 3
Aperture : 5.6
Image Size : 300x200
Megapixels : 0.060
Scale Factor To 35 mm Equivalent : 8.0
Shutter Speed : 1/80
Create Date : 2016:04:21 11:07:23.00
Date/Time Original : 2016:04:21 11:07:23.00
Flash : Off, Did not fire
Circle Of Confusion : 0.004 mm
Depth Of Field : 0.003 m (1.308 - 1.312 m)
Field Of View : 1.8 deg
Focal Length : 140.0 mm (35 mm equivalent: 1121.1 mm)
Hyperfocal Distance : 932.79 m
Light Value : 11.0
Lens ID : EF70-200mm f/2.8L IS II USM +2x III