Uber Exif Photo
Make : Panasonic
Camera Model Name : DMC-GX85
Software : Adobe Photoshop Lightroom 6.14 (Macintosh)
Modify Date : 2018:06:08 16:37:23
Exposure Time : 1/250
F Number : 2.0
Exposure Program : Manual
ISO : 200
Sensitivity Type : Standard Output Sensitivity
Date/Time Original : 2018:06:08 10:28:10
Create Date : 2018:06:08 10:28:10
Shutter Speed Value : 1/250
Aperture Value : 2.0
Exposure Compensation : 0
Max Aperture Value : 1.7
Metering Mode : Center-weighted average
Light Source : Unknown
Flash : On, Fired
Focal Length : 20.0 mm
Color Space : sRGB
Sensing Method : One-chip color area
Scene Type : Directly photographed
Custom Rendered : Normal
Exposure Mode : Manual
White Balance : Auto
Digital Zoom Ratio : 0
Focal Length In 35mm Format : 40 mm
Scene Capture Type : Standard
Gain Control : Low gain up
Contrast : High
Saturation : Normal
Sharpness : Hard
Serial Number : XGL1604280134
Lens Model : LUMIX G 20/F1.7
Lens Serial Number : 02EG3281566
Profile Description : sRGB IEC61966-2.1
Creator Tool : Adobe Photoshop Lightroom 6.14 (Macintosh)
Lens : LUMIX G 20/F1.7
Lateral Chromatic Aberration Correction Already Applied:
True
Date Created : 2018:06:08 10:28:10.160
Format : image/jpeg
Version : 10.1
Process Version : 6.7
Auto White Version : 134348800
Incremental Temperature : 0
Incremental Tint : 0
Luminance Smoothing : 30
Color Noise Reduction : 0
Vignette Amount : 0
Shadow Tint : 0
Red Hue : 0
Red Saturation : 0
Green Hue : 0
Green Saturation : 0
Blue Hue : 0
Blue Saturation : 0
Vibrance : 0
Hue Adjustment Red : 0
Hue Adjustment Orange : 0
Hue Adjustment Yellow : 0
Hue Adjustment Green : 0
Hue Adjustment Aqua : 0
Hue Adjustment Blue : 0
Hue Adjustment Purple : 0
Hue Adjustment Magenta : 0
Saturation Adjustment Red : 0
Saturation Adjustment Orange : 0
Saturation Adjustment Yellow : 0
Saturation Adjustment Green : 0
Saturation Adjustment Aqua : 0
Saturation Adjustment Blue : 0
Saturation Adjustment Purple : 0
Saturation Adjustment Magenta : 0
Luminance Adjustment Red : 0
Luminance Adjustment Orange : 0
Luminance Adjustment Yellow : 0
Luminance Adjustment Green : 0
Luminance Adjustment Aqua : 0
Luminance Adjustment Blue : 0
Luminance Adjustment Purple : 0
Luminance Adjustment Magenta : 0
Split Toning Shadow Hue : 0
Split Toning Shadow Saturation : 0
Split Toning Highlight Hue : 0
Split Toning Highlight Saturation : 0
Split Toning Balance : 0
Parametric Shadows : 0
Parametric Darks : 0
Parametric Lights : 0
Parametric Highlights : 0
Parametric Shadow Split : 25
Parametric Midtone Split : 50
Parametric Highlight Split : 75
Sharpen Radius : +1.4
Sharpen Detail : 15
Sharpen Edge Masking : 60
Post Crop Vignette Amount : 0
Grain Amount : 0
Luminance Noise Reduction Detail : 50
Luminance Noise Reduction Contrast : 0
Lens Profile Enable : 1
Lens Manual Distortion Amount : 0
Perspective Vertical : 0
Perspective Horizontal : 0
Perspective Rotate : 0.0
Perspective Scale : 100
Perspective Aspect : 0
Perspective Upright : Off
Perspective X : 0.00
Perspective Y : 0.00
Auto Lateral CA : 1
Exposure 2012 : +0.10
Contrast 2012 : 0
Highlights 2012 : -27
Shadows 2012 : 0
Whites 2012 : 0
Blacks 2012 : 0
Clarity 2012 : +7
Defringe Purple Amount : 0
Defringe Purple Hue Lo : 30
Defringe Purple Hue Hi : 70
Defringe Green Amount : 0
Defringe Green Hue Lo : 40
Defringe Green Hue Hi : 60
Dehaze : 0
Tone Map Strength : 0
Convert To Grayscale : False
Tone Curve Name : Linear
Tone Curve Name 2012 : Medium Contrast
Camera Profile : Embedded
Lens Profile Setup : LensDefaults
Has Settings : True
Has Crop : False
Already Applied : True
Tone Curve : 0, 0, 255, 255
Tone Curve Red : 0, 0, 255, 255
Tone Curve Green : 0, 0, 255, 255
Tone Curve Blue : 0, 0, 255, 255
Tone Curve PV2012 : 0, 0, 32, 22, 64, 56, 128, 128, 192, 196, 255, 255
Tone Curve PV2012 Red : 0, 0, 255, 255
Tone Curve PV2012 Green : 0, 0, 255, 255
Tone Curve PV2012 Blue : 0, 0, 255, 255
Image Width : 350
Image Height : 263
Bits Per Sample : 8
Color Components : 3
Aperture : 2.0
Image Size : 350x263
Megapixels : 0.092
Scale Factor To 35 mm Equivalent : 2.0
Shutter Speed : 1/250
Create Date : 2018:06:08 10:28:10.160
Date/Time Original : 2018:06:08 10:28:10.160
Circle Of Confusion : 0.015 mm
Field Of View : 48.5 deg
Focal Length : 20.0 mm (35 mm equivalent: 40.0 mm)
Hyperfocal Distance : 13.31 m
Light Value : 9.0
Lens ID : LUMIX G 20mm F1.7