Uber Exif Photo
Make : Leica Camera AG
Camera Model Name : LEICA M10
Software : Adobe Photoshop Lightroom Classic (Macintosh)
Modify Date : 2018:06:30 22:06:38
Exposure Time : 1/750
Exposure Program : Aperture-priority AE
ISO : 800
Date/Time Original : 2018:06:23 11:35:31
Create Date : 2018:06:23 11:35:31
Shutter Speed Value : 1/750
Exposure Compensation : 0
Max Aperture Value : 2.0
Metering Mode : Center-weighted average
Light Source : Unknown
Flash : No Flash
Focal Length : 35.0 mm
Color Space : Uncalibrated
Scene Type : Directly photographed
Exposure Mode : Auto
White Balance : Auto
Digital Zoom Ratio : 0
Scene Capture Type : Standard
Contrast : Normal
Saturation : Normal
Sharpness : Normal
Serial Number : 5198265
Lens Info : 35mm f/511
Lens Model : Summicron-M 1:2/35 ASPH.
Profile Description : ProPhoto RGB
Lens : Summicron-M 1:2/35 ASPH.
Format : image/jpeg
Creator Tool : Adobe Photoshop Lightroom Classic (Macintosh)
Date Created : 2018:06:23 11:35:31
Photographic Sensitivity : 800
Raw File Name :
Version : 10.4
Process Version : 10.0
Incremental Temperature : +8
Incremental Tint : 0
Luminance Smoothing : 0
Color Noise Reduction : 0
Vignette Amount : 0
Shadow Tint : 0
Red Hue : 0
Red Saturation : 0
Green Hue : 0
Green Saturation : 0
Blue Hue : 0
Blue Saturation : 0
Gray Mixer Red : -12
Gray Mixer Orange : -21
Gray Mixer Yellow : -25
Gray Mixer Green : -28
Gray Mixer Aqua : -16
Gray Mixer Blue : +15
Gray Mixer Purple : +19
Gray Mixer Magenta : +4
Split Toning Shadow Hue : 0
Split Toning Shadow Saturation : 0
Split Toning Highlight Hue : 0
Split Toning Highlight Saturation : 0
Split Toning Balance : 0
Parametric Shadows : 0
Parametric Darks : 0
Parametric Lights : 0
Parametric Highlights : 0
Parametric Shadow Split : 25
Parametric Midtone Split : 50
Parametric Highlight Split : 75
Sharpen Radius : +1.0
Sharpen Detail : 25
Sharpen Edge Masking : 0
Post Crop Vignette Amount : 0
Grain Amount : 29
Grain Size : 28
Grain Frequency : 49
Lens Profile Enable : 0
Lens Manual Distortion Amount : 0
Perspective Vertical : 0
Perspective Horizontal : 0
Perspective Rotate : 0.0
Perspective Scale : 100
Perspective Aspect : 0
Perspective Upright : Off
Perspective X : 0.00
Perspective Y : 0.00
Auto Lateral CA : 0
Exposure 2012 : -0.30
Contrast 2012 : 0
Highlights 2012 : 0
Shadows 2012 : 0
Whites 2012 : +30
Blacks 2012 : -30
Clarity 2012 : 0
Dehaze : 0
Tone Map Strength : 0
Convert To Grayscale : True
Override Look Vignette : False
Tone Curve Name : Linear
Tone Curve Name 2012 : Linear
Camera Profile : Embedded
Lens Profile Setup : LensDefaults
Has Settings : True
Has Crop : False
Already Applied : True
Tone Curve : 0, 0, 255, 255
Tone Curve Red : 0, 0, 255, 255
Tone Curve Green : 0, 0, 255, 255
Tone Curve Blue : 0, 0, 255, 255
Tone Curve PV2012 : 0, 0, 255, 255
Tone Curve PV2012 Red : 0, 0, 255, 255
Tone Curve PV2012 Green : 0, 0, 255, 255
Tone Curve PV2012 Blue : 0, 0, 255, 255
Look Name : B&W 03
Look Amount : 1.000000
Look Cluster : Adobe
Look Supports Monochrome : false
Look Sort Name : B&W 03
Look Group : B&W
Look Parameters Version : 10.4
Look Parameters Process Version : 10.0
Look Parameters Contrast 2012 : +57
Look Parameters Clarity 2012 : +8
Look Parameters Convert To Grayscale : True
Look Parameters Look Table : 62CE423BDCA099FE0B786CA01EB606B0
Look Parameters Tone Curve PV2012 : 0, 0, 29, 25, 128, 128, 192, 196, 255, 255
Look Parameters Tone Curve PV2012 Red : 0, 0, 255, 255
Look Parameters Tone Curve PV2012 Green : 0, 0, 255, 255
Look Parameters Tone Curve PV2012 Blue : 0, 0, 255, 255
Image Width : 350
Image Height : 405
Bits Per Sample : 8
Color Components : 3
Image Size : 350x405
Megapixels : 0.142
Scale Factor To 35 mm Equivalent : 13.4
Shutter Speed : 1/750
Circle Of Confusion : 0.002 mm
Field Of View : 4.4 deg
Focal Length : 35.0 mm (35 mm equivalent: 467.7 mm)
Lens ID : Summicron-M 1:2/35 ASPH.