Uber Exif Photo
Make : Panasonic
Camera Model Name : DMC-GX85
Software : Adobe Photoshop Lightroom 6.14 (Macintosh)
Modify Date : 2018:09:17 21:35:57
Exposure Time : 1/250
F Number : 7.1
Exposure Program : Aperture-priority AE
ISO : 200
Date/Time Original : 2018:09:15 13:10:40
Create Date : 2018:09:15 13:10:40
Shutter Speed Value : 1/250
Aperture Value : 7.1
Exposure Compensation : -0.66
Max Aperture Value : 1.8
Metering Mode : Center-weighted average
Light Source : Unknown
Flash : Off, Did not fire
Focal Length : 45.0 mm
Color Space : sRGB
Sensing Method : One-chip color area
Scene Type : Directly photographed
Custom Rendered : Normal
Exposure Mode : Auto
White Balance : Auto
Digital Zoom Ratio : 0
Focal Length In 35mm Format : 90 mm
Scene Capture Type : Standard
Gain Control : Low gain up
Contrast : Normal
Saturation : Low
Sharpness : Normal
Serial Number : XGL1604280134
Lens Model : OLYMPUS M.45mm F1.8
Lens Serial Number : ABSA59691
Profile Description : sRGB IEC61966-2.1
Lens : OLYMPUS M.45mm F1.8
Distortion Correction Already Applied : True
Lateral Chromatic Aberration Correction Already Applied:
True
Creator Tool : Adobe Photoshop Lightroom 6.14 (Macintosh)
Date Created : 2018:09:15 13:10:40.187
Format : image/jpeg
Version : 10.1
Process Version : 6.7
Auto White Version : 134348800
Color Temperature : 5000
Tint : +7
Luminance Smoothing : 19
Color Noise Reduction : 25
Vignette Amount : 0
Shadow Tint : 0
Red Hue : 0
Red Saturation : 0
Green Hue : 0
Green Saturation : 0
Blue Hue : 0
Blue Saturation : 0
Gray Mixer Red : -11
Gray Mixer Orange : +100
Gray Mixer Yellow : +15
Gray Mixer Green : -2
Gray Mixer Aqua : +10
Gray Mixer Blue : +67
Gray Mixer Purple : +13
Gray Mixer Magenta : +4
Split Toning Shadow Hue : 0
Split Toning Shadow Saturation : 0
Split Toning Highlight Hue : 0
Split Toning Highlight Saturation : 0
Split Toning Balance : 0
Parametric Shadows : +42
Parametric Darks : +13
Parametric Lights : +9
Parametric Highlights : 0
Parametric Shadow Split : 25
Parametric Midtone Split : 50
Parametric Highlight Split : 75
Sharpen Radius : +1.4
Sharpen Detail : 35
Sharpen Edge Masking : 0
Post Crop Vignette Amount : 0
Grain Amount : 0
Luminance Noise Reduction Detail : 50
Color Noise Reduction Detail : 50
Luminance Noise Reduction Contrast : 0
Color Noise Reduction Smoothness : 50
Lens Profile Enable : 1
Lens Manual Distortion Amount : 0
Perspective Vertical : 0
Perspective Horizontal : 0
Perspective Rotate : 0.0
Perspective Scale : 100
Perspective Aspect : 0
Perspective Upright : Off
Perspective X : 0.00
Perspective Y : 0.00
Auto Lateral CA : 1
Exposure 2012 : +0.36
Contrast 2012 : +45
Highlights 2012 : -100
Shadows 2012 : +100
Whites 2012 : -18
Blacks 2012 : +27
Clarity 2012 : +20
Dehaze : 0
Tone Map Strength : 0
Convert To Grayscale : True
Tone Curve Name : Linear
Tone Curve Name 2012 : Linear
Camera Profile : Adobe Standard
Lens Profile Setup : LensDefaults
Has Settings : True
Crop Top : 0.201519
Crop Left : 0.093984
Crop Bottom : 0.712693
Crop Right : 0.845833
Crop Angle : -2.31303
Crop Constrain To Warp : 0
Has Crop : True
Already Applied : True
Tone Curve : 0, 0, 255, 255
Tone Curve Red : 0, 0, 255, 255
Tone Curve Green : 0, 0, 255, 255
Tone Curve Blue : 0, 0, 255, 255
Tone Curve PV2012 : 0, 0, 255, 255
Tone Curve PV2012 Red : 0, 0, 255, 255
Tone Curve PV2012 Green : 0, 0, 255, 255
Tone Curve PV2012 Blue : 0, 0, 255, 255
Image Width : 350
Image Height : 197
Bits Per Sample : 8
Color Components : 3
Aperture : 7.1
Image Size : 350x197
Megapixels : 0.069
Scale Factor To 35 mm Equivalent : 2.0
Shutter Speed : 1/250
Create Date : 2018:09:15 13:10:40.187
Date/Time Original : 2018:09:15 13:10:40.187
Circle Of Confusion : 0.015 mm
Field Of View : 22.6 deg
Focal Length : 45.0 mm (35 mm equivalent: 90.0 mm)
Hyperfocal Distance : 18.98 m
Light Value : 12.6
Lens ID : OLYMPUS M.45mm F1.8