Uber Exif Photo
Make : Canon
Camera Model Name : Canon EOS 5D
Orientation : Horizontal (normal)
Software : Adobe Photoshop CS4 Windows
Modify Date : 2012:04:14 20:56:21
White Point : 0.313 0.329
Primary Chromaticities : 0.64 0.33 0.21 0.71 0.15 0.06
Exposure Time : 1/80
F Number : 5.6
Exposure Program : Program AE
ISO : 200
Date/Time Original : 2012:04:14 14:37:01
Create Date : 2012:04:14 14:37:01
Shutter Speed Value : 1/83
Aperture Value : 5.7
Exposure Compensation : -1/3
Metering Mode : Spot
Flash : Off, Did not fire
Focal Length : 19.0 mm
Color Space : Uncalibrated
Exif Image Width : 1719
Exif Image Height : 2352
White Balance : Auto
Custom Rendered : Normal
Exposure Mode : Auto
Scene Capture Type : Standard
Gamma : 2.2
Creator Tool : Adobe Photoshop CS4 Windows
Rating : 0
Format : image/jpeg
Date Created : 2012:04:14 14:37:01+02:00
Version : 10.5
Process Version : 5.0
Incremental Temperature : +3
Incremental Tint : 0
Exposure : -0.25
Shadows : 10
Brightness : 0
Contrast : 0
Saturation : 0
Sharpness : 61
Luminance Smoothing : 59
Color Noise Reduction : 65
Vignette Amount : 0
Shadow Tint : 0
Red Hue : 0
Red Saturation : 0
Green Hue : 0
Green Saturation : 0
Blue Hue : 0
Blue Saturation : 0
Fill Light : 23
Vibrance : 0
Highlight Recovery : 0
Clarity : +31
Hue Adjustment Red : 0
Hue Adjustment Orange : 0
Hue Adjustment Yellow : 0
Hue Adjustment Green : 0
Hue Adjustment Aqua : 0
Hue Adjustment Blue : 0
Hue Adjustment Purple : 0
Hue Adjustment Magenta : 0
Saturation Adjustment Red : 0
Saturation Adjustment Orange : 0
Saturation Adjustment Yellow : 0
Saturation Adjustment Green : 0
Saturation Adjustment Aqua : 0
Saturation Adjustment Blue : 0
Saturation Adjustment Purple : 0
Saturation Adjustment Magenta : 0
Luminance Adjustment Red : 0
Luminance Adjustment Orange : 0
Luminance Adjustment Yellow : 0
Luminance Adjustment Green : 0
Luminance Adjustment Aqua : 0
Luminance Adjustment Blue : 0
Luminance Adjustment Purple : 0
Luminance Adjustment Magenta : 0
Split Toning Shadow Hue : 0
Split Toning Shadow Saturation : 0
Split Toning Highlight Hue : 0
Split Toning Highlight Saturation : 0
Split Toning Balance : 0
Parametric Shadows : 0
Parametric Darks : 0
Parametric Lights : 0
Parametric Highlights : 0
Parametric Shadow Split : 25
Parametric Midtone Split : 50
Parametric Highlight Split : 75
Sharpen Radius : +1.0
Sharpen Detail : 37
Sharpen Edge Masking : 0
Post Crop Vignette Amount : 0
Grain Amount : 0
Lens Profile Enable : 0
Lens Manual Distortion Amount : 0
Perspective Vertical : 0
Perspective Horizontal : 0
Perspective Rotate : 0.0
Perspective Scale : 100
Perspective Aspect : 0
Perspective Upright : Off
Perspective X : 0.00
Perspective Y : 0.00
Auto Lateral CA : 0
Defringe Purple Amount : 0
Defringe Purple Hue Lo : 30
Defringe Purple Hue Hi : 70
Defringe Green Amount : 0
Defringe Green Hue Lo : 40
Defringe Green Hue Hi : 60
Convert To Grayscale : False
Override Look Vignette : False
Tone Curve Name : Linear
Tone Curve Name 2012 : Linear
Camera Profile : Embedded
Lens Profile Setup : LensDefaults
Has Settings : True
Has Crop : False
Already Applied : False
Raw File Name : _MG_5307.JPG
Photographic Sensitivity : 200
Tone Curve : 0, 0, 255, 255
Tone Curve Red : 0, 0, 255, 255
Tone Curve Green : 0, 0, 255, 255
Tone Curve Blue : 0, 0, 255, 255
Tone Curve PV2012 : 0, 0, 255, 255
Tone Curve PV2012 Red : 0, 0, 255, 255
Tone Curve PV2012 Green : 0, 0, 255, 255
Tone Curve PV2012 Blue : 0, 0, 255, 255
Look Name :
Image Width : 350
Image Height : 479
Bits Per Sample : 8
Color Components : 3
Aperture : 5.6
Image Size : 350x479
Megapixels : 0.168
Scale Factor To 35 mm Equivalent : 1.3
Shutter Speed : 1/80
Circle Of Confusion : 0.023 mm
Field Of View : 71.8 deg
Focal Length : 19.0 mm (35 mm equivalent: 24.9 mm)
Hyperfocal Distance : 2.81 m
Light Value : 10.3