Uber Exif Photo
Make : LEICA CAMERA AG
Camera Model Name : LEICA X2
Software : Adobe Photoshop Lightroom 6.14 (Macintosh)
Modify Date : 2018:12:01 20:04:16
Exposure Time : 1/800
F Number : 5.6
Exposure Program : Aperture-priority AE
ISO : 100
Date/Time Original : 2018:12:01 13:44:52
Create Date : 2018:12:01 13:44:52
Shutter Speed Value : 1/800
Aperture Value : 5.6
Exposure Compensation : -0.7
Max Aperture Value : 2.8
Metering Mode : Multi-segment
Light Source : Daylight
Flash : Off, Did not fire
Focal Length : 24.0 mm
Original File Name : L1391635.DNG
Original Directory : 139LEICA
Focus Distance : 5 m
Exposure Mode : Aperture-priority AE (1)
File Index : 1635
Film Mode : Standard
WB RGB Levels : 0.4539007092 1.001956947 0.6368159204
Internal Serial Number : 000000000000
Color Space : sRGB
Sensing Method : One-chip color area
Custom Rendered : Normal
White Balance : Manual
Digital Zoom Ratio : 1
Focal Length In 35mm Format : 36 mm
Scene Capture Type : Landscape
Contrast : Normal
Saturation : Normal
Sharpness : Normal
Serial Number : 000004335263
Lens Info : 24mm f/2.8
Lens Model : 24.0 mm f/2.8
Maker Note Safety : Safe
Profile Description : sRGB IEC61966-2.1
Creator Tool : Adobe Photoshop Lightroom 6.14 (Macintosh)
Lens : 24.0 mm f/2.8
Approximate Focus Distance : 5
Lateral Chromatic Aberration Correction Already Applied:
True
Date Created : 2018:12:01 13:44:52
Format : image/jpeg
Version : 10.1
Process Version : 6.7
Auto White Version : 134348800
Color Temperature : 7500
Tint : +30
Luminance Smoothing : 16
Color Noise Reduction : 25
Vignette Amount : 0
Shadow Tint : 0
Red Hue : 0
Red Saturation : 0
Green Hue : 0
Green Saturation : 0
Blue Hue : 0
Blue Saturation : 0
Gray Mixer Red : -6
Gray Mixer Orange : -14
Gray Mixer Yellow : -17
Gray Mixer Green : -23
Gray Mixer Aqua : -67
Gray Mixer Blue : -46
Gray Mixer Purple : +12
Gray Mixer Magenta : +4
Split Toning Shadow Hue : 0
Split Toning Shadow Saturation : 0
Split Toning Highlight Hue : 0
Split Toning Highlight Saturation : 0
Split Toning Balance : 0
Parametric Shadows : 0
Parametric Darks : 0
Parametric Lights : +50
Parametric Highlights : 0
Parametric Shadow Split : 25
Parametric Midtone Split : 50
Parametric Highlight Split : 75
Sharpen Radius : +1.5
Sharpen Detail : 25
Sharpen Edge Masking : 2
Post Crop Vignette Amount : 0
Grain Amount : 0
Luminance Noise Reduction Detail : 50
Color Noise Reduction Detail : 50
Luminance Noise Reduction Contrast : 0
Color Noise Reduction Smoothness : 50
Lens Profile Enable : 0
Lens Manual Distortion Amount : 0
Perspective Vertical : 0
Perspective Horizontal : 0
Perspective Rotate : 0.0
Perspective Scale : 100
Perspective Aspect : 0
Perspective Upright : Off
Perspective X : 0.00
Perspective Y : 0.00
Auto Lateral CA : 1
Exposure 2012 : -0.55
Contrast 2012 : +21
Highlights 2012 : -100
Shadows 2012 : +71
Whites 2012 : +14
Blacks 2012 : -21
Clarity 2012 : +14
Dehaze : 0
Tone Map Strength : 0
Convert To Grayscale : True
Tone Curve Name : Linear
Tone Curve Name 2012 : Linear
Camera Profile : Adobe Standard
Lens Profile Setup : LensDefaults
Has Settings : True
Crop Top : 0.27834
Crop Left : 0.327412
Crop Bottom : 0.857021
Crop Right : 0.99478
Crop Angle : -3.64828
Crop Constrain To Warp : 0
Has Crop : True
Already Applied : True
Tone Curve : 0, 0, 255, 255
Tone Curve Red : 0, 0, 255, 255
Tone Curve Green : 0, 0, 255, 255
Tone Curve Blue : 0, 0, 255, 255
Tone Curve PV2012 : 0, 0, 255, 255
Tone Curve PV2012 Red : 0, 0, 255, 255
Tone Curve PV2012 Green : 0, 0, 255, 255
Tone Curve PV2012 Blue : 0, 0, 255, 255
Image Width : 350
Image Height : 529
Bits Per Sample : 8
Color Components : 3
Aperture : 5.6
Blue Balance : 0.635572
Image Size : 350x529
Megapixels : 0.185
Red Balance : 0.453014
Scale Factor To 35 mm Equivalent : 1.5
Shutter Speed : 1/800
Circle Of Confusion : 0.020 mm
Depth Of Field : 159.00 m (2.54 - 161.54 m)
Field Of View : 52.9 deg (4.98 m)
Focal Length : 24.0 mm (35 mm equivalent: 36.0 mm)
Hyperfocal Distance : 5.13 m
Light Value : 14.6
Lens ID : 24.0mm f/2.8