Uber Exif Photo
Caption-Abstract : OLYMPUS DIGITAL CAMERA
By-line : Ruppel
Copyright Notice : Ruppel
Photometric Interpretation : RGB
Image Description : OLYMPUS DIGITAL CAMERA
Make : OLYMPUS CORPORATION
Camera Model Name : E-M1MarkII
Orientation : Horizontal (normal)
Samples Per Pixel : 3
Software : Adobe Photoshop CC (Windows)
Modify Date : 2018:09:02 22:07:46
Artist : Ruppel
Copyright : Ruppel
Exposure Time : 1/50
F Number : 2.8
Exposure Program : Aperture-priority AE
ISO : 250
Sensitivity Type : Standard Output Sensitivity
Date/Time Original : 2018:08:04 12:40:48
Create Date : 2018:08:04 12:40:48
Shutter Speed Value : 1/50
Aperture Value : 2.8
Exposure Compensation : 0
Max Aperture Value : 2.8
Metering Mode : Center-weighted average
Light Source : Unknown
Flash : On, Did not fire
Focal Length : 26.0 mm
Color Space : Uncalibrated
Exif Image Width : 5184
Exif Image Height : 3888
CFA Pattern : [Red,Green][Green,Blue]
Custom Rendered : Normal
Exposure Mode : Auto
White Balance : Auto
Digital Zoom Ratio : 1
Focal Length In 35mm Format : 52 mm
Scene Capture Type : Standard
Gain Control : Low gain up
Contrast : Normal
Saturation : Normal
Sharpness : Soft
Serial Number : BHUA33858
Lens Info : 12-40mm f/2.8
Lens Model : OLYMPUS M.12-40mm F2.8
Lens Serial Number : AC52987681
Profile Description : DELL U2312HM Color Profile,D65
Format : image/jpeg
Creator Tool : Adobe Photoshop Lightroom Classic 7.2 (Windows)
Lens : OLYMPUS M.12-40mm F2.8
Flash Compensation : 0
Distortion Correction Already Applied : True
Lateral Chromatic Aberration Correction Already Applied:
True
Date Created : 2018:08:04 12:40:48
Color Mode : RGB
ICC Profile Name : DELL U2312HM Color Profile,D65
Version : 10.2
Process Version : 6.7
Incremental Temperature : -8
Incremental Tint : -18
Luminance Smoothing : 0
Color Noise Reduction : 25
Vignette Amount : 0
Shadow Tint : 0
Red Hue : -26
Red Saturation : -13
Green Hue : +71
Green Saturation : +1
Blue Hue : +6
Blue Saturation : 0
Vibrance : 0
Hue Adjustment Red : +66
Hue Adjustment Orange : +7
Hue Adjustment Yellow : +17
Hue Adjustment Green : 0
Hue Adjustment Aqua : 0
Hue Adjustment Blue : 0
Hue Adjustment Purple : 0
Hue Adjustment Magenta : 0
Saturation Adjustment Red : 0
Saturation Adjustment Orange : 0
Saturation Adjustment Yellow : 0
Saturation Adjustment Green : 0
Saturation Adjustment Aqua : 0
Saturation Adjustment Blue : 0
Saturation Adjustment Purple : 0
Saturation Adjustment Magenta : 0
Luminance Adjustment Red : 0
Luminance Adjustment Orange : 0
Luminance Adjustment Yellow : 0
Luminance Adjustment Green : 0
Luminance Adjustment Aqua : 0
Luminance Adjustment Blue : 0
Luminance Adjustment Purple : 0
Luminance Adjustment Magenta : 0
Split Toning Shadow Hue : 0
Split Toning Shadow Saturation : 0
Split Toning Highlight Hue : 0
Split Toning Highlight Saturation : 0
Split Toning Balance : 0
Parametric Shadows : 0
Parametric Darks : 0
Parametric Lights : 0
Parametric Highlights : 0
Parametric Shadow Split : 25
Parametric Midtone Split : 50
Parametric Highlight Split : 75
Sharpen Radius : +1.0
Sharpen Detail : 25
Sharpen Edge Masking : 0
Post Crop Vignette Amount : 0
Grain Amount : 0
Color Noise Reduction Detail : 50
Color Noise Reduction Smoothness : 50
Lens Profile Enable : 0
Lens Manual Distortion Amount : 0
Perspective Vertical : 0
Perspective Horizontal : 0
Perspective Rotate : 0.0
Perspective Scale : 100
Perspective Aspect : 0
Perspective Upright : Off
Perspective X : 0.00
Perspective Y : 0.00
Auto Lateral CA : 0
Exposure 2012 : -0.45
Contrast 2012 : 0
Highlights 2012 : -7
Shadows 2012 : +29
Whites 2012 : +16
Blacks 2012 : +17
Clarity 2012 : 0
Defringe Purple Amount : 0
Defringe Purple Hue Lo : 30
Defringe Purple Hue Hi : 70
Defringe Green Amount : 0
Defringe Green Hue Lo : 40
Defringe Green Hue Hi : 60
Dehaze : 0
Convert To Grayscale : False
Tone Curve Name : Linear
Tone Curve Name 2012 : Custom
Camera Profile : Adobe Standard
Lens Profile Setup : LensDefaults
Has Settings : True
Has Crop : False
Already Applied : True
Creator : Ruppel
Rights : Ruppel
Description : OLYMPUS DIGITAL CAMERA
Tone Curve : 0, 0, 255, 255
Tone Curve Red : 0, 0, 255, 255
Tone Curve Green : 0, 0, 255, 255
Tone Curve Blue : 0, 0, 255, 255
Tone Curve PV2012 : 0, 0, 50, 47, 162, 163, 255, 255
Tone Curve PV2012 Red : 0, 0, 255, 255
Tone Curve PV2012 Green : 0, 0, 255, 255
Tone Curve PV2012 Blue : 0, 0, 255, 255
Image Width : 350
Image Height : 263
Bits Per Sample : 8
Color Components : 3
Aperture : 2.8
Image Size : 350x263
Megapixels : 0.092
Scale Factor To 35 mm Equivalent : 2.0
Shutter Speed : 1/50
Circle Of Confusion : 0.015 mm
Field Of View : 38.2 deg
Focal Length : 26.0 mm (35 mm equivalent: 52.0 mm)
Hyperfocal Distance : 16.07 m
Light Value : 7.3
Lens ID : OLYMPUS M.12-40mm F2.8