Uber Exif Photo
Make : Leica Camera AG
Camera Model Name : M Monochrom
Software : Adobe Photoshop Lightroom Classic 8.0 (Macintosh)
Modify Date : 2018:12:03 22:32:19
Exposure Time : 1/3000
F Number : 1.7
Exposure Program : Aperture-priority AE
ISO : 320
Date/Time Original : 2018:11:27 14:13:35
Create Date : 2018:11:27 14:13:35
Shutter Speed Value : 1/3000
Aperture Value : 1.7
Exposure Compensation : -0.332
Max Aperture Value : 1.4
Metering Mode : Center-weighted average
Light Source : Unknown
Flash : No Flash
Focal Length : 50.0 mm
Contrast : Normal
Sharpening : Normal
Saturation : Normal
White Balance : Auto
JPEG Quality : Fine
WB RGB Levels : 1 1 1
User Profile : Profile 1
JPEG Size : 5216x3472
Firmware Version : 1.022
Base ISO : 320
Sensor Width : 5270
Sensor Height : 3516
Sensor Bit Depth : 14
Camera Temperature : 18 C
Lens Type : Summilux-M 50mm f/1.4 (II)
Approximate F Number : 1.5
Measured LV : 6.07
External Sensor Brightness Value : 3.80
Color Space : Uncalibrated
Scene Type : Directly photographed
Exposure Mode : Manual
Digital Zoom Ratio : 0
Focal Length In 35mm Format : 50 mm
Scene Capture Type : Standard
Serial Number : 4343944
Lens Model : Leica Summilux-M 50mm f/1.4 (II)
Maker Note Safety : Safe
Profile Description : Adobe RGB (1998)
Creator Tool : Adobe Photoshop Lightroom Classic 8.0 (Macintosh)
Lens : Leica Summilux-M 50mm f/1.4 (II)
Date Created : 2018:11:27 14:13:35
Format : image/jpeg
Raw File Name :
Version : 11.0
Process Version : 11.0
Sharpness : 48
Luminance Smoothing : 0
Vignette Amount : 0
Split Toning Shadow Hue : 0
Split Toning Shadow Saturation : 0
Split Toning Highlight Hue : 0
Split Toning Highlight Saturation : 0
Split Toning Balance : 0
Parametric Shadows : +25
Parametric Darks : +1
Parametric Lights : 0
Parametric Highlights : -28
Parametric Shadow Split : 25
Parametric Midtone Split : 50
Parametric Highlight Split : 75
Sharpen Radius : +1.0
Sharpen Detail : 25
Sharpen Edge Masking : 0
Post Crop Vignette Amount : -40
Post Crop Vignette Midpoint : 74
Post Crop Vignette Feather : 50
Post Crop Vignette Roundness : +3
Post Crop Vignette Style : Highlight Priority
Post Crop Vignette Highlight Contrast : 0
Grain Amount : 0
Lens Profile Enable : 0
Lens Manual Distortion Amount : 0
Perspective Vertical : 0
Perspective Horizontal : 0
Perspective Rotate : 0.0
Perspective Scale : 100
Perspective Aspect : 0
Perspective Upright : Off
Perspective X : 0.00
Perspective Y : 0.00
Exposure 2012 : +0.20
Contrast 2012 : +16
Highlights 2012 : 0
Shadows 2012 : +5
Whites 2012 : 0
Blacks 2012 : 0
Clarity 2012 : +5
Dehaze : +8
Tone Map Strength : 0
Convert To Grayscale : False
Override Look Vignette : False
Tone Curve Name : Linear
Tone Curve Name 2012 : Linear
Lens Profile Setup : LensDefaults
Has Settings : True
Has Crop : False
Already Applied : True
Tone Curve : 0, 0, 255, 255
Tone Curve Red : 0, 0, 255, 255
Tone Curve Green : 0, 0, 255, 255
Tone Curve Blue : 0, 0, 255, 255
Tone Curve PV2012 : 0, 0, 255, 255
Tone Curve PV2012 Red : 0, 0, 255, 255
Tone Curve PV2012 Green : 0, 0, 255, 255
Tone Curve PV2012 Blue : 0, 0, 255, 255
Circ Grad Based Corr Range Mask Version : +2, +2
Circ Grad Based Corr Range Mask Type : 0, 0
Circ Grad Based Corr Range Mask Color Amount : 0.500000, 0.500000
Circ Grad Based Corr Range Mask Lum Min : 0.000000, 0.000000
Circ Grad Based Corr Range Mask Lum Max : 1.000000, 1.000000
Circ Grad Based Corr Range Mask Lum Feather : 0.500000, 0.500000
Circ Grad Based Corr Range Mask Depth Min : 0.000000, 0.000000
Circ Grad Based Corr Range Mask Depth Max : 1.000000, 1.000000
Circ Grad Based Corr Range Mask Depth Feather : 0.500000, 0.500000
Circ Grad Based Corr What : Correction
Circ Grad Based Corr Amount : 1.000000
Circ Grad Based Corr Active : true
Circ Grad Based Corr Saturation : -0.202171
Circ Grad Based Corr Sharpness : 0.000000
Circ Grad Based Corr Brightness : 0.000000
Circ Grad Based Corr Toning Hue : 240.000000
Circ Grad Based Corr Toning Saturation : 0.000000
Circ Grad Based Corr Exposure 2012 : 0.217781
Circ Grad Based Corr Contrast 2012 : 0.136810
Circ Grad Based Corr Highlights 2012 : 0.003149
Circ Grad Based Corr Shadows 2012 : -0.554688
Circ Grad Based Corr Whites 2012 : 0.017951
Circ Grad Based Corr Blacks 2012 : -0.052931
Circ Grad Based Corr Clarity 2012 : 0.369573
Circ Grad Based Corr Dehaze : 0.000000
Circ Grad Based Corr Luminance Noise : 0.000000
Circ Grad Based Corr Moire : 0.000000
Circ Grad Based Corr Defringe : 0.000000
Circ Grad Based Corr Temperature : 0.000000
Circ Grad Based Corr Tint : 0.000000
Circ Grad Based Corr Mask What : Mask/CircularGradient
Circ Grad Based Corr Mask Value : 1.000000
Circ Grad Based Corr Mask Top : -0.009490
Circ Grad Based Corr Mask Left : 0.036615
Circ Grad Based Corr Mask Bottom : 0.933010
Circ Grad Based Corr Mask Right : 0.957982
Circ Grad Based Corr Mask Angle : 0.000000
Circ Grad Based Corr Mask Midpoint : +50
Circ Grad Based Corr Mask Roundness : 0
Circ Grad Based Corr Mask Feather : +63
Circ Grad Based Corr Mask Flipped : true
Circ Grad Based Corr Mask Version : +2
Look Name :
Image Width : 350
Image Height : 233
Bits Per Sample : 8
Color Components : 3
Aperture : 1.7
Blue Balance : 1
Image Size : 350x233
Lens ID : Leica Summilux-M 50mm f/1.4 (II)
Megapixels : 0.082
Red Balance : 1
Scale Factor To 35 mm Equivalent : 1.0
Shutter Speed : 1/3000
Circle Of Confusion : 0.030 mm
Field Of View : 39.6 deg
Focal Length : 50.0 mm (35 mm equivalent: 50.0 mm)
Hyperfocal Distance : 48.94 m
Light Value : 11.4