Uber Exif Photo
Make : Leica Camera AG
Camera Model Name : M9 Digital Camera
Orientation : Horizontal (normal)
Software : Adobe Photoshop Lightroom 6.0 (Macintosh)
Modify Date : 2018:01:03 18:38:54
Exposure Time : 1/30
F Number : 4.8
Exposure Program : Aperture-priority AE
ISO : 400
Date/Time Original : 2018:01:03 15:11:36
Create Date : 2018:01:03 15:11:36
Shutter Speed Value : 1/30
Aperture Value : 4.8
Exposure Compensation : 0
Max Aperture Value : 1.0
Metering Mode : Center-weighted average
Light Source : Unknown
Flash : No Flash
Contrast : Normal
Sharpening : Normal
Saturation : Normal
White Balance : Auto
JPEG Quality : Fine
WB RGB Levels : 0.4614301405 1 0.8335368335
User Profile : SWhoKontr
JPEG Size : 5216x3472
Firmware Version : 1.196
Base ISO : 160
Sensor Width : 5270
Sensor Height : 3516
Sensor Bit Depth : 14
Camera Temperature : 10 C
Lens Type : Uncoded lens
Approximate F Number : 4.5
Measured LV : 2.03
External Sensor Brightness Value : 1.67
Scene Type : Directly photographed
Exposure Mode : Manual
Digital Zoom Ratio : 0
Scene Capture Type : Standard
Serial Number : 4229560
Maker Note Safety : Safe
Profile Description : sRGB IEC61966-2.1
Creator Tool : Adobe Photoshop Lightroom 6.0 (Macintosh)
Label : Yellow
Date Created : 2018:01:03 15:11:36
Format : image/jpeg
Version : 9.0
Process Version : 6.7
Auto White Version : 134348800
Color Temperature : 5150
Tint : -13
Sharpness : 60
Luminance Smoothing : 0
Color Noise Reduction : 25
Vignette Amount : 0
Shadow Tint : 0
Red Hue : 0
Red Saturation : +20
Green Hue : 0
Green Saturation : +5
Blue Hue : 0
Blue Saturation : -40
Gray Mixer Red : 0
Gray Mixer Orange : -12
Gray Mixer Yellow : -8
Gray Mixer Green : -20
Gray Mixer Aqua : -15
Gray Mixer Blue : +10
Gray Mixer Purple : +25
Gray Mixer Magenta : +15
Split Toning Shadow Hue : 0
Split Toning Shadow Saturation : 0
Split Toning Highlight Hue : 0
Split Toning Highlight Saturation : 0
Split Toning Balance : 0
Parametric Shadows : 0
Parametric Darks : 0
Parametric Lights : 0
Parametric Highlights : 0
Parametric Shadow Split : 25
Parametric Midtone Split : 50
Parametric Highlight Split : 75
Sharpen Radius : +1.4
Sharpen Detail : 81
Sharpen Edge Masking : 52
Post Crop Vignette Amount : 0
Grain Amount : 0
Color Noise Reduction Detail : 50
Color Noise Reduction Smoothness : 50
Lens Profile Enable : 0
Lens Manual Distortion Amount : 0
Perspective Vertical : 0
Perspective Horizontal : 0
Perspective Rotate : 0.0
Perspective Scale : 100
Perspective Aspect : 0
Perspective Upright : Off
Auto Lateral CA : 0
Exposure 2012 : 0.00
Contrast 2012 : 0
Highlights 2012 : -20
Shadows 2012 : +60
Whites 2012 : +16
Blacks 2012 : -14
Clarity 2012 : 0
Convert To Grayscale : True
Tone Curve Name : Linear
Tone Curve Name 2012 : TRI-X+3
Camera Profile : TRI-X⁺¹ - L
Lens Profile Setup : LensDefaults
Has Settings : True
Crop Top : 0
Crop Left : 0.127151
Crop Bottom : 1
Crop Right : 1
Crop Angle : 0
Crop Constrain To Warp : 0
Has Crop : True
Already Applied : True
Raw File Name : Michel_Judith_Kyra_Iza_KLEIN_JAN 2018_VincentPhotography (50 of 54).jpg
Tone Curve : 0, 0, 255, 255
Tone Curve Red : 0, 0, 255, 255
Tone Curve Green : 0, 0, 255, 255
Tone Curve Blue : 0, 0, 255, 255
Tone Curve PV2012 : 0, 9, 39, 26, 105, 97, 168, 179, 255, 255
Tone Curve PV2012 Red : 0, 0, 255, 255
Tone Curve PV2012 Green : 0, 0, 255, 255
Tone Curve PV2012 Blue : 0, 0, 255, 255
Image Width : 350
Image Height : 267
Bits Per Sample : 8
Color Components : 3
Aperture : 4.8
Blue Balance : 0.833537
Image Size : 350x267
Lens ID : Uncoded lens
Megapixels : 0.093
Red Balance : 0.46143
Scale Factor To 35 mm Equivalent : 14.3
Shutter Speed : 1/30
Circle Of Confusion : 0.002 mm
Light Value : 7.4