Uber Exif Photo
Make : Leica Camera AG
Camera Model Name : M9 Digital Camera
Orientation : Horizontal (normal)
Software : Adobe Photoshop Lightroom 6.0 (Macintosh)
Modify Date : 2018:01:03 18:38:22
Exposure Time : 1/750
F Number : 2.4
Exposure Program : Aperture-priority AE
ISO : 400
Date/Time Original : 2018:01:03 14:58:09
Create Date : 2018:01:03 14:58:09
Shutter Speed Value : 1/750
Aperture Value : 2.4
Exposure Compensation : 0
Max Aperture Value : 1.4
Metering Mode : Center-weighted average
Light Source : Unknown
Flash : No Flash
Focal Length : 50.0 mm
Contrast : Normal
Sharpening : Normal
Saturation : Normal
White Balance : Auto
JPEG Quality : Fine
WB RGB Levels : 0.4316463366 1 0.8754942824
User Profile : SWhoKontr
JPEG Size : 5216x3472
Firmware Version : 1.196
Base ISO : 160
Sensor Width : 5270
Sensor Height : 3516
Sensor Bit Depth : 14
Camera Temperature : 11 C
Lens Type : Summilux-M 50mm f/1.4 ASPH.
Approximate F Number : 2.5
Measured LV : 5.05
External Sensor Brightness Value : 3.27
Scene Type : Directly photographed
Exposure Mode : Manual
Digital Zoom Ratio : 0
Focal Length In 35mm Format : 50 mm
Scene Capture Type : Standard
Serial Number : 4229560
Lens Model : Leica Summilux-M 50mm f/1.4 ASPH.
Maker Note Safety : Safe
Profile Description : sRGB IEC61966-2.1
Creator Tool : Adobe Photoshop Lightroom 6.0 (Macintosh)
Label : Red
Lens : Leica Summilux-M 50mm f/1.4 ASPH.
Date Created : 2018:01:03 14:58:09
Format : image/jpeg
Version : 9.0
Process Version : 6.7
Auto White Version : 134348800
Color Temperature : 5900
Tint : -6
Sharpness : 60
Luminance Smoothing : 0
Color Noise Reduction : 25
Vignette Amount : 0
Shadow Tint : 0
Red Hue : +18
Red Saturation : +30
Green Hue : +20
Green Saturation : -50
Blue Hue : 0
Blue Saturation : -5
Vibrance : 0
Hue Adjustment Red : +8
Hue Adjustment Orange : +5
Hue Adjustment Yellow : 0
Hue Adjustment Green : +15
Hue Adjustment Aqua : 0
Hue Adjustment Blue : +15
Hue Adjustment Purple : 0
Hue Adjustment Magenta : 0
Saturation Adjustment Red : -15
Saturation Adjustment Orange : 0
Saturation Adjustment Yellow : 0
Saturation Adjustment Green : 0
Saturation Adjustment Aqua : 0
Saturation Adjustment Blue : 0
Saturation Adjustment Purple : -10
Saturation Adjustment Magenta : -10
Luminance Adjustment Red : -20
Luminance Adjustment Orange : -10
Luminance Adjustment Yellow : 0
Luminance Adjustment Green : -5
Luminance Adjustment Aqua : -5
Luminance Adjustment Blue : -15
Luminance Adjustment Purple : -5
Luminance Adjustment Magenta : 0
Split Toning Shadow Hue : 0
Split Toning Shadow Saturation : 0
Split Toning Highlight Hue : 0
Split Toning Highlight Saturation : 0
Split Toning Balance : 0
Parametric Shadows : 0
Parametric Darks : 0
Parametric Lights : 0
Parametric Highlights : 0
Parametric Shadow Split : 18
Parametric Midtone Split : 36
Parametric Highlight Split : 61
Sharpen Radius : +1.4
Sharpen Detail : 81
Sharpen Edge Masking : 52
Post Crop Vignette Amount : 0
Grain Amount : 0
Color Noise Reduction Detail : 50
Color Noise Reduction Smoothness : 50
Lens Profile Enable : 0
Lens Manual Distortion Amount : 0
Perspective Vertical : 0
Perspective Horizontal : 0
Perspective Rotate : 0.0
Perspective Scale : 100
Perspective Aspect : 0
Perspective Upright : Off
Auto Lateral CA : 0
Exposure 2012 : +0.25
Contrast 2012 : 0
Highlights 2012 : -42
Shadows 2012 : +73
Whites 2012 : -35
Blacks 2012 : +40
Clarity 2012 : 0
Defringe Purple Amount : 0
Defringe Purple Hue Lo : 30
Defringe Purple Hue Hi : 70
Defringe Green Amount : 0
Defringe Green Hue Lo : 40
Defringe Green Hue Hi : 60
Convert To Grayscale : False
Tone Curve Name : Linear
Tone Curve Name 2012 : Custom
Camera Profile : Elite II 50 - L
Lens Profile Setup : LensDefaults
Has Settings : True
Crop Top : 0
Crop Left : 0
Crop Bottom : 1
Crop Right : 0.923216
Crop Angle : 0
Crop Constrain To Warp : 0
Has Crop : True
Already Applied : True
Raw File Name : Michel_Judith_Kyra_Iza_KLEIN_JAN 2018_VincentPhotography (33 of 54).jpg
Tone Curve : 0, 0, 255, 255
Tone Curve Red : 0, 0, 255, 255
Tone Curve Green : 0, 0, 255, 255
Tone Curve Blue : 0, 0, 255, 255
Tone Curve PV2012 : 0, 0, 255, 255
Tone Curve PV2012 Red : 0, 0, 20, 6, 63, 43, 119, 131, 198, 210, 255, 255
Tone Curve PV2012 Green : 0, 0, 62, 45, 119, 131, 197, 213, 255, 255
Tone Curve PV2012 Blue : 0, 0, 59, 45, 119, 131, 198, 210, 255, 245
Image Width : 350
Image Height : 252
Bits Per Sample : 8
Color Components : 3
Aperture : 2.4
Blue Balance : 0.875494
Image Size : 350x252
Lens ID : Leica Summilux-M 50mm f/1.4 ASPH.
Megapixels : 0.088
Red Balance : 0.431646
Scale Factor To 35 mm Equivalent : 1.0
Shutter Speed : 1/750
Circle Of Confusion : 0.030 mm
Field Of View : 39.6 deg
Focal Length : 50.0 mm (35 mm equivalent: 50.0 mm)
Hyperfocal Distance : 34.67 m
Light Value : 10.1