Uber Exif Photo
By-line : Johannes Andreas Hillerbrand
Copyright Notice : © 2017, Johannes Hillerbrand All Rights Reserved
Copyright Flag : True
Make : Leica Camera AG
Camera Model Name : LEICA M10
Software : Adobe Photoshop Lightroom Classic 7.0 (Macintosh)
Modify Date : 2017:11:20 11:37:49
Artist : Johannes Andreas Hillerbrand
Copyright : © 2017, Johannes Hillerbrand All Rights Reserved
Exposure Time : 1/125
Exposure Program : Manual
ISO : 5000
Date/Time Original : 2017:10:30 15:39:08
Create Date : 2017:10:30 15:39:08
Shutter Speed Value : 1/125
Exposure Compensation : -1.6
Max Aperture Value : 1.0
Metering Mode : Multi-spot
Light Source : Unknown
Flash : No Flash
Color Space : sRGB
Scene Type : Directly photographed
Custom Rendered : Normal
Exposure Mode : Manual
White Balance : Auto
Digital Zoom Ratio : 0
Scene Capture Type : Standard
Contrast : Normal
Saturation : Normal
Sharpness : Normal
Serial Number : 5189879
Lens Make : Leica Camera AG
Profile Description : sRGB IEC61966-2.1
Rating : 4
Creator Tool : Adobe Photoshop Lightroom Classic 7.0 (Macintosh)
Label : Grün
Format : image/jpeg
Approximate Focus Distance : 30.7
Date Created : 2017:10:30 15:39:08
Marked : True
Version : 10.0
Process Version : 10.0
Color Temperature : 6286
Tint : +30
Luminance Smoothing : 0
Color Noise Reduction : 14
Vignette Amount : 0
Shadow Tint : 0
Red Hue : +10
Red Saturation : -5
Green Hue : 0
Green Saturation : 0
Blue Hue : -15
Blue Saturation : 0
Vibrance : 0
Hue Adjustment Red : -2
Hue Adjustment Orange : -10
Hue Adjustment Yellow : -10
Hue Adjustment Green : +39
Hue Adjustment Aqua : +1
Hue Adjustment Blue : +6
Hue Adjustment Purple : +2
Hue Adjustment Magenta : +31
Saturation Adjustment Red : -15
Saturation Adjustment Orange : -15
Saturation Adjustment Yellow : 0
Saturation Adjustment Green : -20
Saturation Adjustment Aqua : -23
Saturation Adjustment Blue : -3
Saturation Adjustment Purple : -2
Saturation Adjustment Magenta : -2
Luminance Adjustment Red : +29
Luminance Adjustment Orange : -10
Luminance Adjustment Yellow : -35
Luminance Adjustment Green : -13
Luminance Adjustment Aqua : -5
Luminance Adjustment Blue : -4
Luminance Adjustment Purple : +16
Luminance Adjustment Magenta : +61
Split Toning Shadow Hue : 183
Split Toning Shadow Saturation : 9
Split Toning Highlight Hue : 31
Split Toning Highlight Saturation : 6
Split Toning Balance : 0
Parametric Shadows : 0
Parametric Darks : 0
Parametric Lights : 0
Parametric Highlights : 0
Parametric Shadow Split : 14
Parametric Midtone Split : 60
Parametric Highlight Split : 75
Sharpen Radius : +0.8
Sharpen Detail : 35
Sharpen Edge Masking : 0
Post Crop Vignette Amount : -30
Post Crop Vignette Midpoint : 50
Post Crop Vignette Feather : 50
Post Crop Vignette Roundness : 0
Post Crop Vignette Style : Highlight Priority
Post Crop Vignette Highlight Contrast : 0
Grain Amount : 7
Grain Size : 33
Grain Frequency : 21
Color Noise Reduction Detail : 50
Color Noise Reduction Smoothness : 50
Lens Profile Enable : 0
Lens Manual Distortion Amount : 0
Perspective Vertical : 0
Perspective Horizontal : 0
Perspective Rotate : 0.0
Perspective Scale : 100
Perspective Aspect : 0
Perspective Upright : Off
Perspective X : 0.00
Perspective Y : 0.00
Auto Lateral CA : 0
Exposure 2012 : +0.85
Contrast 2012 : +22
Highlights 2012 : -54
Shadows 2012 : +4
Whites 2012 : -24
Blacks 2012 : -64
Clarity 2012 : +29
Defringe Purple Amount : 0
Defringe Purple Hue Lo : 30
Defringe Purple Hue Hi : 70
Defringe Green Amount : 0
Defringe Green Hue Lo : 40
Defringe Green Hue Hi : 60
Dehaze : 0
Convert To Grayscale : False
Tone Curve Name : Linear
Tone Curve Name 2012 : Custom
Camera Profile : Adobe Standard
Lens Profile Setup : LensDefaults
Has Settings : True
Has Crop : False
Already Applied : True
Creator : Johannes Andreas Hillerbrand
Rights : © 2017, Johannes Hillerbrand All Rights Reserved
Usage Terms : All rights reserved, no reproduction without prior permission
Creator Postal Code : 93059
Creator Work Telephone : +491752446954
Creator Region : Bayern
Creator Country : Deutschland
Creator City : Regensburg
Creator Address : Stadtamhof 2
Creator Work Email : johannes.hillerbrand@gmail.com
Tone Curve : 0, 0, 255, 255
Tone Curve Red : 0, 0, 255, 255
Tone Curve Green : 0, 0, 255, 255
Tone Curve Blue : 0, 0, 255, 255
Tone Curve PV2012 : 7, 45, 46, 68, 92, 95, 126, 132, 181, 188, 255, 255
Tone Curve PV2012 Red : 0, 0, 40, 22, 87, 73, 119, 118, 171, 183, 232, 234, 255, 246
Tone Curve PV2012 Green : 0, 3, 45, 32, 119, 123, 212, 229, 255, 255
Tone Curve PV2012 Blue : 0, 0, 40, 29, 116, 117, 217, 226, 255, 242
Paint Correction What : Correction
Paint Correction Amount : 1.000000
Paint Correction Active : true
Paint Correction Saturation : 0.000000
Paint Correction Sharpness : 0.208545
Paint Correction Brightness : 0.000000
Paint Correction Toning Hue : 0.000000
Paint Correction Toning Saturation : 0.000000
Paint Correction Exposure 2012 : 0.020984
Paint Correction Contrast 2012 : 0.000000
Paint Correction Highlights 2012 : 0.000000
Paint Correction Shadows 2012 : 0.000000
Paint Correction Whites 2012 : 0.000000
Paint Correction Blacks 2012 : 0.000000
Paint Correction Clarity 2012 : 0.105908
Paint Correction Dehaze : 0.000000
Paint Correction Luminance Noise : 0.000000
Paint Correction Moire : 0.000000
Paint Correction Defringe : 0.000000
Paint Correction Temperature : 0.000000
Paint Correction Tint : 0.000000
Paint Correction Mask What : Mask/Paint
Paint Correction Mask Value : 0.786954
Paint Correction Mask Radius : 0.077386
Paint Correction Mask Flow : 0.796752
Paint Correction Mask Center Weight : 0.041812
Paint Correction Range Mask Type : 0
Paint Correction Range Mask Color Amount : 0.500000
Paint Correction Range Mask Lum Min : 0.000000
Paint Correction Range Mask Lum Max : 1.000000
Paint Correction Range Mask Lum Feather : 0.500000
Image Width : 350
Image Height : 233
Bits Per Sample : 8
Color Components : 3
Image Size : 350x233
Megapixels : 0.082
Scale Factor To 35 mm Equivalent : 17.0
Shutter Speed : 1/125
Circle Of Confusion : 0.002 mm