Uber Exif Photo
Keywords : A7R 35 Summilux
Make : SONY
Camera Model Name : ILCE-7R
Software : Adobe Photoshop Lightroom Classic 8.1 (Macintosh)
Modify Date : 2019:01:05 17:08:00
Exposure Time : 1/25
Exposure Program : Aperture-priority AE
ISO : 1000
Date/Time Original : 2019:01:03 08:58:37
Create Date : 2019:01:03 08:58:37
Shutter Speed Value : 1/25
Brightness Value : -3.36171875
Exposure Compensation : 0
Max Aperture Value : 1.0
Metering Mode : Spot
Light Source : Unknown
Flash : Off, Did not fire
Color Space : Uncalibrated
Scene Type : Directly photographed
Exposure Mode : Auto
White Balance : Auto
Digital Zoom Ratio : 1
Scene Capture Type : Standard
Contrast : Normal
Saturation : Normal
Sharpness : Normal
Lens Model : ----
Profile Description : Adobe RGB (1998)
Lens : ----
Already Applied : True
Auto Lateral CA : 0
Blacks 2012 : -100
Blue Hue : 0
Blue Saturation : 0
Camera Profile : Adobe Standard
Clarity 2012 : 0
Color Noise Reduction : 25
Color Noise Reduction Detail : 50
Color Noise Reduction Smoothness : 50
Contrast 2012 : 0
Convert To Grayscale : False
Crop Angle : 0
Crop Bottom : 0.945028
Crop Constrain To Warp : 0
Crop Left : 0
Crop Right : 1
Crop Top : 0.023682
Defringe Green Amount : 0
Defringe Green Hue Hi : 60
Defringe Green Hue Lo : 40
Defringe Purple Amount : 0
Defringe Purple Hue Hi : 70
Defringe Purple Hue Lo : 30
Dehaze : 0
Exposure 2012 : 0.00
Grain Amount : 0
Green Hue : 0
Green Saturation : 0
Has Crop : True
Has Settings : True
Highlights 2012 : +78
Hue Adjustment Aqua : 0
Hue Adjustment Blue : 0
Hue Adjustment Green : 0
Hue Adjustment Magenta : 0
Hue Adjustment Orange : 0
Hue Adjustment Purple : 0
Hue Adjustment Red : 0
Hue Adjustment Yellow : 0
Lens Manual Distortion Amount : 0
Lens Profile Enable : 0
Lens Profile Setup : LensDefaults
Luminance Adjustment Aqua : 0
Luminance Adjustment Blue : -9
Luminance Adjustment Green : 0
Luminance Adjustment Magenta : 0
Luminance Adjustment Orange : 0
Luminance Adjustment Purple : 0
Luminance Adjustment Red : 0
Luminance Adjustment Yellow : +14
Luminance Smoothing : 0
Override Look Vignette : False
Parametric Darks : -36
Parametric Highlight Split : 75
Parametric Highlights : 0
Parametric Lights : -12
Parametric Midtone Split : 50
Parametric Shadow Split : 25
Parametric Shadows : -17
Perspective Aspect : 0
Perspective Horizontal : 0
Perspective Rotate : 0.0
Perspective Scale : 100
Perspective Upright : Off
Perspective Vertical : 0
Perspective X : 0.00
Perspective Y : 0.00
Post Crop Vignette Amount : 0
Process Version : 11.0
Raw File Name : _DSC6110.ARW
Red Hue : 0
Red Saturation : 0
Saturation Adjustment Aqua : 0
Saturation Adjustment Blue : 0
Saturation Adjustment Green : 0
Saturation Adjustment Magenta : 0
Saturation Adjustment Orange : 0
Saturation Adjustment Purple : 0
Saturation Adjustment Red : 0
Saturation Adjustment Yellow : -17
Shadow Tint : 0
Shadows 2012 : -20
Sharpen Detail : 25
Sharpen Edge Masking : 0
Sharpen Radius : +1.0
Split Toning Balance : 0
Split Toning Highlight Hue : 0
Split Toning Highlight Saturation : 0
Split Toning Shadow Hue : 0
Split Toning Shadow Saturation : 0
Color Temperature : 4000
Tint : +19
Tone Curve Name : Linear
Tone Curve Name 2012 : Linear
Tone Map Strength : 0
Version : 11.1
Vibrance : 0
Vignette Amount : 0
Whites 2012 : +53
Format : image/jpeg
Creator Tool : Adobe Photoshop Lightroom Classic 8.1 (Macintosh)
Date Created : 2019:01:03 08:58:37
Photographic Sensitivity : 1000
Look Amount : 1.000000
Look Group : Profiles
Look Name : Adobe Color
Look Supports Amount : false
Look Supports Monochrome : false
Look Supports Output Referred : false
Look Parameters Tone Curve PV2012 : 0, 0, 22, 16, 40, 35, 127, 127, 224, 230, 240, 246, 255, 255
Look Parameters Tone Curve PV2012 Blue : 0, 0, 255, 255
Look Parameters Tone Curve PV2012 Green : 0, 0, 255, 255
Look Parameters Tone Curve PV2012 Red : 0, 0, 255, 255
Tone Curve : 0, 0, 255, 255
Tone Curve Blue : 0, 0, 255, 255
Tone Curve Green : 0, 0, 255, 255
Tone Curve PV2012 : 0, 0, 255, 255
Tone Curve PV2012 Blue : 0, 0, 255, 255
Tone Curve PV2012 Green : 0, 0, 255, 255
Tone Curve PV2012 Red : 0, 0, 255, 255
Tone Curve Red : 0, 0, 255, 255
Subject : A7R 35 Summilux
Image Width : 350
Image Height : 215
Bits Per Sample : 8
Color Components : 3
Image Size : 350x215
Megapixels : 0.075
Scale Factor To 35 mm Equivalent : 22.1
Shutter Speed : 1/25
Circle Of Confusion : 0.001 mm