Uber Exif Photo
Keywords : A7R 35 Summilux
Make : SONY
Camera Model Name : ILCE-7R
Software : Adobe Photoshop Lightroom Classic 8.1 (Macintosh)
Modify Date : 2019:01:05 17:25:10
Exposure Time : 1/250
Exposure Program : Aperture-priority AE
ISO : 100
Date/Time Original : 2018:12:30 15:43:15
Create Date : 2018:12:30 15:43:15
Shutter Speed Value : 1/250
Brightness Value : 0.33359375
Exposure Compensation : +0.3
Max Aperture Value : 1.0
Metering Mode : Spot
Light Source : Unknown
Flash : Off, Did not fire
Color Space : Uncalibrated
Scene Type : Directly photographed
Exposure Mode : Auto
White Balance : Auto
Digital Zoom Ratio : 1
Scene Capture Type : Standard
Contrast : Normal
Saturation : Normal
Sharpness : Normal
Lens Model : ----
Profile Description : Adobe RGB (1998)
Lens : ----
Already Applied : True
Auto Lateral CA : 0
Blacks 2012 : +19
Blue Hue : 0
Blue Saturation : 0
Camera Profile : Adobe Standard
Clarity 2012 : -12
Color Noise Reduction : 25
Color Noise Reduction Detail : 50
Color Noise Reduction Smoothness : 50
Contrast 2012 : -14
Convert To Grayscale : True
Dehaze : +36
Exposure 2012 : 0.00
Grain Amount : 0
Gray Mixer Aqua : 0
Gray Mixer Blue : 0
Gray Mixer Green : 0
Gray Mixer Magenta : 0
Gray Mixer Orange : 0
Gray Mixer Purple : 0
Gray Mixer Red : 0
Gray Mixer Yellow : 0
Green Hue : 0
Green Saturation : 0
Has Crop : False
Has Settings : True
Highlights 2012 : +62
Lens Manual Distortion Amount : 0
Lens Profile Enable : 0
Lens Profile Setup : LensDefaults
Luminance Smoothing : 0
Override Look Vignette : False
Parametric Darks : +19
Parametric Highlight Split : 75
Parametric Highlights : 0
Parametric Lights : 0
Parametric Midtone Split : 50
Parametric Shadow Split : 25
Parametric Shadows : +36
Perspective Aspect : 0
Perspective Horizontal : 0
Perspective Rotate : 0.0
Perspective Scale : 100
Perspective Upright : Off
Perspective Vertical : 0
Perspective X : 0.00
Perspective Y : 0.00
Post Crop Vignette Amount : 0
Process Version : 11.0
Raw File Name : _DSC6090.ARW
Red Hue : 0
Red Saturation : 0
Shadow Tint : 0
Shadows 2012 : -38
Sharpen Detail : 25
Sharpen Edge Masking : 0
Sharpen Radius : +1.0
Split Toning Balance : 0
Split Toning Highlight Hue : 0
Split Toning Highlight Saturation : 0
Split Toning Shadow Hue : 0
Split Toning Shadow Saturation : 0
Color Temperature : 5450
Tint : +3
Tone Curve Name : Linear
Tone Curve Name 2012 : Linear
Tone Map Strength : 0
Version : 11.1
Vignette Amount : 0
Whites 2012 : +38
Format : image/jpeg
Creator Tool : Adobe Photoshop Lightroom Classic 8.1 (Macintosh)
Photographic Sensitivity : 100
Date Created : 2018:12:30 15:43:15
Look Amount : 1.000000
Look Group : Profiles
Look Name : Adobe Monochrome
Look Supports Amount : false
Look Supports Monochrome : false
Look Supports Output Referred : false
Look Parameters Tone Curve PV2012 : 0, 0, 64, 56, 128, 128, 192, 197, 255, 255
Look Parameters Tone Curve PV2012 Blue : 0, 0, 255, 255
Look Parameters Tone Curve PV2012 Green : 0, 0, 255, 255
Look Parameters Tone Curve PV2012 Red : 0, 0, 255, 255
Tone Curve : 0, 0, 255, 255
Tone Curve Blue : 0, 0, 255, 255
Tone Curve Green : 0, 0, 255, 255
Tone Curve PV2012 : 0, 0, 255, 255
Tone Curve PV2012 Blue : 0, 0, 255, 255
Tone Curve PV2012 Green : 0, 0, 255, 255
Tone Curve PV2012 Red : 0, 0, 255, 255
Tone Curve Red : 0, 0, 255, 255
Subject : A7R 35 Summilux
Image Width : 350
Image Height : 234
Bits Per Sample : 8
Color Components : 3
Image Size : 350x234
Megapixels : 0.082
Scale Factor To 35 mm Equivalent : 21.6
Shutter Speed : 1/250
Circle Of Confusion : 0.001 mm