Uber Exif Photo
Make : Canon
Camera Model Name : Canon EOS 50D
Orientation : Horizontal (normal)
Software : Adobe Photoshop CS6 (Windows)
Modify Date : 2019:01:26 10:58:51
Exposure Time : 1/125
F Number : 5.6
Exposure Program : Aperture-priority AE
ISO : 400
Date/Time Original : 2019:01:25 15:09:32
Create Date : 2019:01:25 15:09:32
Shutter Speed Value : 1/125
Aperture Value : 5.6
Exposure Compensation : 0
Max Aperture Value : 4.0
Metering Mode : Multi-segment
Flash : Off, Did not fire
Focal Length : 42.0 mm
Color Space : Uncalibrated
Exif Image Width : 4787
Exif Image Height : 3203
Custom Rendered : Normal
Exposure Mode : Auto
White Balance : Auto
Scene Capture Type : Standard
Serial Number : 1230515510
Lens Info : 24-70mm f/?
Lens Model : EF24-70mm f/4L IS USM
Profile Description : Adobe RGB (1998)
Lens : EF24-70mm f/4L IS USM
Image Number : 0
Approximate Focus Distance : 1.93
Flash Compensation : 0
Firmware : 1.0.9
Rating : 0
Date Created : 2019:01:25 15:09:32
Color Mode : RGB
ICC Profile Name : Adobe RGB (1998)
Format : image/jpeg
Raw File Name : _MG_2372.JPG
Version : 9.1
Process Version : 6.7
Auto White Version : 134348800
Incremental Temperature : 0
Incremental Tint : 0
Saturation : 0
Sharpness : 0
Luminance Smoothing : 0
Color Noise Reduction : 0
Vignette Amount : 0
Shadow Tint : 0
Red Hue : 0
Red Saturation : 0
Green Hue : 0
Green Saturation : 0
Blue Hue : 0
Blue Saturation : 0
Vibrance : 0
Hue Adjustment Red : 0
Hue Adjustment Orange : 0
Hue Adjustment Yellow : 0
Hue Adjustment Green : 0
Hue Adjustment Aqua : 0
Hue Adjustment Blue : 0
Hue Adjustment Purple : 0
Hue Adjustment Magenta : 0
Saturation Adjustment Red : 0
Saturation Adjustment Orange : 0
Saturation Adjustment Yellow : 0
Saturation Adjustment Green : 0
Saturation Adjustment Aqua : 0
Saturation Adjustment Blue : 0
Saturation Adjustment Purple : 0
Saturation Adjustment Magenta : 0
Luminance Adjustment Red : 0
Luminance Adjustment Orange : 0
Luminance Adjustment Yellow : 0
Luminance Adjustment Green : 0
Luminance Adjustment Aqua : 0
Luminance Adjustment Blue : 0
Luminance Adjustment Purple : 0
Luminance Adjustment Magenta : 0
Split Toning Shadow Hue : 0
Split Toning Shadow Saturation : 0
Split Toning Highlight Hue : 0
Split Toning Highlight Saturation : 0
Split Toning Balance : 0
Parametric Shadows : 0
Parametric Darks : 0
Parametric Lights : 0
Parametric Highlights : 0
Parametric Shadow Split : 25
Parametric Midtone Split : 50
Parametric Highlight Split : 75
Sharpen Radius : +1.0
Sharpen Detail : 25
Sharpen Edge Masking : 0
Post Crop Vignette Amount : 0
Grain Amount : 0
Lens Profile Enable : 0
Lens Manual Distortion Amount : 0
Perspective Vertical : 0
Perspective Horizontal : 0
Perspective Rotate : 0.0
Perspective Scale : 100
Perspective Aspect : 0
Perspective Upright : Off
Auto Lateral CA : 0
Exposure 2012 : +0.35
Contrast 2012 : -4
Highlights 2012 : -46
Shadows 2012 : +46
Whites 2012 : +19
Blacks 2012 : -1
Clarity 2012 : +18
Defringe Purple Amount : 0
Defringe Purple Hue Lo : 30
Defringe Purple Hue Hi : 70
Defringe Green Amount : 0
Defringe Green Hue Lo : 40
Defringe Green Hue Hi : 60
Dehaze : 0
Tone Map Strength : 0
Convert To Grayscale : False
Tone Curve Name : Linear
Tone Curve Name 2012 : Linear
Camera Profile : Embedded
Lens Profile Setup : LensDefaults
Has Settings : True
Has Crop : False
Already Applied : True
Tone Curve : 0, 0, 255, 255
Tone Curve Red : 0, 0, 255, 255
Tone Curve Green : 0, 0, 255, 255
Tone Curve Blue : 0, 0, 255, 255
Tone Curve PV2012 : 0, 0, 255, 255
Tone Curve PV2012 Red : 0, 0, 255, 255
Tone Curve PV2012 Green : 0, 0, 255, 255
Tone Curve PV2012 Blue : 0, 0, 255, 255
Image Width : 350
Image Height : 234
Bits Per Sample : 8
Color Components : 3
Aperture : 5.6
Image Size : 350x234
Megapixels : 0.082
Scale Factor To 35 mm Equivalent : 1.6
Shutter Speed : 1/125
Create Date : 2019:01:25 15:09:32.00
Date/Time Original : 2019:01:25 15:09:32.00
Modify Date : 2019:01:26 10:58:51.00
Circle Of Confusion : 0.019 mm
Depth Of Field : 0.44 m (1.73 - 2.18 m)
Field Of View : 30.3 deg
Focal Length : 42.0 mm (35 mm equivalent: 66.6 mm)
Hyperfocal Distance : 16.61 m
Light Value : 9.9
Lens ID : Canon EF 24-70mm f/4L IS USM