Uber Exif Photo
Photometric Interpretation : RGB
Make : Panasonic
Camera Model Name : DMC-LX100
Orientation : Horizontal (normal)
Samples Per Pixel : 3
Software : Adobe Photoshop CC 2018 (Macintosh)
Modify Date : 2018:09:19 14:25:25
Exposure Time : 1/640
F Number : 5.6
Exposure Program : Aperture-priority AE
ISO : 200
Date/Time Original : 2018:09:02 13:52:10
Create Date : 2018:09:02 13:52:10
Shutter Speed Value : 1/640
Aperture Value : 5.6
Exposure Compensation : 0
Max Aperture Value : 2.3
Metering Mode : Center-weighted average
Light Source : Unknown
Flash : Off, Did not fire
Focal Length : 15.4 mm
Color Space : sRGB
Exif Image Width : 2000
Exif Image Height : 1004
Sensing Method : One-chip color area
Scene Type : Directly photographed
Custom Rendered : Normal
Exposure Mode : Auto
White Balance : Auto
Digital Zoom Ratio : 0
Focal Length In 35mm Format : 34 mm
Scene Capture Type : Standard
Gain Control : Low gain up
Contrast : Normal
Saturation : Normal
Sharpness : Normal
Serial Number : XFL1706050035
Profile Description : sRGB IEC61966-2.1
Creator Tool : Adobe Photoshop Lightroom Classic 7.5 (Macintosh)
Date Created : 2018:09:02 13:52:10.083
Color Mode : RGB
ICC Profile Name : sRGB IEC61966-2.1
Format : image/jpeg
Version : 10.5
Process Version : 10.0
Color Temperature : 6300
Tint : +11
Luminance Smoothing : 14
Color Noise Reduction : 25
Vignette Amount : 0
Shadow Tint : 0
Red Hue : 0
Red Saturation : 0
Green Hue : 0
Green Saturation : 0
Blue Hue : 0
Blue Saturation : 0
Vibrance : +60
Hue Adjustment Red : 0
Hue Adjustment Orange : 0
Hue Adjustment Yellow : 0
Hue Adjustment Green : 0
Hue Adjustment Aqua : 0
Hue Adjustment Blue : 0
Hue Adjustment Purple : 0
Hue Adjustment Magenta : 0
Saturation Adjustment Red : 0
Saturation Adjustment Orange : +45
Saturation Adjustment Yellow : +45
Saturation Adjustment Green : 0
Saturation Adjustment Aqua : +61
Saturation Adjustment Blue : +25
Saturation Adjustment Purple : 0
Saturation Adjustment Magenta : +38
Luminance Adjustment Red : 0
Luminance Adjustment Orange : +36
Luminance Adjustment Yellow : +42
Luminance Adjustment Green : 0
Luminance Adjustment Aqua : +58
Luminance Adjustment Blue : -26
Luminance Adjustment Purple : 0
Luminance Adjustment Magenta : +43
Split Toning Shadow Hue : 187
Split Toning Shadow Saturation : 0
Split Toning Highlight Hue : 239
Split Toning Highlight Saturation : 47
Split Toning Balance : 0
Parametric Shadows : 0
Parametric Darks : 0
Parametric Lights : 0
Parametric Highlights : 0
Parametric Shadow Split : 25
Parametric Midtone Split : 50
Parametric Highlight Split : 75
Sharpen Radius : +1.0
Sharpen Detail : 25
Sharpen Edge Masking : 42
Post Crop Vignette Amount : 0
Grain Amount : 0
Luminance Noise Reduction Detail : 50
Color Noise Reduction Detail : 50
Luminance Noise Reduction Contrast : 0
Color Noise Reduction Smoothness : 50
Lens Profile Enable : 0
Lens Manual Distortion Amount : 0
Perspective Vertical : 0
Perspective Horizontal : 0
Perspective Rotate : 0.0
Perspective Scale : 100
Perspective Aspect : 0
Perspective Upright : Off
Perspective X : 0.00
Perspective Y : 0.00
Auto Lateral CA : 0
Exposure 2012 : 0.00
Contrast 2012 : 0
Highlights 2012 : 0
Shadows 2012 : 0
Whites 2012 : 0
Blacks 2012 : 0
Clarity 2012 : +42
Defringe Purple Amount : 0
Defringe Purple Hue Lo : 30
Defringe Purple Hue Hi : 70
Defringe Green Amount : 0
Defringe Green Hue Lo : 40
Defringe Green Hue Hi : 60
Dehaze : +25
Tone Map Strength : 0
Convert To Grayscale : False
Override Look Vignette : False
Tone Curve Name : Medium Contrast
Tone Curve Name 2012 : Linear
Camera Profile : Adobe Standard
Lens Profile Setup : LensDefaults
Has Settings : True
Crop Top : 0.175892
Crop Left : 0.079392
Crop Bottom : 0.723856
Crop Right : 0.935285
Crop Angle : -0.975899
Crop Constrain To Warp : 0
Has Crop : True
Already Applied : True
Tone Curve : 0, 0, 32, 22, 64, 56, 128, 128, 192, 196, 255, 255
Tone Curve Red : 0, 0, 255, 255
Tone Curve Green : 0, 0, 255, 255
Tone Curve Blue : 0, 0, 255, 255
Tone Curve PV2012 : 0, 0, 255, 255
Tone Curve PV2012 Red : 0, 0, 255, 255
Tone Curve PV2012 Green : 0, 0, 255, 255
Tone Curve PV2012 Blue : 0, 0, 255, 255
Look Name : Adobe Color
Look Amount : 1.000000
Look Supports Amount : false
Look Supports Monochrome : false
Look Supports Output Referred : false
Look Group : Profiles
Look Parameters Version : 10.5
Look Parameters Process Version : 10.0
Look Parameters Convert To Grayscale : False
Look Parameters Camera Profile : Adobe Standard
Look Parameters Look Table : E1095149FDB39D7A057BAB208837E2E1
Look Parameters Tone Curve PV2012 : 0, 0, 22, 16, 40, 35, 127, 127, 224, 230, 240, 246, 255, 255
Look Parameters Tone Curve PV2012 Red : 0, 0, 255, 255
Look Parameters Tone Curve PV2012 Green : 0, 0, 255, 255
Look Parameters Tone Curve PV2012 Blue : 0, 0, 255, 255
Image Width : 350
Image Height : 176
Bits Per Sample : 8
Color Components : 3
Aperture : 5.6
Image Size : 350x176
Megapixels : 0.062
Scale Factor To 35 mm Equivalent : 2.2
Shutter Speed : 1/640
Create Date : 2018:09:02 13:52:10.830
Date/Time Original : 2018:09:02 13:52:10.830
Circle Of Confusion : 0.014 mm
Field Of View : 55.8 deg
Focal Length : 15.4 mm (35 mm equivalent: 34.0 mm)
Hyperfocal Distance : 3.11 m
Light Value : 13.3