Uber Exif Photo
Object Name : Let's do business and stop talking
By-line : peterconzelmann@web.de
Sub-location : Mettlach, Germany
Copyright Notice : Peter Conzelmann 2018
Caption-Abstract : Villeroy & Boch - Erlebniszentrum Alte Abtei
Copyright Flag : True
Image Description : Villeroy & Boch - Erlebniszentrum Alte Abtei
Make : Leica Camera AG
Camera Model Name : M9 Digital Camera
Software : Adobe Photoshop Lightroom Classic 7.5 (Macintosh)
Modify Date : 2018:09:17 09:08:48
Artist : peterconzelmann@web.de
Copyright : Peter Conzelmann 2018
Exposure Time : 1/90
F Number : 2.0
Exposure Program : Aperture-priority AE
ISO : 200
Date/Time Original : 2018:08:25 11:52:11
Create Date : 2018:08:25 11:52:11
Shutter Speed Value : 1/90
Aperture Value : 2.0
Exposure Compensation : +1
Max Aperture Value : 2.0
Metering Mode : Center-weighted average
Light Source : Unknown
Flash : No Flash
Focal Length : 35.0 mm
Contrast : Normal
Sharpening : Normal
Saturation : Normal
White Balance : Auto
JPEG Quality : Fine
WB RGB Levels : 0.5373565103 1 0.6423586607
User Profile : PC 1
JPEG Size : 5216x3472
Firmware Version : 1.216
Base ISO : 160
Sensor Width : 5270
Sensor Height : 3516
Sensor Bit Depth : 14
Camera Temperature : 24 C
Lens Type : Summicron-M 35mm f/2 (IV)
Approximate F Number : 2.0
Measured LV : 4.40
External Sensor Brightness Value : 2.81
Color Space : sRGB
Scene Type : Directly photographed
Exposure Mode : Manual
Digital Zoom Ratio : 0
Focal Length In 35mm Format : 35 mm
Scene Capture Type : Standard
Serial Number : 4208006
Lens Model : Leica Summicron-M 35mm f/2 (IV)
Maker Note Safety : Safe
Profile Description : sRGB IEC61966-2.1
Creator Tool : Adobe Photoshop Lightroom Classic 7.5 (Macintosh)
Lens : Leica Summicron-M 35mm f/2 (IV)
Date Created : 2018:08:25 11:52:11
Format : image/jpeg
Marked : True
Location : Mettlach, Germany
Version : 10.5
Process Version : 10.0
Color Temperature : 3650
Tint : -1
Sharpness : 91
Luminance Smoothing : 54
Color Noise Reduction : 25
Vignette Amount : 0
Shadow Tint : 0
Red Hue : 0
Red Saturation : 0
Green Hue : 0
Green Saturation : 0
Blue Hue : 0
Blue Saturation : 0
Gray Mixer Red : 0
Gray Mixer Orange : 0
Gray Mixer Yellow : 0
Gray Mixer Green : 0
Gray Mixer Aqua : 0
Gray Mixer Blue : 0
Gray Mixer Purple : 0
Gray Mixer Magenta : 0
Split Toning Shadow Hue : 0
Split Toning Shadow Saturation : 0
Split Toning Highlight Hue : 0
Split Toning Highlight Saturation : 0
Split Toning Balance : 0
Parametric Shadows : -100
Parametric Darks : -100
Parametric Lights : -100
Parametric Highlights : -100
Parametric Shadow Split : 25
Parametric Midtone Split : 50
Parametric Highlight Split : 75
Sharpen Radius : +1.0
Sharpen Detail : 25
Sharpen Edge Masking : 60
Post Crop Vignette Amount : 0
Grain Amount : 0
Luminance Noise Reduction Detail : 50
Color Noise Reduction Detail : 50
Luminance Noise Reduction Contrast : 0
Color Noise Reduction Smoothness : 50
Lens Profile Enable : 0
Lens Manual Distortion Amount : 0
Perspective Vertical : 0
Perspective Horizontal : 0
Perspective Rotate : 0.0
Perspective Scale : 100
Perspective Aspect : 0
Perspective Upright : Off
Perspective X : 0.00
Perspective Y : 0.00
Auto Lateral CA : 0
Exposure 2012 : +1.50
Contrast 2012 : +13
Highlights 2012 : 0
Shadows 2012 : 0
Whites 2012 : 0
Blacks 2012 : 0
Clarity 2012 : +47
Dehaze : +28
Tone Map Strength : 0
Convert To Grayscale : True
Override Look Vignette : False
Tone Curve Name : Medium Contrast
Tone Curve Name 2012 : Linear
Camera Profile : Adobe Standard
Lens Profile Setup : LensDefaults
Has Settings : True
Crop Top : 0.002304
Crop Left : 0.026304
Crop Bottom : 0.991289
Crop Right : 0.812601
Crop Angle : 1.29203
Crop Constrain To Warp : 0
Has Crop : True
Already Applied : True
Title : Let's do business and stop talking
Creator : peterconzelmann@web.de
Rights : Peter Conzelmann 2018
Description : Villeroy & Boch - Erlebniszentrum Alte Abtei
Tone Curve : 0, 0, 32, 22, 64, 56, 128, 128, 192, 196, 255, 255
Tone Curve Red : 0, 0, 255, 255
Tone Curve Green : 0, 0, 255, 255
Tone Curve Blue : 0, 0, 255, 255
Tone Curve PV2012 : 0, 0, 255, 255
Tone Curve PV2012 Red : 0, 0, 255, 255
Tone Curve PV2012 Green : 0, 0, 255, 255
Tone Curve PV2012 Blue : 0, 0, 255, 255
Look Name : Adobe Monochrome
Look Amount : 1.000000
Look Supports Amount : false
Look Supports Monochrome : false
Look Supports Output Referred : false
Look Group : Profiles
Look Parameters Version : 10.5
Look Parameters Process Version : 10.0
Look Parameters Clarity 2012 : +8
Look Parameters Convert To Grayscale : True
Look Parameters Camera Profile : Adobe Standard
Look Parameters Look Table : 73ED6C18DDE909DD7EA2D771F5AC282D
Look Parameters Tone Curve PV2012 : 0, 0, 64, 56, 128, 128, 192, 197, 255, 255
Look Parameters Tone Curve PV2012 Red : 0, 0, 255, 255
Look Parameters Tone Curve PV2012 Green : 0, 0, 255, 255
Look Parameters Tone Curve PV2012 Blue : 0, 0, 255, 255
Image Width : 350
Image Height : 280
Bits Per Sample : 8
Color Components : 3
Aperture : 2.0
Blue Balance : 0.642359
Image Size : 350x280
Lens ID : Leica Summicron-M 35mm f/2 (IV)
Megapixels : 0.098
Red Balance : 0.537357
Scale Factor To 35 mm Equivalent : 1.0
Shutter Speed : 1/90
Circle Of Confusion : 0.030 mm
Field Of View : 54.4 deg
Focal Length : 35.0 mm (35 mm equivalent: 35.0 mm)
Hyperfocal Distance : 20.39 m
Light Value : 7.5