Uber Exif Photo
Province-State : Georgia
Country-Primary Location Name : United States
Country-Primary Location Code : USA
Keywords : Decatur, Geoirgia, truck, antique, wall, painting, art, film, Ektachrome, 100, Kodak, Leica, M6, 50mm
By-line : Louie Favorite
Writer-Editor : LF
Caption-Abstract : March 11, 2019 - Decatur, Georgia
Copyright Notice : ©2019 Louie Favorite, Atlanta, Georgia, USA
Make : Leica
Camera Model Name : M6
Orientation : Horizontal (normal)
Modify Date : 2019:03:11 16:01:33
F Number : 5.6
ISO : 100
Focal Length : 50.0 mm
Color Space : Uncalibrated
Exif Image Width : 2000
Exif Image Height : 1326
Focal Length In 35mm Format : 50 mm
Lens Model : SUMMILUX-M 1:1.4/35 ASPH
GPS Version ID : 2.2.0.0
GPS Latitude Ref : North
GPS Longitude Ref : West
Country Code : USA
Creator City : Atlanta
Creator Country : United States
Creator Region : Georgia
Creator Work Email : lfavorite@mac.com
Creator Work Telephone : 1+ 404-422-5511
Creator Work URL : louiefavorite.com
Lens : SUMMILUX-M 1:1.4/35 ASPH
Creator : Louie Favorite
Description : March 11, 2019 - Decatur, Georgia
Format : image/jpeg
Rights : ©2019 Louie Favorite, Atlanta, Georgia, USA
Subject : Decatur, Geoirgia, truck, antique, wall, painting, art, film, Ektachrome, 100, Kodak, Leica, M6, 50mm
Color Class : 0 (None)
PM Version : PM5
Prefs : Tagged:0, ColorClass:0, Rating:0, FrameNum:-00001
Tagged : No
Caption Writer : LF
City : Decatur
Color Mode : RGB
Country : United States
Credit : Louie Favorite
Date Created : 2019:03:11 16:01:33
ICC Profile Name : Adobe RGB (1998)
Source : Leica / M6 / 50mm
State : Georgia
Supplemental Categories : original filename: truck.jpg, 2000 X 1326
Urgency : 5 (normal urgency)
Create Date : 2019:03:11 16:01:33
Rating : 0
Marked : True
Usage Terms : ©2019 Louie Favorite, Atlanta, Georgia, USA
Web Statement : louiefavorite.com
Already Applied : True
Auto Lateral CA : 0
Blacks 2012 : -47
Blue Hue : 0
Blue Saturation : 0
Camera Profile : Embedded
Clarity 2012 : +38
Color Noise Reduction : 0
Contrast 2012 : 0
Convert To Grayscale : False
Defringe Green Amount : 0
Defringe Green Hue Hi : 60
Defringe Green Hue Lo : 40
Defringe Purple Amount : 0
Defringe Purple Hue Hi : 70
Defringe Purple Hue Lo : 30
Dehaze : +53
Exposure 2012 : +0.95
Grain Amount : 0
Green Hue : 0
Green Saturation : 0
Has Settings : True
Highlights 2012 : -44
Hue Adjustment Aqua : 0
Hue Adjustment Blue : 0
Hue Adjustment Green : 0
Hue Adjustment Magenta : 0
Hue Adjustment Orange : 0
Hue Adjustment Purple : 0
Hue Adjustment Red : 0
Hue Adjustment Yellow : 0
Incremental Temperature : +9
Incremental Tint : +29
Lens Manual Distortion Amount : 0
Lens Profile Enable : 0
Lens Profile Setup : LensDefaults
Luminance Adjustment Aqua : 0
Luminance Adjustment Blue : 0
Luminance Adjustment Green : 0
Luminance Adjustment Magenta : 0
Luminance Adjustment Orange : 0
Luminance Adjustment Purple : 0
Luminance Adjustment Red : 0
Luminance Adjustment Yellow : 0
Luminance Smoothing : 0
Override Look Vignette : False
Parametric Darks : 0
Parametric Highlight Split : 75
Parametric Highlights : 0
Parametric Lights : 0
Parametric Midtone Split : 50
Parametric Shadow Split : 25
Parametric Shadows : 0
Perspective Aspect : 0
Perspective Horizontal : 0
Perspective Rotate : 0.0
Perspective Scale : 100
Perspective Upright : Off
Perspective Vertical : 0
Perspective X : 0.00
Perspective Y : 0.00
Post Crop Vignette Amount : 0
Process Version : 11.0
Raw File Name : 023.jpg
Red Hue : 0
Red Saturation : 0
Saturation : 0
Saturation Adjustment Aqua : 0
Saturation Adjustment Blue : 0
Saturation Adjustment Green : 0
Saturation Adjustment Magenta : 0
Saturation Adjustment Orange : 0
Saturation Adjustment Purple : 0
Saturation Adjustment Red : 0
Saturation Adjustment Yellow : 0
Shadow Tint : 0
Shadows 2012 : 0
Sharpen Detail : 25
Sharpen Edge Masking : 0
Sharpen Radius : +1.0
Sharpness : 0
Split Toning Balance : 0
Split Toning Highlight Hue : 0
Split Toning Highlight Saturation : 0
Split Toning Shadow Hue : 0
Split Toning Shadow Saturation : 0
Tone Curve : 0, 0, 255, 255
Tone Curve Blue : 0, 0, 255, 255
Tone Curve Green : 0, 0, 255, 255
Tone Curve Name : Linear
Tone Curve Name 2012 : Linear
Tone Curve PV2012 : 0, 0, 255, 255
Tone Curve PV2012 Blue : 0, 0, 255, 255
Tone Curve PV2012 Green : 0, 0, 255, 255
Tone Curve PV2012 Red : 0, 0, 255, 255
Tone Curve Red : 0, 0, 255, 255
Tone Map Strength : 0
Version : 11.2
Vibrance : 0
Vignette Amount : 0
White Balance : Custom
Whites 2012 : -23
Image Width : 350
Image Height : 232
Bits Per Sample : 8
Color Components : 3
Aperture : 5.6
Image Size : 350x232
Megapixels : 0.081
Scale Factor To 35 mm Equivalent : 1.0
GPS Latitude : 33 deg 46' 19.62" N
GPS Longitude : 84 deg 17' 33.53" W
Circle Of Confusion : 0.030 mm
Date/Time Original : 2019:03:11 16:01:33-04:00
Field Of View : 39.6 deg
Focal Length : 50.0 mm (35 mm equivalent: 50.0 mm)
GPS Position : 33 deg 46' 19.62" N, 84 deg 17' 33.53" W
Hyperfocal Distance : 14.86 m