Uber Exif Photo
Keywords : Chesterfield, Chesterfield Motor Fest 2019, Ken Davis, Leica M-P (240)
Make : Leica Camera AG
Camera Model Name : LEICA M (Typ 240)
Software : Adobe Photoshop Lightroom 5.7.1 (Windows)
Modify Date : 2019:08:18 18:26:29
Exposure Time : 1/45
F Number : 9.5
Exposure Program : Aperture-priority AE
ISO : 200
Date/Time Original : 2019:08:18 09:33:16
Create Date : 2019:08:18 09:33:16
Shutter Speed Value : 1/45
Aperture Value : 9.5
Exposure Compensation : -0.332
Max Aperture Value : 4.0
Metering Mode : Center-weighted average
Light Source : Unknown
Flash : No Flash
Focal Length : 28.0 mm
Color Space : sRGB
Scene Type : Directly photographed
Custom Rendered : Normal
Exposure Mode : Auto
White Balance : Auto
Digital Zoom Ratio : 0
Scene Capture Type : Standard
Contrast : Normal
Saturation : Normal
Sharpness : Normal
Serial Number : 4954184
Lens Info : 28-50mm f/4-22
Lens Make : Leica Camera AG
Lens Model : Tri-Elmar-M 1:4/28-35-50 ASPH.
Lens Serial Number : -------
Profile Description : sRGB IEC61966-2.1
Creator Tool : Adobe Photoshop Lightroom 5.7.1 (Windows)
Lens : Tri-Elmar-M 1:4/28-35-50 ASPH.
Date Created : 2019:08:18 09:33:16
Format : image/jpeg
Version : 8.7.1
Process Version : 6.7
Auto White Version : 134348800
Color Temperature : 5750
Tint : -12
Luminance Smoothing : 0
Color Noise Reduction : 25
Vignette Amount : 0
Shadow Tint : 0
Red Hue : 0
Red Saturation : 0
Green Hue : 0
Green Saturation : 0
Blue Hue : 0
Blue Saturation : 0
Vibrance : +10
Hue Adjustment Red : 0
Hue Adjustment Orange : 0
Hue Adjustment Yellow : 0
Hue Adjustment Green : 0
Hue Adjustment Aqua : 0
Hue Adjustment Blue : 0
Hue Adjustment Purple : 0
Hue Adjustment Magenta : 0
Saturation Adjustment Red : 0
Saturation Adjustment Orange : 0
Saturation Adjustment Yellow : 0
Saturation Adjustment Green : 0
Saturation Adjustment Aqua : 0
Saturation Adjustment Blue : 0
Saturation Adjustment Purple : 0
Saturation Adjustment Magenta : 0
Luminance Adjustment Red : 0
Luminance Adjustment Orange : 0
Luminance Adjustment Yellow : 0
Luminance Adjustment Green : 0
Luminance Adjustment Aqua : 0
Luminance Adjustment Blue : 0
Luminance Adjustment Purple : 0
Luminance Adjustment Magenta : 0
Split Toning Shadow Hue : 0
Split Toning Shadow Saturation : 0
Split Toning Highlight Hue : 0
Split Toning Highlight Saturation : 0
Split Toning Balance : 0
Parametric Shadows : 0
Parametric Darks : 0
Parametric Lights : 0
Parametric Highlights : 0
Parametric Shadow Split : 25
Parametric Midtone Split : 50
Parametric Highlight Split : 75
Sharpen Radius : +1.0
Sharpen Detail : 45
Sharpen Edge Masking : 0
Post Crop Vignette Amount : 0
Grain Amount : 0
Color Noise Reduction Detail : 50
Color Noise Reduction Smoothness : 50
Lens Profile Enable : 0
Lens Manual Distortion Amount : 0
Perspective Vertical : 0
Perspective Horizontal : 0
Perspective Rotate : 0.0
Perspective Scale : 100
Perspective Aspect : 0
Perspective Upright : Off
Auto Lateral CA : 1
Exposure 2012 : +0.36
Contrast 2012 : 0
Highlights 2012 : -10
Shadows 2012 : +29
Whites 2012 : 0
Blacks 2012 : 0
Clarity 2012 : +20
Defringe Purple Amount : 0
Defringe Purple Hue Lo : 30
Defringe Purple Hue Hi : 70
Defringe Green Amount : 0
Defringe Green Hue Lo : 40
Defringe Green Hue Hi : 60
Convert To Grayscale : False
Tone Curve Name : Linear
Tone Curve Name 2012 : Linear
Camera Profile : Adobe Standard
Lens Profile Setup : LensDefaults
Has Settings : True
Crop Top : 0.297719
Crop Left : 0.297719
Crop Bottom : 1
Crop Right : 1
Crop Angle : 0
Crop Constrain To Warp : 0
Has Crop : True
Already Applied : True
Subject : Chesterfield, Chesterfield Motor Fest 2019, Ken Davis, Leica M-P (240)
Tone Curve : 0, 0, 255, 255
Tone Curve Red : 0, 0, 255, 255
Tone Curve Green : 0, 0, 255, 255
Tone Curve Blue : 0, 0, 255, 255
Tone Curve PV2012 : 0, 0, 255, 255
Tone Curve PV2012 Red : 0, 0, 255, 255
Tone Curve PV2012 Green : 0, 0, 255, 255
Tone Curve PV2012 Blue : 0, 0, 255, 255
Image Width : 400
Image Height : 267
Bits Per Sample : 8
Color Components : 3
Aperture : 9.5
Image Size : 400x267
Megapixels : 0.107
Scale Factor To 35 mm Equivalent : 14.9
Shutter Speed : 1/45
Circle Of Confusion : 0.002 mm
Field Of View : 4.9 deg
Focal Length : 28.0 mm (35 mm equivalent: 416.5 mm)
Hyperfocal Distance : 40.85 m
Light Value : 11.0