Uber Exif Photo
Make : LEICA CAMERA AG
Camera Model Name : LEICA Q2
Software : Adobe Photoshop Lightroom 6.14 (Macintosh)
Modify Date : 2019:09:22 15:53:46
Exposure Time : 1/500
F Number : 5.0
Exposure Program : Program AE
ISO : 100
Sensitivity Type : Standard Output Sensitivity
Standard Output Sensitivity : 100
Date/Time Original : 2019:09:22 15:04:16
Create Date : 2019:09:22 15:04:16
Shutter Speed Value : 1/500
Aperture Value : 5.0
Exposure Compensation : 0
Max Aperture Value : 1.7
Metering Mode : Multi-segment
Light Source : Unknown
Flash : Off, Did not fire
Focal Length : 28.0 mm
Color Space : sRGB
Sensing Method : One-chip color area
Custom Rendered : Normal
White Balance : Auto
Digital Zoom Ratio : 1
Focal Length In 35mm Format : 28 mm
Scene Capture Type : Standard
Contrast : Normal
Saturation : Normal
Sharpness : Normal
Lens Info : 28mm f/1.53125-2.97265625
Lens Model : SUMMILUX 1:1.7/28 ASPH.
Lens Serial Number : N/A
Profile Description : sRGB IEC61966-2.1
Creator Tool : Adobe Photoshop Lightroom 6.14 (Macintosh)
Lens : SUMMILUX 1:1.7/28 ASPH.
Date Created : 2019:09:22 15:04:16
Format : image/jpeg
Version : 10.1
Process Version : 6.7
Auto White Version : 134348800
Incremental Temperature : +25
Incremental Tint : +14
Luminance Smoothing : 0
Color Noise Reduction : 0
Vignette Amount : -100
Vignette Midpoint : 6
Shadow Tint : 0
Red Hue : 0
Red Saturation : 0
Green Hue : 0
Green Saturation : 0
Blue Hue : 0
Blue Saturation : 0
Gray Mixer Red : -29
Gray Mixer Orange : -19
Gray Mixer Yellow : +10
Gray Mixer Green : -27
Gray Mixer Aqua : -19
Gray Mixer Blue : +11
Gray Mixer Purple : +18
Gray Mixer Magenta : +7
Split Toning Shadow Hue : 216
Split Toning Shadow Saturation : 0
Split Toning Highlight Hue : 215
Split Toning Highlight Saturation : 0
Split Toning Balance : 0
Parametric Shadows : +40
Parametric Darks : -43
Parametric Lights : +21
Parametric Highlights : 0
Parametric Shadow Split : 25
Parametric Midtone Split : 50
Parametric Highlight Split : 75
Sharpen Radius : +1.0
Sharpen Detail : 25
Sharpen Edge Masking : 0
Post Crop Vignette Amount : 0
Grain Amount : 0
Lens Profile Enable : 0
Lens Manual Distortion Amount : 0
Perspective Vertical : 0
Perspective Horizontal : 0
Perspective Rotate : 0.0
Perspective Scale : 100
Perspective Aspect : 0
Perspective Upright : Off
Perspective X : 0.00
Perspective Y : 0.00
Auto Lateral CA : 0
Exposure 2012 : +0.85
Contrast 2012 : 0
Highlights 2012 : 0
Shadows 2012 : 0
Whites 2012 : +47
Blacks 2012 : 0
Clarity 2012 : 0
Dehaze : 0
Tone Map Strength : 0
Convert To Grayscale : True
Tone Curve Name : Linear
Tone Curve Name 2012 : Linear
Camera Profile : Embedded
Lens Profile Setup : LensDefaults
Has Settings : True
Crop Top : 0.358633
Crop Left : 0.172883
Crop Bottom : 0.872917
Crop Right : 0.749423
Crop Angle : -2.95227
Crop Constrain To Warp : 0
Has Crop : True
Already Applied : True
Tone Curve : 0, 0, 255, 255
Tone Curve Red : 0, 0, 255, 255
Tone Curve Green : 0, 0, 255, 255
Tone Curve Blue : 0, 0, 255, 255
Tone Curve PV2012 : 0, 0, 255, 255
Tone Curve PV2012 Red : 0, 0, 255, 255
Tone Curve PV2012 Green : 0, 0, 255, 255
Tone Curve PV2012 Blue : 0, 0, 255, 255
Image Width : 400
Image Height : 267
Bits Per Sample : 8
Color Components : 3
Aperture : 5.0
Image Size : 400x267
Megapixels : 0.107
Scale Factor To 35 mm Equivalent : 1.0
Shutter Speed : 1/500
Circle Of Confusion : 0.030 mm
Field Of View : 65.5 deg
Focal Length : 28.0 mm (35 mm equivalent: 28.0 mm)
Hyperfocal Distance : 5.22 m
Light Value : 13.6