Uber Exif Photo
Make : Leica Camera AG
Camera Model Name : M8 Digital Camera
Software : Photoshop Express 7.8.5.2184
Modify Date : 2019:12:22 22:08:19
Exposure Time : 1/30
F Number : 4.5
Exposure Program : Aperture-priority AE
ISO : 160
Date/Time Original : 2019:10:22 14:30:12
Create Date : 2019:10:22 14:30:12
Shutter Speed Value : 1/30
Aperture Value : 4.5
Exposure Compensation : 0
Max Aperture Value : 2.0
Metering Mode : Center-weighted average
Light Source : Unknown
Flash : Auto, Did not fire
Focal Length : 50.0 mm
Color Space : sRGB
Scene Type : Directly photographed
Custom Rendered : Normal
White Balance : Manual
Digital Zoom Ratio : 0
Scene Capture Type : Standard
Contrast : Normal
Saturation : Normal
Sharpness : Normal
Lens Model : Leica Summicron-M 50mm f/2 (IV, V)
Profile Description : sRGB IEC61966-2.1
Creator Tool : Photoshop Express 7.8.5.2184
Lens : Leica Summicron-M 50mm f/2 (IV, V)
Lateral Chromatic Aberration Correction Already Applied:
True
Date Created : 2019:10:22 14:30:12
Format : image/jpeg
Version : 12.1
Process Version : 11.0
Incremental Temperature : 0
Incremental Tint : 0
Luminance Smoothing : 20
Color Noise Reduction : 48
Vignette Amount : 0
Shadow Tint : 0
Red Hue : 0
Red Saturation : 0
Green Hue : 0
Green Saturation : 0
Blue Hue : 0
Blue Saturation : 0
Vibrance : +17
Hue Adjustment Red : 0
Hue Adjustment Orange : 0
Hue Adjustment Yellow : 0
Hue Adjustment Green : 0
Hue Adjustment Aqua : 0
Hue Adjustment Blue : 0
Hue Adjustment Purple : 0
Hue Adjustment Magenta : 0
Saturation Adjustment Red : 0
Saturation Adjustment Orange : 0
Saturation Adjustment Yellow : 0
Saturation Adjustment Green : 0
Saturation Adjustment Aqua : 0
Saturation Adjustment Blue : 0
Saturation Adjustment Purple : 0
Saturation Adjustment Magenta : 0
Luminance Adjustment Red : 0
Luminance Adjustment Orange : 0
Luminance Adjustment Yellow : 0
Luminance Adjustment Green : 0
Luminance Adjustment Aqua : 0
Luminance Adjustment Blue : 0
Luminance Adjustment Purple : 0
Luminance Adjustment Magenta : 0
Split Toning Shadow Hue : 0
Split Toning Shadow Saturation : 0
Split Toning Highlight Hue : 0
Split Toning Highlight Saturation : 0
Split Toning Balance : 0
Parametric Shadows : 0
Parametric Darks : 0
Parametric Lights : 0
Parametric Highlights : 0
Parametric Shadow Split : 25
Parametric Midtone Split : 50
Parametric Highlight Split : 75
Sharpen Radius : +1.0
Sharpen Detail : 25
Sharpen Edge Masking : 0
Post Crop Vignette Amount : -14
Post Crop Vignette Midpoint : 50
Post Crop Vignette Feather : 50
Post Crop Vignette Roundness : 0
Post Crop Vignette Style : Highlight Priority
Post Crop Vignette Highlight Contrast : 31
Grain Amount : 0
Luminance Noise Reduction Detail : 50
Color Noise Reduction Detail : 50
Luminance Noise Reduction Contrast : 0
Color Noise Reduction Smoothness : 50
Lens Profile Enable : 1
Lens Manual Distortion Amount : 0
Perspective Vertical : 0
Perspective Horizontal : 0
Perspective Rotate : 0.0
Perspective Scale : 100
Perspective Aspect : 0
Perspective Upright : Off
Perspective X : 0.00
Perspective Y : 0.00
Auto Lateral CA : 1
Exposure 2012 : -0.14
Contrast 2012 : +7
Highlights 2012 : -5
Shadows 2012 : +28
Whites 2012 : +8
Blacks 2012 : -17
Clarity 2012 : +15
Defringe Purple Amount : 0
Defringe Purple Hue Lo : 30
Defringe Purple Hue Hi : 70
Defringe Green Amount : 0
Defringe Green Hue Lo : 40
Defringe Green Hue Hi : 60
Dehaze : +18
Texture : +41
Tone Map Strength : 0
Convert To Grayscale : False
Override Look Vignette : False
Tone Curve Name : Linear
Tone Curve Name 2012 : Linear
Camera Profile : Embedded
Lens Profile Setup : LensDefaults
Has Settings : True
Has Crop : False
Already Applied : True
Tone Curve : 0, 0, 255, 255
Tone Curve Red : 0, 0, 255, 255
Tone Curve Green : 0, 0, 255, 255
Tone Curve Blue : 0, 0, 255, 255
Tone Curve PV2012 : 0, 0, 255, 255
Tone Curve PV2012 Red : 0, 0, 255, 255
Tone Curve PV2012 Green : 0, 0, 255, 255
Tone Curve PV2012 Blue : 0, 0, 255, 255
Image Width : 400
Image Height : 267
Bits Per Sample : 8
Color Components : 3
Aperture : 4.5
Image Size : 400x267
Megapixels : 0.107
Shutter Speed : 1/30
Modify Date : 2019:12:22 22:08:19+01:00
Light Value : 8.6
Lens ID : Summicron-M 50mm f/2 (IV, V)