Uber Exif Photo
Make : Apple
Camera Model Name : iPhone 7 Plus
Software : 13.3
Modify Date : 2019:12:22 21:23:05
Exposure Time : 1/450
F Number : 2.8
Exposure Program : Program AE
ISO : 20
Date/Time Original : 2019:12:21 12:12:09
Create Date : 2019:12:21 12:12:09
Shutter Speed Value : 1/450
Aperture Value : 2.8
Brightness Value : 8.968363743
Exposure Compensation : 0
Metering Mode : Multi-segment
Flash : Off, Did not fire
Focal Length : 6.6 mm
Subject Area : 2011 1511 2217 1330
Color Space : sRGB
Sensing Method : One-chip color area
Scene Type : Directly photographed
Exposure Mode : Auto
White Balance : Auto
Focal Length In 35mm Format : 57 mm
Scene Capture Type : Standard
Lens Info : 3.99000001-6.6mm f/1.8-2.8
Lens Make : Apple
Lens Model : iPhone 7 Plus back dual camera 6.6mm f/2.8
Profile Description : sRGB IEC61966-2.1
Creator Tool : 13.3
Lens : iPhone 7 Plus back dual camera 6.6mm f/2.8
Date Created : 2019:12:21 12:12:09.300+01:00
Format : image/jpeg
Version : 12.1
Process Version : 11.0
Incremental Temperature : +2
Incremental Tint : +1
Saturation : -6
Sharpness : 25
Luminance Smoothing : 36
Color Noise Reduction : 99
Vignette Amount : 0
Shadow Tint : 0
Red Hue : 0
Red Saturation : 0
Green Hue : 0
Green Saturation : 0
Blue Hue : 0
Blue Saturation : 0
Vibrance : +12
Hue Adjustment Red : 0
Hue Adjustment Orange : 0
Hue Adjustment Yellow : 0
Hue Adjustment Green : 0
Hue Adjustment Aqua : 0
Hue Adjustment Blue : 0
Hue Adjustment Purple : 0
Hue Adjustment Magenta : 0
Saturation Adjustment Red : 0
Saturation Adjustment Orange : 0
Saturation Adjustment Yellow : 0
Saturation Adjustment Green : 0
Saturation Adjustment Aqua : 0
Saturation Adjustment Blue : 0
Saturation Adjustment Purple : 0
Saturation Adjustment Magenta : 0
Luminance Adjustment Red : 0
Luminance Adjustment Orange : 0
Luminance Adjustment Yellow : 0
Luminance Adjustment Green : 0
Luminance Adjustment Aqua : 0
Luminance Adjustment Blue : 0
Luminance Adjustment Purple : 0
Luminance Adjustment Magenta : 0
Split Toning Shadow Hue : 0
Split Toning Shadow Saturation : 0
Split Toning Highlight Hue : 0
Split Toning Highlight Saturation : 0
Split Toning Balance : 0
Parametric Shadows : 0
Parametric Darks : 0
Parametric Lights : 0
Parametric Highlights : 0
Parametric Shadow Split : 25
Parametric Midtone Split : 50
Parametric Highlight Split : 75
Sharpen Radius : +1.0
Sharpen Detail : 25
Sharpen Edge Masking : 0
Post Crop Vignette Amount : -6
Post Crop Vignette Midpoint : 55
Post Crop Vignette Feather : 50
Post Crop Vignette Roundness : 0
Post Crop Vignette Style : Highlight Priority
Post Crop Vignette Highlight Contrast : 26
Grain Amount : 0
Luminance Noise Reduction Detail : 50
Color Noise Reduction Detail : 50
Luminance Noise Reduction Contrast : 0
Color Noise Reduction Smoothness : 50
Lens Profile Enable : 0
Lens Manual Distortion Amount : 0
Perspective Vertical : 0
Perspective Horizontal : 0
Perspective Rotate : 0.0
Perspective Scale : 100
Perspective Aspect : 0
Perspective Upright : Off
Perspective X : 0.00
Perspective Y : 0.00
Auto Lateral CA : 0
Exposure 2012 : +0.28
Contrast 2012 : +6
Highlights 2012 : -45
Shadows 2012 : +53
Whites 2012 : +9
Blacks 2012 : -9
Clarity 2012 : +37
Defringe Purple Amount : 0
Defringe Purple Hue Lo : 30
Defringe Purple Hue Hi : 70
Defringe Green Amount : 0
Defringe Green Hue Lo : 40
Defringe Green Hue Hi : 60
Dehaze : +34
Texture : +13
Tone Map Strength : 0
Convert To Grayscale : False
Override Look Vignette : False
Tone Curve Name : Linear
Tone Curve Name 2012 : Linear
Camera Profile : Embedded
Lens Profile Setup : LensDefaults
Has Settings : True
Has Crop : False
Already Applied : True
Tone Curve : 0, 0, 255, 255
Tone Curve Red : 0, 0, 255, 255
Tone Curve Green : 0, 0, 255, 255
Tone Curve Blue : 0, 0, 255, 255
Tone Curve PV2012 : 0, 0, 255, 255
Tone Curve PV2012 Red : 0, 0, 255, 255
Tone Curve PV2012 Green : 0, 0, 255, 255
Tone Curve PV2012 Blue : 0, 0, 255, 255
Image Width : 400
Image Height : 300
Bits Per Sample : 8
Color Components : 3
Aperture : 2.8
Image Size : 400x300
Megapixels : 0.120
Scale Factor To 35 mm Equivalent : 8.6
Shutter Speed : 1/450
Create Date : 2019:12:21 12:12:09.3+01:00
Date/Time Original : 2019:12:21 12:12:09.3+01:00
Modify Date : 2019:12:22 21:23:05+01:00
Circle Of Confusion : 0.003 mm
Field Of View : 35.1 deg
Focal Length : 6.6 mm (35 mm equivalent: 57.0 mm)
Hyperfocal Distance : 4.47 m
Light Value : 14.1
Lens ID : iPhone 7 Plus back dual camera 6.6mm f/2.8