Uber Exif Photo
Photometric Interpretation : RGB
Make : FUJIFILM
Camera Model Name : X-H1
Orientation : Horizontal (normal)
Samples Per Pixel : 3
Software : Adobe Photoshop 21.1 (Windows)
Modify Date : 2020:05:01 18:50:24
Exposure Time : 1/40
F Number : 5.6
Exposure Program : Aperture-priority AE
ISO : 1000
Sensitivity Type : Standard Output Sensitivity
Date/Time Original : 2020:04:25 05:43:01
Create Date : 2020:04:25 05:43:01
Shutter Speed Value : 1/40
Aperture Value : 5.6
Brightness Value : 2.49
Exposure Compensation : -0.33
Max Aperture Value : 2.8
Metering Mode : Multi-segment
Light Source : Unknown
Flash : No Flash
Focal Length : 55.0 mm
Color Space : sRGB
Exif Image Width : 1200
Exif Image Height : 1800
Sensing Method : One-chip color area
Scene Type : Directly photographed
Custom Rendered : Normal
Exposure Mode : Auto
White Balance : Auto
Focal Length In 35mm Format : 83 mm
Scene Capture Type : Standard
Sharpness : Normal
Subject Distance Range : Unknown
Serial Number : 82A52229
Lens Info : 16-55mm f/2.8
Lens Make : FUJIFILM
Lens Model : XF16-55mmF2.8 R LM WR
Lens Serial Number : 55A08516
Profile Description : sRGB IEC61966-2.1
Creator Tool : Adobe Photoshop Lightroom Classic 9.2.1 (Windows)
Lens : XF16-55mmF2.8 R LM WR
Distortion Correction Already Applied : True
Lateral Chromatic Aberration Correction Already Applied:
True
Vignette Correction Already Applied : True
Date Created : 2020:04:25 05:43:01
Color Mode : RGB
ICC Profile Name : sRGB IEC61966-2.1
Preserved File Name : JRA11396.RAF
Format : image/jpeg
Raw File Name : JRA11396.RAF
Version : 12.2.1
Process Version : 11.0
Color Temperature : 5450
Tint : +24
Luminance Smoothing : 0
Color Noise Reduction : 25
Vignette Amount : 0
Shadow Tint : 0
Red Hue : 0
Red Saturation : 0
Green Hue : 0
Green Saturation : 0
Blue Hue : 0
Blue Saturation : 0
Split Toning Shadow Hue : 0
Split Toning Shadow Saturation : 0
Split Toning Highlight Hue : 0
Split Toning Highlight Saturation : 0
Split Toning Balance : 0
Parametric Shadows : 0
Parametric Darks : 0
Parametric Lights : 0
Parametric Highlights : 0
Parametric Shadow Split : 25
Parametric Midtone Split : 50
Parametric Highlight Split : 75
Sharpen Radius : +1.0
Sharpen Detail : 25
Sharpen Edge Masking : 0
Post Crop Vignette Amount : 0
Grain Amount : 0
Color Noise Reduction Detail : 50
Color Noise Reduction Smoothness : 50
Lens Profile Enable : 0
Lens Manual Distortion Amount : 0
Perspective Vertical : 0
Perspective Horizontal : 0
Perspective Rotate : 0.0
Perspective Scale : 100
Perspective Aspect : 0
Perspective Upright : Off
Perspective X : 0.00
Perspective Y : 0.00
Auto Lateral CA : 1
Exposure 2012 : 0.00
Contrast 2012 : 0
Highlights 2012 : -48
Shadows 2012 : -12
Whites 2012 : +24
Blacks 2012 : -55
Clarity 2012 : 0
Dehaze : 0
Texture : 0
Tone Map Strength : 0
Convert To Grayscale : True
Override Look Vignette : False
Tone Curve Name : Linear
Tone Curve Name 2012 : Linear
Camera Profile : Camera ACROS+R FILTER
Lens Profile Setup : LensDefaults
Has Settings : True
Crop Top : 0.052356
Crop Left : 0
Crop Bottom : 0.926702
Crop Right : 0.874346
Crop Angle : 0
Crop Constrain To Warp : 0
Has Crop : True
Already Applied : True
Tone Curve : 0, 0, 255, 255
Tone Curve Red : 0, 0, 255, 255
Tone Curve Green : 0, 0, 255, 255
Tone Curve Blue : 0, 0, 255, 255
Tone Curve PV2012 : 0, 0, 255, 255
Tone Curve PV2012 Red : 0, 0, 255, 255
Tone Curve PV2012 Green : 0, 0, 255, 255
Tone Curve PV2012 Blue : 0, 0, 255, 255
Look Name :
Image Width : 400
Image Height : 600
Bits Per Sample : 8
Color Components : 3
Aperture : 5.6
Image Size : 400x600
Megapixels : 0.240
Scale Factor To 35 mm Equivalent : 1.5
Shutter Speed : 1/40
Modify Date : 2020:05:01 18:50:24-04:00
Circle Of Confusion : 0.020 mm
Field Of View : 24.5 deg
Focal Length : 55.0 mm (35 mm equivalent: 83.0 mm)
Hyperfocal Distance : 27.13 m
Light Value : 7.0
Lens ID : XF16-55mm F2.8 R LM WR