Uber Exif Photo
By-line : peterconzelmann@web.de
Object Name : late afternoon beam
Sub-location : Erfweiler, Dahner Felsenland, Germany
Caption-Abstract : bearbeitet und beschnitten.Abstieg vom Hegerturmblick
Copyright Notice : Peter Conzelmann 2020
Image Description : bearbeitet und beschnitten.Abstieg vom Hegerturmblick
Make : LEICA CAMERA AG
Camera Model Name : LEICA Q2
Orientation : Horizontal (normal)
Software : Adobe Photoshop Lightroom Classic 9.4 (Macintosh)
Modify Date : 2020:11:07 15:54:31
Artist : peterconzelmann@web.de
Copyright : Peter Conzelmann 2020
Exposure Time : 1/80
F Number : 5.6
Exposure Program : Aperture-priority AE
ISO : 1000
Sensitivity Type : Standard Output Sensitivity
Standard Output Sensitivity : 1000
Date/Time Original : 2020:11:06 17:23:10
Create Date : 2020:11:06 17:23:10
Shutter Speed Value : 1/80
Aperture Value : 5.6
Exposure Compensation : -2.3
Max Aperture Value : 1.7
Metering Mode : Multi-segment
Light Source : Unknown
Flash : Off, Did not fire
Focal Length : 28.0 mm
Color Space : sRGB
Exif Image Width : 3543
Exif Image Height : 2359
Sensing Method : One-chip color area
Custom Rendered : Normal
White Balance : Auto
Digital Zoom Ratio : 1
Focal Length In 35mm Format : 28 mm
Scene Capture Type : Standard
Contrast : Normal
Saturation : Normal
Sharpness : Normal
Serial Number : 5355351
Lens Info : 28mm f/1.53125-2.97265625
Lens Model : SUMMILUX 1:1.7/28 ASPH.
Lens Serial Number : N/A
Sharpen Detail : 25
Blacks 2012 : 0
Luminance Adjustment Orange : 0
Hue Adjustment Yellow : 0
Saturation Adjustment Blue : 0
Parametric Highlight Split : 75
Lens Profile Enable : 0
Split Toning Shadow Saturation : 0
Crop Angle : 0
Convert To Grayscale : False
Contrast 2012 : +11
Highlights 2012 : 0
Split Toning Highlight Hue : 0
Perspective Scale : 100
Perspective Vertical : 0
Saturation Adjustment Aqua : 0
Parametric Shadow Split : 25
Luminance Adjustment Green : 0
Perspective Rotate : 0.0
Split Toning Shadow Hue : 0
Luminance Adjustment Yellow : 0
Shadows 2012 : 0
Lens Profile Setup : LensDefaults
Whites 2012 : 0
Perspective Horizontal : 0
Camera Profile : Embedded
Saturation Adjustment Yellow : 0
Parametric Midtone Split : 50
Crop Top : 0.118312
Parametric Highlights : 0
Defringe Green Amount : 0
Parametric Darks : 0
Incremental Tint : 0
Sharpen Radius : +1.0
Vibrance : +13
Shadow Tint : 0
Has Crop : True
Luminance Smoothing : 0
Tone Curve Name 2012 : Linear
Split Toning Highlight Saturation : 0
Defringe Purple Hue Hi : 70
Crop Constrain To Warp : 0
Saturation Adjustment Orange : 0
Texture : 0
Sharpen Edge Masking : 0
Hue Adjustment Green : 0
Vignette Amount : 0
Blue Saturation : 0
Red Saturation : 0
Red Hue : 0
Parametric Lights : 0
Split Toning Balance : 0
Hue Adjustment Purple : 0
Dehaze : 0
Tone Curve Name : Linear
Exposure 2012 : 0.00
Saturation Adjustment Green : 0
Hue Adjustment Blue : 0
Crop Right : 1
Luminance Adjustment Purple : 0
Perspective Y : 0.00
Perspective Aspect : 0
Perspective Upright : Off
Parametric Shadows : 0
Post Crop Vignette Amount : 0
Blue Hue : 0
Clarity 2012 : +20
Grain Amount : 0
Auto Lateral CA : 0
Hue Adjustment Aqua : 0
Process Version : 11.0
Already Applied : True
Luminance Adjustment Blue : 0
Tone Map Strength : 0
Luminance Adjustment Red : 0
Incremental Temperature : 0
Override Look Vignette : False
Color Noise Reduction : 0
Hue Adjustment Magenta : 0
Green Hue : 0
Has Settings : True
Saturation Adjustment Red : 0
Hue Adjustment Red : 0
Hue Adjustment Orange : 0
Lens Manual Distortion Amount : 0
Green Saturation : 0
Crop Left : 0.063419
Defringe Purple Hue Lo : 30
Defringe Green Hue Hi : 60
Saturation Adjustment Purple : 0
Saturation Adjustment Magenta : 0
Luminance Adjustment Aqua : 0
Version : 12.4
Perspective X : 0.00
Defringe Green Hue Lo : 40
Defringe Purple Amount : 0
Crop Bottom : 0.940422
Luminance Adjustment Magenta : 0
Creator Tool : Adobe Photoshop Lightroom Classic 9.4 (Macintosh)
Preserved File Name : L1010028.DNG
Lateral Chromatic Aberration Correction Already Applied:
True
Lens : SUMMILUX 1:1.7/28 ASPH.
Distortion Correction Already Applied : True
Format : image/jpeg
Marked : True
Location : Erfweiler, Dahner Felsenland, Germany
Date Created : 2020:11:06 17:23:10+02:00
Tone Curve Blue : 0, 0, 255, 255
Tone Curve Green : 0, 0, 255, 255
Look Name :
Tone Curve PV2012 Red : 0, 0, 255, 255
Tone Curve PV2012 : 0, 0, 255, 255
Tone Curve : 0, 0, 255, 255
Tone Curve Red : 0, 0, 255, 255
Tone Curve PV2012 Green : 0, 0, 255, 255
Tone Curve PV2012 Blue : 0, 0, 255, 255
Creator : peterconzelmann@web.de
Title : late afternoon beam
Rights : Peter Conzelmann 2020
Description : bearbeitet und beschnitten.Abstieg vom Hegerturmblick
Image Width : 400
Image Height : 266
Bits Per Sample : 8
Color Components : 3
Aperture : 5.6
Image Size : 400x266
Megapixels : 0.106
Scale Factor To 35 mm Equivalent : 1.0
Shutter Speed : 1/80
Circle Of Confusion : 0.030 mm
Field Of View : 65.5 deg
Focal Length : 28.0 mm (35 mm equivalent: 28.0 mm)
Hyperfocal Distance : 4.66 m
Light Value : 8.0