Uber Exif Photo
Province-State : Georgia
Country-Primary Location Name : USA
Country-Primary Location Code : USA
Keywords : street, film, Leica, M6, 21mm, Tri-X, decade, century, 2010
By-line : Louie Favorite
Writer-Editor : LF
Caption-Abstract : October 1, 2010 - Atlanta, Georgia - I'm currently reediting everything IÕve shot with film over the past 10 years. This was shot in downtown Atlanta during 2011 on a Leica M6 with a 21mm lens and Tri-X film.
Copyright Notice : ©2020 Louie Favorite, Atlanta, Georgia, USA
Sub-location : Georgia State University Andrew Young School of Policy Studies
Copyright Flag : True
URL : louiefavorite.com
Photometric Interpretation : BlackIsZero
Make : Leica
Camera Model Name : M6
Orientation : Horizontal (normal)
Samples Per Pixel : 1
Software : Adobe Photoshop 22.1 (Macintosh)
Modify Date : 2020:12:16 15:18:34
Artist : Louie Favorite
Copyright : ©2020 Louie Favorite, Atlanta, Georgia, USA
Exposure Time : 1/250
F Number : 8.0
ISO : 400
Create Date : 2010:10:01 00:00:00
Shutter Speed Value : 1/250
Aperture Value : 8.0
Color Space : Uncalibrated
Exif Image Width : 2000
Exif Image Height : 2000
Lens Model : Leitz Elmarit-M 1:2.8/21
GPS Version ID : 2.2.0.0
Lens : Leitz Elmarit-M 1:2.8/21
Color Mode : Grayscale
ICC Profile Name : Gray Gamma 2.2
City : Atlanta
State : Georgia
Country : USA
Credit : Louie Favorite
Source : Plustek / OpticFilm 7600i / mm
Caption Writer : LF
Urgency : 5 (normal urgency)
Date Created : 2010:10:01 00:00:00
Creator Tool : SilverFast 8.8.0 r24 (Oct 29 2020) 30c8121 29.10.
Label : Typical
Rating : 0
Format : image/jpeg
Version : 13.1
Process Version : 11.0
Exposure 2012 : +0.30
Contrast 2012 : 0
Highlights 2012 : -41
Shadows 2012 : +49
Whites 2012 : -52
Blacks 2012 : 0
Texture : 0
Clarity 2012 : +12
Dehaze : +25
Parametric Shadows : 0
Parametric Darks : 0
Parametric Lights : 0
Parametric Highlights : 0
Parametric Shadow Split : 25
Parametric Midtone Split : 50
Parametric Highlight Split : 75
Sharpness : 0
Luminance Smoothing : 0
Split Toning Shadow Hue : 0
Split Toning Shadow Saturation : 0
Split Toning Highlight Hue : 0
Split Toning Highlight Saturation : 0
Split Toning Balance : 0
Color Grade Midtone Hue : 0
Color Grade Midtone Sat : 0
Color Grade Shadow Lum : 0
Color Grade Midtone Lum : 0
Color Grade Highlight Lum : 0
Color Grade Blending : 50
Color Grade Global Hue : 0
Color Grade Global Sat : 0
Color Grade Global Lum : 0
Lens Profile Enable : 0
Lens Manual Distortion Amount : 0
Vignette Amount : 0
Perspective Upright : Off
Perspective Vertical : 0
Perspective Horizontal : 0
Perspective Rotate : 0.0
Perspective Aspect : 0
Perspective Scale : 100
Perspective X : 0.00
Perspective Y : 0.00
Grain Amount : 0
Post Crop Vignette Amount : 0
Override Look Vignette : False
Tone Curve Name 2012 : Linear
Has Settings : True
Already Applied : True
Marked : True
Web Statement : louiefavorite.com
Country Code : USA
Location : Georgia State University Andrew Young School of Policy Studies
Color Class : 5 (Typical)
Tagged : No
Prefs : Tagged:0, ColorClass:5, Rating:0, FrameNum:-00001
PM Version : PM6
Supplemental Categories : original filename: street01 decade.tif, 3370 X 2258
Subject : street, film, Leica, M6, 21mm, Tri-X, decade, century, 2010
Description : October 1, 2010 - Atlanta, Georgia - I'm currently reediting everything I’ve shot with film over the past 10 years. This was shot in downtown Atlanta during 2011 on a Leica M6 with a 21mm lens and Tri-X film.
Creator : Louie Favorite
Rights : ©2020 Louie Favorite, Atlanta, Georgia, USA
Tone Curve PV2012 : 0, 0, 255, 255
Tone Curve PV2012 Red : 0, 0, 255, 255
Tone Curve PV2012 Green : 0, 0, 255, 255
Tone Curve PV2012 Blue : 0, 0, 255, 255
Usage Terms : ©2020 Louie Favorite, Atlanta, Georgia, USA
Creator City : Atlanta
Creator Region : Georgia
Creator Country : United States
Creator Work Telephone : 1+ 404-422-5511
Creator Work Email : lfavorite@mac.com
Creator Work URL : louiefavorite.com
Location Created Sublocation : Georgia State University Andrew Young School of Policy Studies
Location Created City : Atlanta
Location Created Province State : Georgia
Location Created Country Name : USA
Location Created Country Code : USA
Location Created World Region :
Location Shown Sublocation : Georgia State University Andrew Young School of Policy Studies
Location Shown City : Atlanta
Location Shown Province State : Georgia
Location Shown Country Name : USA
Location Shown Country Code : USA
Location Shown World Region :
Image Width : 400
Image Height : 400
Bits Per Sample : 8
Color Components : 1
Aperture : 8.0
Image Size : 400x400
Megapixels : 0.160
Shutter Speed : 1/250
Create Date : 2010:10:01 00:00:00-05:00
GPS Latitude : 33 deg 45' 15.24" N
GPS Longitude : 84 deg 23' 24.48" W
GPS Latitude Ref : North
GPS Longitude Ref : West
Date/Time Original : 2010:10:01 00:00:00-05:00
GPS Position : 33 deg 45' 15.24" N, 84 deg 23' 24.48" W
Light Value : 12.0