Uber Exif Photo
Make : LEICA CAMERA AG
Camera Model Name : D-Lux 7
Software : Adobe Photoshop Lightroom Classic 10.1.1 (Windows)
Modify Date : 2021:03:04 19:37:29
Exposure Time : 1/5000
F Number : 2.8
Exposure Program : Aperture-priority AE
ISO : 400
Date/Time Original : 2021:03:04 15:36:56
Create Date : 2021:03:04 15:36:56
Shutter Speed Value : 1/5000
Aperture Value : 2.8
Exposure Compensation : -0.33
Max Aperture Value : 2.8
Metering Mode : Multi-segment
Light Source : Unknown
Flash : Off, Did not fire
Focal Length : 33.7 mm
Color Space : sRGB
Sensing Method : One-chip color area
Scene Type : Directly photographed
Custom Rendered : Custom
Exposure Mode : Auto
White Balance : Auto
Digital Zoom Ratio : 0
Focal Length In 35mm Format : 75 mm
Scene Capture Type : Standard
Gain Control : High gain up
Contrast : Normal
Saturation : Normal
Sharpness : Normal
Profile Description : sRGB IEC61966-2.1
Creator Tool : Adobe Photoshop Lightroom Classic 10.1.1 (Windows)
Preserved File Name : L1012746.RWL
Date Created : 2021:03:04 15:36:56.364-08:00
Format : image/jpeg
Raw File Name : L1012746.RWL
Version : 13.1
Process Version : 11.0
Color Temperature : 5250
Tint : +24
Exposure 2012 : +0.29
Contrast 2012 : +6
Highlights 2012 : -79
Shadows 2012 : 0
Whites 2012 : 0
Blacks 2012 : +44
Texture : 0
Clarity 2012 : +15
Dehaze : 0
Parametric Shadows : 0
Parametric Darks : 0
Parametric Lights : 0
Parametric Highlights : 0
Parametric Shadow Split : 25
Parametric Midtone Split : 50
Parametric Highlight Split : 75
Sharpen Radius : +1.0
Sharpen Detail : 25
Sharpen Edge Masking : 0
Luminance Smoothing : 0
Color Noise Reduction : 25
Color Noise Reduction Detail : 50
Color Noise Reduction Smoothness : 50
Gray Mixer Red : +17
Gray Mixer Orange : -33
Gray Mixer Yellow : +13
Gray Mixer Green : 0
Gray Mixer Aqua : 0
Gray Mixer Blue : 0
Gray Mixer Purple : 0
Gray Mixer Magenta : 0
Split Toning Shadow Hue : 195
Split Toning Shadow Saturation : 40
Split Toning Highlight Hue : 42
Split Toning Highlight Saturation : 50
Split Toning Balance : +15
Color Grade Midtone Hue : 34
Color Grade Midtone Sat : 20
Color Grade Shadow Lum : -40
Color Grade Midtone Lum : 0
Color Grade Highlight Lum : -20
Color Grade Blending : 50
Color Grade Global Hue : 0
Color Grade Global Sat : 0
Color Grade Global Lum : 0
Auto Lateral CA : 0
Lens Profile Enable : 0
Lens Manual Distortion Amount : 0
Vignette Amount : 0
Perspective Upright : Off
Perspective Vertical : 0
Perspective Horizontal : 0
Perspective Rotate : 0.0
Perspective Aspect : 0
Perspective Scale : 100
Perspective X : 0.00
Perspective Y : 0.00
Grain Amount : 0
Post Crop Vignette Amount : 0
Shadow Tint : 0
Red Hue : 0
Red Saturation : 0
Green Hue : 0
Green Saturation : 0
Blue Hue : 0
Blue Saturation : 0
Override Look Vignette : False
Tone Curve Name 2012 : Linear
Camera Profile : Adobe Standard v2
Has Settings : True
Crop Top : 0.214807
Crop Left : 0.29772
Crop Bottom : 0.695718
Crop Right : 0.778631
Crop Angle : 0
Crop Constrain To Warp : 0
Has Crop : True
Already Applied : True
Lateral Chromatic Aberration Correction Already Applied:
True
Tone Curve PV2012 : 0, 0, 255, 255
Tone Curve PV2012 Red : 0, 0, 255, 255
Tone Curve PV2012 Green : 0, 0, 255, 255
Tone Curve PV2012 Blue : 0, 0, 255, 255
Look Name : B&W Red Filter
Look Amount : 1.000000
Look Cluster : Adobe
Look Supports Monochrome : false
Look Sort Name : B&W 55
Look Group : B&W
Look Parameters Version : 13.1
Look Parameters Process Version : 11.0
Look Parameters Contrast 2012 : +8
Look Parameters Clarity 2012 : +8
Look Parameters Gray Mixer Red : 0
Look Parameters Gray Mixer Orange : 0
Look Parameters Gray Mixer Yellow : 0
Look Parameters Gray Mixer Green : 0
Look Parameters Gray Mixer Aqua : 0
Look Parameters Gray Mixer Blue : 0
Look Parameters Gray Mixer Purple : 0
Look Parameters Gray Mixer Magenta : 0
Look Parameters Convert To Grayscale : True
Look Parameters Look Table : 4B8409B5C28DBB2A31062273667C5581
Look Parameters Tone Curve PV2012 : 0, 0, 29, 25, 128, 128, 192, 196, 255, 255
Look Parameters Tone Curve PV2012 Red : 0, 0, 255, 255
Look Parameters Tone Curve PV2012 Green : 0, 0, 255, 255
Look Parameters Tone Curve PV2012 Blue : 0, 0, 255, 255
Image Width : 400
Image Height : 533
Bits Per Sample : 8
Color Components : 3
Aperture : 2.8
Image Size : 400x533
Megapixels : 0.213
Scale Factor To 35 mm Equivalent : 2.2
Shutter Speed : 1/5000
Create Date : 2021:03:04 15:36:56.364-08:00
Date/Time Original : 2021:03:04 15:36:56.364-08:00
Modify Date : 2021:03:04 19:37:29-05:00
Circle Of Confusion : 0.014 mm
Field Of View : 27.0 deg
Focal Length : 33.7 mm (35 mm equivalent: 75.0 mm)
Hyperfocal Distance : 30.04 m
Light Value : 13.3