Uber Exif Photo
Object Name : Desfile de Llamadas 2020 - Barrio Sur - Montevideo - Uruguay |
Keywords : barrio sur, carnval, imm, jikatu, leica, leica q2, llamadas, montevideo, uruguay
By-line : Jimmy Baikovicius
By-line Title : Photographer
Copyright Notice : @ jikatu
Copyright Flag : True
URL : www.baikovicius.com
Make : LEICA CAMERA AG
Camera Model Name : LEICA Q2
Software : Adobe Photoshop Lightroom Classic 9.2 (Macintosh)
Modify Date : 2020:02:15 12:39:07
Artist : Jimmy Baikovicius
Copyright : @ jikatu
Exposure Time : 1/60
F Number : 2.2
Exposure Program : Manual
ISO : 800
Sensitivity Type : Standard Output Sensitivity
Standard Output Sensitivity : 800
Date/Time Original : 2020:02:15 01:06:13
Create Date : 2020:02:15 01:06:13
Shutter Speed Value : 1/60
Aperture Value : 2.2
Exposure Compensation : 0
Max Aperture Value : 1.7
Metering Mode : Spot
Light Source : Unknown
Flash : Off, Did not fire
Focal Length : 28.0 mm
Color Space : Uncalibrated
Sensing Method : One-chip color area
Custom Rendered : Normal
White Balance : Auto
Digital Zoom Ratio : 1
Focal Length In 35mm Format : 28 mm
Scene Capture Type : Standard
Contrast : Normal
Saturation : Normal
Sharpness : Normal
Serial Number : 5396227
Lens Info : 28mm f/1.53125-2.97265625
Lens Model : 28.0 mm f/1.7
Lens Serial Number : N/A
Profile Description : ProPhoto RGB
Rating : 4
Creator Tool : Adobe Photoshop Lightroom Classic 9.2 (Macintosh)
Lens : 28.0 mm f/1.7
Distortion Correction Already Applied : True
Lateral Chromatic Aberration Correction Already Applied:
True
Date Created : 2020:02:15 01:06:13-03:00
Authors Position : Photographer
Preserved File Name : L1030344.DNG
Format : image/jpeg
Marked : True
Web Statement : www.baikovicius.com
Raw File Name :
Version : 12.2
Process Version : 11.0
Color Temperature : 4200
Tint : +39
Luminance Smoothing : 0
Color Noise Reduction : 25
Vignette Amount : 0
Shadow Tint : 0
Red Hue : 0
Red Saturation : 0
Green Hue : 0
Green Saturation : 0
Blue Hue : 0
Blue Saturation : 0
Vibrance : +13
Hue Adjustment Red : 0
Hue Adjustment Orange : 0
Hue Adjustment Yellow : 0
Hue Adjustment Green : 0
Hue Adjustment Aqua : 0
Hue Adjustment Blue : 0
Hue Adjustment Purple : 0
Hue Adjustment Magenta : 0
Saturation Adjustment Red : 0
Saturation Adjustment Orange : 0
Saturation Adjustment Yellow : 0
Saturation Adjustment Green : 0
Saturation Adjustment Aqua : 0
Saturation Adjustment Blue : 0
Saturation Adjustment Purple : 0
Saturation Adjustment Magenta : 0
Luminance Adjustment Red : 0
Luminance Adjustment Orange : 0
Luminance Adjustment Yellow : 0
Luminance Adjustment Green : 0
Luminance Adjustment Aqua : 0
Luminance Adjustment Blue : 0
Luminance Adjustment Purple : 0
Luminance Adjustment Magenta : 0
Split Toning Shadow Hue : 0
Split Toning Shadow Saturation : 0
Split Toning Highlight Hue : 0
Split Toning Highlight Saturation : 0
Split Toning Balance : 0
Parametric Shadows : 0
Parametric Darks : 0
Parametric Lights : 0
Parametric Highlights : 0
Parametric Shadow Split : 25
Parametric Midtone Split : 50
Parametric Highlight Split : 75
Sharpen Radius : +1.0
Sharpen Detail : 25
Sharpen Edge Masking : 0
Post Crop Vignette Amount : 0
Grain Amount : 0
Color Noise Reduction Detail : 50
Color Noise Reduction Smoothness : 50
Lens Profile Enable : 0
Lens Manual Distortion Amount : 0
Perspective Vertical : 0
Perspective Horizontal : 0
Perspective Rotate : 0.0
Perspective Scale : 100
Perspective Aspect : 0
Perspective Upright : Off
Perspective X : 0.00
Perspective Y : 0.00
Auto Lateral CA : 0
Exposure 2012 : -0.05
Contrast 2012 : 0
Highlights 2012 : 0
Shadows 2012 : +100
Whites 2012 : +78
Blacks 2012 : -65
Clarity 2012 : +36
Defringe Purple Amount : 0
Defringe Purple Hue Lo : 30
Defringe Purple Hue Hi : 70
Defringe Green Amount : 0
Defringe Green Hue Lo : 40
Defringe Green Hue Hi : 60
Dehaze : +17
Texture : 0
Tone Map Strength : 0
Convert To Grayscale : False
Override Look Vignette : False
Tone Curve Name : Linear
Tone Curve Name 2012 : Linear
Camera Profile : Adobe Standard
Lens Profile Setup : LensDefaults
Has Settings : True
Crop Top : 0.233748
Crop Left : 0
Crop Bottom : 1
Crop Right : 1
Crop Angle : 0
Crop Constrain To Warp : 0
Has Crop : True
Already Applied : True
Creator : Jimmy Baikovicius
Title : Desfile de Llamadas 2020 - Barrio Sur - Montevideo - Uruguay |
Rights : @ jikatu
Subject : barrio sur, carnval, imm, jikatu, leica, leica q2, llamadas, montevideo, uruguay
Usage Terms : Attribution, Share Alike
Creator Work Email : jimmy@baikovicius.com
Creator Work URL : www.baikovicius.com
Tone Curve : 0, 0, 255, 255
Tone Curve Red : 0, 0, 255, 255
Tone Curve Green : 0, 0, 255, 255
Tone Curve Blue : 0, 0, 255, 255
Tone Curve PV2012 : 0, 0, 255, 255
Tone Curve PV2012 Red : 0, 0, 255, 255
Tone Curve PV2012 Green : 0, 0, 255, 255
Tone Curve PV2012 Blue : 0, 0, 255, 255
Gradient Based Corr Range Mask Version : +2, +2, +2, +2, +2, +2, +2, +2
Gradient Based Corr Range Mask Type : 0, 0, 0, 0, 0, 0, 0, 0
Gradient Based Corr Range Mask Color Amount : 0.500000, 0.500000, 0.500000, 0.500000, 0.500000, 0.500000, 0.500000, 0.500000
Gradient Based Corr Range Mask Lum Min : 0.000000, 0.000000, 0.000000, 0.000000, 0.000000, 0.000000, 0.000000, 0.000000
Gradient Based Corr Range Mask Lum Max : 1.000000, 1.000000, 1.000000, 1.000000, 1.000000, 1.000000, 1.000000, 1.000000
Gradient Based Corr Range Mask Lum Feather : 0.500000, 0.500000, 0.500000, 0.500000, 0.500000, 0.500000, 0.500000, 0.500000
Gradient Based Corr Range Mask Depth Min : 0.000000, 0.000000, 0.000000, 0.000000, 0.000000, 0.000000, 0.000000, 0.000000
Gradient Based Corr Range Mask Depth Max : 1.000000, 1.000000, 1.000000, 1.000000, 1.000000, 1.000000, 1.000000, 1.000000
Gradient Based Corr Range Mask Depth Feather : 0.500000, 0.500000, 0.500000, 0.500000, 0.500000, 0.500000, 0.500000, 0.500000
Gradient Based Corr What : Correction
Gradient Based Corr Amount : 1.000000
Gradient Based Corr Active : true
Gradient Based Corr Saturation : 0.000000
Gradient Based Corr Sharpness : 0.000000
Gradient Based Corr Brightness : 0.000000
Gradient Based Corr Toning Hue : 240.000000
Gradient Based Corr Toning Saturation : 0.000000
Gradient Based Corr Exposure 2012 : -0.309642
Gradient Based Corr Contrast 2012 : 0.000000
Gradient Based Corr Highlights 2012 : 0.000000
Gradient Based Corr Shadows 2012 : 0.000000
Gradient Based Corr Whites 2012 : 0.000000
Gradient Based Corr Blacks 2012 : 0.000000
Gradient Based Corr Clarity 2012 : 0.057641
Gradient Based Corr Dehaze : 0.000000
Gradient Based Corr Luminance Noise : 0.000000
Gradient Based Corr Moire : 0.000000
Gradient Based Corr Defringe : 0.000000
Gradient Based Corr Temperature : 0.000000
Gradient Based Corr Tint : 0.000000
Gradient Based Corr Texture : 0.000000
Gradient Based Corr Mask What : Mask/Gradient
Gradient Based Corr Mask Value : 1.000000
Gradient Based Corr Mask Zero X : 0.100427
Gradient Based Corr Mask Zero Y : 0.299875
Gradient Based Corr Mask Full X : 0.088188
Gradient Based Corr Mask Full Y : 0.243040
Circ Grad Based Corr What : Correction
Circ Grad Based Corr Amount : 1.000000
Circ Grad Based Corr Active : true
Circ Grad Based Corr Saturation : 0.000000
Circ Grad Based Corr Sharpness : 0.000000
Circ Grad Based Corr Brightness : 0.000000
Circ Grad Based Corr Toning Hue : 240.000000
Circ Grad Based Corr Toning Saturation : 0.000000
Circ Grad Based Corr Exposure 2012 : -0.100514
Circ Grad Based Corr Contrast 2012 : 0.000000
Circ Grad Based Corr Highlights 2012 : 0.000000
Circ Grad Based Corr Shadows 2012 : 0.000000
Circ Grad Based Corr Whites 2012 : 0.000000
Circ Grad Based Corr Blacks 2012 : 0.000000
Circ Grad Based Corr Clarity 2012 : 0.057641
Circ Grad Based Corr Dehaze : 0.000000
Circ Grad Based Corr Luminance Noise : 0.000000
Circ Grad Based Corr Moire : 0.000000
Circ Grad Based Corr Defringe : 0.000000
Circ Grad Based Corr Temperature : 0.000000
Circ Grad Based Corr Tint : 0.000000
Circ Grad Based Corr Texture : 0.000000
Circ Grad Based Corr Mask What : Mask/CircularGradient
Circ Grad Based Corr Mask Value : 1.000000
Circ Grad Based Corr Mask Top : 0.254356
Circ Grad Based Corr Mask Left : 0.316315
Circ Grad Based Corr Mask Bottom : 0.629997
Circ Grad Based Corr Mask Right : 0.601318
Circ Grad Based Corr Mask Angle : 0.000000
Circ Grad Based Corr Mask Midpoint : +50
Circ Grad Based Corr Mask Roundness : 0
Circ Grad Based Corr Mask Feather : +50
Circ Grad Based Corr Mask Flipped : true
Circ Grad Based Corr Mask Version : +2
Circ Grad Based Corr Range Mask Version : +2
Circ Grad Based Corr Range Mask Type : 0
Circ Grad Based Corr Range Mask Color Amount : 0.500000
Circ Grad Based Corr Range Mask Lum Min : 0.000000
Circ Grad Based Corr Range Mask Lum Max : 1.000000
Circ Grad Based Corr Range Mask Lum Feather : 0.500000
Circ Grad Based Corr Range Mask Depth Min : 0.000000
Circ Grad Based Corr Range Mask Depth Max : 1.000000
Circ Grad Based Corr Range Mask Depth Feather : 0.500000
Look Name : Adobe Neutral
Look Amount : 1.000000
Look Supports Amount : false
Look Supports Monochrome : false
Look Supports Output Referred : false
Look Group : Profiles
Look Parameters Version : 12.2
Look Parameters Process Version : 11.0
Look Parameters Convert To Grayscale : False
Look Parameters Camera Profile : Adobe Standard
Look Parameters Look Table : 7740BB918B2F6D93D7B95A4DBB78DB23
Look Parameters Tone Curve PV2012 : 0, 0, 16, 24, 64, 72, 128, 128, 192, 176, 244, 234, 255, 255
Look Parameters Tone Curve PV2012 Red : 0, 0, 255, 255
Look Parameters Tone Curve PV2012 Green : 0, 0, 255, 255
Look Parameters Tone Curve PV2012 Blue : 0, 0, 255, 255
Image Width : 400
Image Height : 204
Bits Per Sample : 8
Color Components : 3
Aperture : 2.2
Image Size : 400x204
Megapixels : 0.082
Scale Factor To 35 mm Equivalent : 1.0
Shutter Speed : 1/60
Create Date : 2020:02:15 01:06:13-03:00
Date/Time Original : 2020:02:15 01:06:13-03:00
Modify Date : 2020:02:15 12:39:07-03:00
Circle Of Confusion : 0.030 mm
Field Of View : 65.5 deg
Focal Length : 28.0 mm (35 mm equivalent: 28.0 mm)
Hyperfocal Distance : 11.86 m
Light Value : 5.2
Lens ID : 28.0mm f/1.7