Uber Exif Photo
By-line : JOHN ANGARONI
Copyright Notice : JOHN ANGARONI
Photometric Interpretation : RGB
Make : FUJIFILM
Camera Model Name : X-H1
Orientation : Horizontal (normal)
Samples Per Pixel : 3
Software : Adobe Photoshop 22.4 (Windows)
Modify Date : 2021:06:10 20:27:53
Artist : JOHN ANGARONI
Copyright : JOHN ANGARONI
Exposure Time : 26
F Number : 16.0
Exposure Program : Aperture-priority AE
ISO : 250
Sensitivity Type : Standard Output Sensitivity
Date/Time Original : 2021:06:10 15:06:37
Create Date : 2021:06:10 15:06:37
Shutter Speed Value : 26
Aperture Value : 16.0
Brightness Value : -3.71
Exposure Compensation : +0.33
Max Aperture Value : 2.8
Metering Mode : Multi-segment
Light Source : Unknown
Flash : No Flash
Focal Length : 55.0 mm
Color Space : sRGB
Exif Image Width : 1800
Exif Image Height : 1200
Sensing Method : One-chip color area
Scene Type : Directly photographed
Custom Rendered : Normal
Exposure Mode : Auto
White Balance : Auto
Focal Length In 35mm Format : 83 mm
Scene Capture Type : Standard
Sharpness : Hard
Subject Distance Range : Unknown
Serial Number : 82A52229
Lens Info : 16-55mm f/2.8
Lens Make : FUJIFILM
Lens Model : XF16-55mmF2.8 R LM WR
Lens Serial Number : 55A08516
Profile Description : sRGB IEC61966-2.1
Creator Tool : Adobe Photoshop Lightroom Classic 10.3 (Windows)
Fuji Rating Already Applied : True
Lens : XF16-55mmF2.8 R LM WR
Distortion Correction Already Applied : True
Lateral Chromatic Aberration Correction Already Applied:
True
Vignette Correction Already Applied : True
Format : image/jpeg
Date Created : 2021:06:10 15:06:37
Color Mode : RGB
ICC Profile Name : sRGB IEC61966-2.1
Preserved File Name : JRA14453.RAF
Raw File Name : JRA14453.RAF
Version : 13.3
Process Version : 11.0
Color Temperature : 6600
Tint : +18
Exposure 2012 : 0.00
Contrast 2012 : 0
Highlights 2012 : -47
Shadows 2012 : +26
Whites 2012 : -35
Blacks 2012 : -12
Texture : 0
Clarity 2012 : 0
Dehaze : 0
Parametric Shadows : 0
Parametric Darks : 0
Parametric Lights : +20
Parametric Highlights : 0
Parametric Shadow Split : 25
Parametric Midtone Split : 50
Parametric Highlight Split : 75
Sharpen Radius : +1.0
Sharpen Detail : 25
Sharpen Edge Masking : 0
Luminance Smoothing : 0
Color Noise Reduction : 25
Color Noise Reduction Detail : 50
Color Noise Reduction Smoothness : 50
Split Toning Shadow Hue : 0
Split Toning Shadow Saturation : 0
Split Toning Highlight Hue : 0
Split Toning Highlight Saturation : 0
Split Toning Balance : 0
Color Grade Midtone Hue : 0
Color Grade Midtone Sat : 0
Color Grade Shadow Lum : 0
Color Grade Midtone Lum : 0
Color Grade Highlight Lum : 0
Color Grade Blending : 50
Color Grade Global Hue : 0
Color Grade Global Sat : 0
Color Grade Global Lum : 0
Auto Lateral CA : 1
Lens Profile Enable : 0
Lens Manual Distortion Amount : 0
Vignette Amount : 0
Perspective Upright : Off
Perspective Vertical : 0
Perspective Horizontal : 0
Perspective Rotate : 0.0
Perspective Aspect : 0
Perspective Scale : 100
Perspective X : 0.00
Perspective Y : 0.00
Grain Amount : 0
Post Crop Vignette Amount : 0
Shadow Tint : 0
Red Hue : 0
Red Saturation : 0
Green Hue : 0
Green Saturation : 0
Blue Hue : 0
Blue Saturation : 0
Convert To Grayscale : True
Override Look Vignette : False
Tone Curve Name 2012 : Linear
Camera Profile : Camera ACROS+R FILTER
Has Settings : True
Crop Top : 0
Crop Left : 0
Crop Bottom : 1
Crop Right : 1
Crop Angle : 0
Crop Constrain To Warp : 0
Has Crop : False
Already Applied : True
Creator : JOHN ANGARONI
Rights : JOHN ANGARONI
Tone Curve PV2012 : 0, 0, 255, 255
Tone Curve PV2012 Red : 0, 0, 255, 255
Tone Curve PV2012 Green : 0, 0, 255, 255
Tone Curve PV2012 Blue : 0, 0, 255, 255
Paint Correction Range Mask Version : +2, +2, +2
Paint Correction Range Mask Type : 0, 0, 0
Paint Correction Range Mask Color Amount : 0.500000, 0.500000, 0.500000
Paint Correction Range Mask Lum Min : 0.000000, 0.000000, 0.000000
Paint Correction Range Mask Lum Max : 1.000000, 1.000000, 1.000000
Paint Correction Range Mask Lum Feather : 0.500000, 0.500000, 0.500000
Paint Correction Range Mask Depth Min : 0.000000, 0.000000, 0.000000
Paint Correction Range Mask Depth Max : 1.000000, 1.000000, 1.000000
Paint Correction Range Mask Depth Feather : 0.500000, 0.500000, 0.500000
Paint Correction What : Correction
Paint Correction Amount : 1.000000
Paint Correction Active : true
Paint Correction Hue : 0.000000
Paint Correction Saturation : 0.000000
Paint Correction Sharpness : 0.000000
Paint Correction Brightness : 0.000000
Paint Correction Toning Hue : 0.000000
Paint Correction Toning Saturation : 0.000000
Paint Correction Exposure 2012 : 0.092500
Paint Correction Contrast 2012 : 0.000000
Paint Correction Highlights 2012 : 0.445380
Paint Correction Shadows 2012 : 0.000000
Paint Correction Whites 2012 : 0.394960
Paint Correction Blacks 2012 : 0.000000
Paint Correction Clarity 2012 : 0.075630
Paint Correction Dehaze : 0.000000
Paint Correction Luminance Noise : 0.000000
Paint Correction Moire : 0.000000
Paint Correction Defringe : 0.000000
Paint Correction Temperature : 0.000000
Paint Correction Tint : 0.000000
Paint Correction Texture : 0.075630
Paint Correction Mask What : Mask/Paint
Paint Correction Mask Value : 0.713000
Paint Correction Mask Radius : 0.024738
Paint Correction Mask Flow : 1.000000
Paint Correction Mask Center Weight : 0.129896
Image Width : 400
Image Height : 267
Bits Per Sample : 8
Color Components : 1
Aperture : 16.0
Image Size : 400x267
Megapixels : 0.107
Scale Factor To 35 mm Equivalent : 1.5
Shutter Speed : 26
Modify Date : 2021:06:10 20:27:53-04:00
Circle Of Confusion : 0.020 mm
Field Of View : 24.5 deg
Focal Length : 55.0 mm (35 mm equivalent: 83.0 mm)
Hyperfocal Distance : 9.50 m
Light Value : 2.0
Lens ID : XF16-55mm F2.8 R LM WR