Uber Exif Photo
Photometric Interpretation : RGB
Make : LEICA CAMERA AG
Camera Model Name : LEICA X VARIO (Typ 107)
Orientation : Horizontal (normal)
Samples Per Pixel : 3
Software : Adobe Photoshop 22.4 (Windows)
Modify Date : 2021:06:26 19:05:14
Exposure Time : 1/200
F Number : 8.0
Exposure Program : Aperture-priority AE
ISO : 200
Date/Time Original : 2021:06:25 13:39:07
Create Date : 2021:06:25 13:39:07
Shutter Speed Value : 1/200
Aperture Value : 8.0
Exposure Compensation : -0.3
Max Aperture Value : 3.5
Metering Mode : Multi-segment
Light Source : Unknown
Flash : Off, Did not fire
Focal Length : 46.0 mm
Color Space : sRGB
Exif Image Width : 1800
Exif Image Height : 1200
Sensing Method : One-chip color area
Custom Rendered : Normal
White Balance : Auto
Digital Zoom Ratio : 1
Focal Length In 35mm Format : 70 mm
Scene Capture Type : Landscape
Contrast : Normal
Saturation : Normal
Sharpness : Normal
Serial Number : 000004704722
Lens Info : 18-46mm f/3.5-6.4
Lens Model : 18.0-46.0 mm f/3.5-6.4
Profile Description : sRGB IEC61966-2.1
Creator Tool : Adobe Photoshop Lightroom Classic 10.3 (Windows)
Lens : 18.0-46.0 mm f/3.5-6.4
Distortion Correction Already Applied : True
Lateral Chromatic Aberration Correction Already Applied:
True
Date Created : 2021:06:25 13:39:07
Color Mode : RGB
ICC Profile Name : sRGB IEC61966-2.1
Preserved File Name : L9610952.DNG
Format : image/jpeg
Raw File Name :
Version : 13.3
Process Version : 11.0
Color Temperature : 5400
Tint : +19
Exposure 2012 : 0.00
Contrast 2012 : 0
Highlights 2012 : -47
Shadows 2012 : -23
Whites 2012 : -39
Blacks 2012 : -46
Texture : +14
Clarity 2012 : +14
Dehaze : 0
Vibrance : +16
Parametric Shadows : 0
Parametric Darks : 0
Parametric Lights : 0
Parametric Highlights : 0
Parametric Shadow Split : 25
Parametric Midtone Split : 50
Parametric Highlight Split : 75
Sharpen Radius : +1.0
Sharpen Detail : 25
Sharpen Edge Masking : 0
Luminance Smoothing : 0
Color Noise Reduction : 25
Color Noise Reduction Detail : 50
Color Noise Reduction Smoothness : 50
Hue Adjustment Red : 0
Hue Adjustment Orange : 0
Hue Adjustment Yellow : 0
Hue Adjustment Green : 0
Hue Adjustment Aqua : 0
Hue Adjustment Blue : 0
Hue Adjustment Purple : 0
Hue Adjustment Magenta : 0
Saturation Adjustment Red : +57
Saturation Adjustment Orange : +33
Saturation Adjustment Yellow : +57
Saturation Adjustment Green : +57
Saturation Adjustment Aqua : 0
Saturation Adjustment Blue : 0
Saturation Adjustment Purple : 0
Saturation Adjustment Magenta : 0
Luminance Adjustment Red : 0
Luminance Adjustment Orange : 0
Luminance Adjustment Yellow : 0
Luminance Adjustment Green : 0
Luminance Adjustment Aqua : 0
Luminance Adjustment Blue : 0
Luminance Adjustment Purple : 0
Luminance Adjustment Magenta : 0
Split Toning Shadow Hue : 0
Split Toning Shadow Saturation : 0
Split Toning Highlight Hue : 0
Split Toning Highlight Saturation : 0
Split Toning Balance : 0
Color Grade Midtone Hue : 0
Color Grade Midtone Sat : 0
Color Grade Shadow Lum : 0
Color Grade Midtone Lum : 0
Color Grade Highlight Lum : 0
Color Grade Blending : 50
Color Grade Global Hue : 0
Color Grade Global Sat : 0
Color Grade Global Lum : 0
Auto Lateral CA : 1
Lens Profile Enable : 0
Lens Manual Distortion Amount : 0
Vignette Amount : 0
Defringe Purple Amount : 0
Defringe Purple Hue Lo : 30
Defringe Purple Hue Hi : 70
Defringe Green Amount : 0
Defringe Green Hue Lo : 40
Defringe Green Hue Hi : 60
Perspective Upright : Off
Perspective Vertical : 0
Perspective Horizontal : 0
Perspective Rotate : 0.0
Perspective Aspect : 0
Perspective Scale : 100
Perspective X : 0.00
Perspective Y : 0.00
Grain Amount : 0
Post Crop Vignette Amount : 0
Shadow Tint : 0
Red Hue : 0
Red Saturation : 0
Green Hue : 0
Green Saturation : 0
Blue Hue : 0
Blue Saturation : 0
Override Look Vignette : False
Tone Curve Name 2012 : Linear
Camera Profile : Adobe Standard
Has Settings : True
Crop Top : 0.082353
Crop Left : 0.047136
Crop Bottom : 0.964706
Crop Right : 0.929489
Crop Angle : 0
Crop Constrain To Warp : 0
Has Crop : True
Already Applied : True
Tone Curve PV2012 : 0, 0, 255, 255
Tone Curve PV2012 Red : 0, 0, 255, 255
Tone Curve PV2012 Green : 0, 0, 255, 255
Tone Curve PV2012 Blue : 0, 0, 255, 255
Look Name : Adobe Landscape
Look Amount : 1.000000
Look Supports Amount : false
Look Supports Monochrome : false
Look Supports Output Referred : false
Look Group : Profiles
Look Parameters Version : 13.3
Look Parameters Process Version : 11.0
Look Parameters Highlights 2012 : -12
Look Parameters Shadows 2012 : +12
Look Parameters Clarity 2012 : +10
Look Parameters Convert To Grayscale : False
Look Parameters Camera Profile : Adobe Standard
Look Parameters Look Table : 0B3BFB5CFB7DBF7FF175E98F24D316B0
Look Parameters Tone Curve PV2012 : 0, 0, 64, 60, 128, 128, 192, 196, 255, 255
Image Width : 400
Image Height : 267
Bits Per Sample : 8
Color Components : 3
Aperture : 8.0
Image Size : 400x267
Megapixels : 0.107
Scale Factor To 35 mm Equivalent : 1.5
Shutter Speed : 1/200
Modify Date : 2021:06:26 19:05:14-04:00
Circle Of Confusion : 0.020 mm
Field Of View : 28.8 deg
Focal Length : 46.0 mm (35 mm equivalent: 70.0 mm)
Hyperfocal Distance : 13.40 m
Light Value : 12.6
Lens ID : 18.0-46.0mm f/3.5-6.4