Uber Exif Photo
Object Name : Pax - Kiss of Peace
By-line : peterconzelmann@web.de
Sub-location : Sint-Janshospitaal, Brugge, Belg
Copyright Notice : Peter Conzelmann 2015
Copyright Flag : True
Make : Leica Camera AG
Camera Model Name : M9 Digital Camera
Software : Adobe Photoshop Lightroom Classic 9.4 (Macintosh)
Modify Date : 2021:04:12 14:58:58
Artist : peterconzelmann@web.de
Copyright : Peter Conzelmann 2015
Exposure Time : 1/125
F Number : 4.8
Exposure Program : Aperture-priority AE
ISO : 160
Date/Time Original : 2015:12:28 14:14:03
Create Date : 2015:12:28 14:14:03
Shutter Speed Value : 1/125
Aperture Value : 4.8
Exposure Compensation : 0
Max Aperture Value : 2.0
Metering Mode : Center-weighted average
Light Source : Unknown
Flash : No Flash
Focal Length : 35.0 mm
Color Space : sRGB
Scene Type : Directly photographed
Exposure Mode : Manual
White Balance : Auto
Digital Zoom Ratio : 0
Focal Length In 35mm Format : 35 mm
Scene Capture Type : Standard
Serial Number : 4208006
Lens Model : Leica Summicron-M 35mm f/2 (IV)
Profile Description : sRGB IEC61966-2.1
Creator Tool : Adobe Photoshop Lightroom Classic 9.4 (Macintosh)
Preserved File Name : L1003243.DNG
Lens : Leica Summicron-M 35mm f/2 (IV)
Format : image/jpeg
Date Created : 2015:12:28 14:14:03
Location : Sint-Janshospitaal, Brugge, Belgique
Marked : True
Raw File Name :
Version : 12.4
Process Version : 11.0
Incremental Temperature : 0
Incremental Tint : 0
Saturation : +42
Sharpness : 0
Luminance Smoothing : 0
Color Noise Reduction : 0
Vignette Amount : 0
Shadow Tint : 0
Red Hue : 0
Red Saturation : 0
Green Hue : 0
Green Saturation : 0
Blue Hue : 0
Blue Saturation : 0
Vibrance : +28
Hue Adjustment Red : 0
Hue Adjustment Orange : 0
Hue Adjustment Yellow : 0
Hue Adjustment Green : 0
Hue Adjustment Aqua : 0
Hue Adjustment Blue : 0
Hue Adjustment Purple : 0
Hue Adjustment Magenta : 0
Saturation Adjustment Red : -25
Saturation Adjustment Orange : -23
Saturation Adjustment Yellow : 0
Saturation Adjustment Green : -31
Saturation Adjustment Aqua : 0
Saturation Adjustment Blue : 0
Saturation Adjustment Purple : 0
Saturation Adjustment Magenta : 0
Luminance Adjustment Red : 0
Luminance Adjustment Orange : 0
Luminance Adjustment Yellow : 0
Luminance Adjustment Green : 0
Luminance Adjustment Aqua : +20
Luminance Adjustment Blue : +20
Luminance Adjustment Purple : 0
Luminance Adjustment Magenta : 0
Split Toning Shadow Hue : 0
Split Toning Shadow Saturation : 0
Split Toning Highlight Hue : 0
Split Toning Highlight Saturation : 0
Split Toning Balance : 0
Parametric Shadows : +10
Parametric Darks : +14
Parametric Lights : -39
Parametric Highlights : -45
Parametric Shadow Split : 25
Parametric Midtone Split : 50
Parametric Highlight Split : 75
Sharpen Radius : +1.0
Sharpen Detail : 25
Sharpen Edge Masking : 0
Post Crop Vignette Amount : 0
Grain Amount : 0
Lens Profile Enable : 0
Lens Manual Distortion Amount : 0
Perspective Vertical : 0
Perspective Horizontal : 0
Perspective Rotate : +0.3
Perspective Scale : 100
Perspective Aspect : 0
Perspective Upright : Off
Perspective X : 0.00
Perspective Y : 0.00
Auto Lateral CA : 0
Exposure 2012 : +0.35
Contrast 2012 : +41
Highlights 2012 : -100
Shadows 2012 : +87
Whites 2012 : -19
Blacks 2012 : +16
Clarity 2012 : +26
Defringe Purple Amount : 0
Defringe Purple Hue Lo : 30
Defringe Purple Hue Hi : 70
Defringe Green Amount : 0
Defringe Green Hue Lo : 40
Defringe Green Hue Hi : 60
Dehaze : +47
Texture : +27
Tone Map Strength : 0
Convert To Grayscale : False
Override Look Vignette : False
Tone Curve Name : Linear
Tone Curve Name 2012 : Linear
Camera Profile : Embedded
Lens Profile Setup : LensDefaults
Has Settings : True
Crop Top : 0.160872
Crop Left : 0.400358
Crop Bottom : 0.532357
Crop Right : 0.623293
Crop Angle : 0
Crop Constrain To Warp : 0
Has Crop : True
Already Applied : True
Creator : peterconzelmann@web.de
Title : Pax - Kiss of Peace
Rights : Peter Conzelmann 2015
Tone Curve : 0, 0, 255, 255
Tone Curve Red : 0, 0, 255, 255
Tone Curve Green : 0, 0, 255, 255
Tone Curve Blue : 0, 0, 255, 255
Tone Curve PV2012 : 0, 0, 255, 255
Tone Curve PV2012 Red : 0, 0, 255, 255
Tone Curve PV2012 Green : 0, 0, 255, 255
Tone Curve PV2012 Blue : 0, 0, 255, 255
Look Name :
Image Width : 400
Image Height : 503
Bits Per Sample : 8
Color Components : 3
Aperture : 4.8
Image Size : 400x503
Megapixels : 0.201
Scale Factor To 35 mm Equivalent : 1.0
Shutter Speed : 1/125
Modify Date : 2021:04:12 14:58:58+02:00
Circle Of Confusion : 0.030 mm
Field Of View : 54.4 deg
Focal Length : 35.0 mm (35 mm equivalent: 35.0 mm)
Hyperfocal Distance : 8.49 m
Light Value : 10.8
Lens ID : Summicron-M 35mm f/2 (IV)