Uber Exif Photo
Object Name : freshly polished
By-line : peterconzelmann@web.de
Sub-location : Cologne, Germany
Copyright Notice : Peter Conzelmann 2016
Copyright Flag : True
Make : Leica Camera AG
Camera Model Name : M9 Digital Camera
Software : Adobe Photoshop Lightroom Classic 9.4 (Macintosh)
Modify Date : 2021:06:20 12:07:46
Artist : peterconzelmann@web.de
Copyright : Peter Conzelmann 2016
Exposure Time : 1/2000
F Number : 2.4
Exposure Program : Manual
ISO : 200
Date/Time Original : 2016:09:22 15:00:08
Create Date : 2016:09:22 15:00:08
Shutter Speed Value : 1/2000
Aperture Value : 2.4
Exposure Compensation : 0
Max Aperture Value : 2.0
Metering Mode : Center-weighted average
Light Source : Unknown
Flash : No Flash
Focal Length : 35.0 mm
Color Space : sRGB
Exif Image Width : 2645
Exif Image Height : 1835
Scene Type : Directly photographed
Exposure Mode : Manual
White Balance : Auto
Digital Zoom Ratio : 0
Focal Length In 35mm Format : 35 mm
Scene Capture Type : Standard
Serial Number : 4208006
Lens Model : Leica Summicron-M 35mm f/2 (IV)
Profile Description : sRGB IEC61966-2.1
Location : Cologne, Germany
Lens : Leica Summicron-M 35mm f/2 (IV)
Creator : peterconzelmann@web.de
Format : image/jpeg
Rights : Peter Conzelmann 2016
Title : freshly polished
Date Created : 2016:09:22 15:00:08
Creator Tool : Adobe Photoshop Lightroom Classic 9.4 (Macintosh)
Preserved File Name : L1004005.DNG
Marked : True
Already Applied : True
Auto Lateral CA : 0
Blacks 2012 : 0
Blue Hue : 0
Blue Saturation : 0
Camera Profile : Embedded
Clarity 2012 : +27
Color Noise Reduction : 0
Contrast 2012 : +6
Convert To Grayscale : False
Crop Angle : 0
Crop Bottom : 1
Crop Constrain To Warp : 0
Crop Left : 0.05042
Crop Right : 1
Crop Top : 0.102879
Defringe Green Amount : 0
Defringe Green Hue Hi : 60
Defringe Green Hue Lo : 40
Defringe Purple Amount : 0
Defringe Purple Hue Hi : 70
Defringe Purple Hue Lo : 30
Dehaze : +64
Exposure 2012 : +0.35
Grain Amount : 0
Green Hue : 0
Green Saturation : 0
Has Crop : True
Has Settings : True
Highlights 2012 : 0
Hue Adjustment Aqua : 0
Hue Adjustment Blue : 0
Hue Adjustment Green : 0
Hue Adjustment Magenta : 0
Hue Adjustment Orange : 0
Hue Adjustment Purple : 0
Hue Adjustment Red : 0
Hue Adjustment Yellow : 0
Incremental Temperature : 0
Incremental Tint : 0
Lens Manual Distortion Amount : 0
Lens Profile Enable : 0
Lens Profile Setup : LensDefaults
Look Name :
Luminance Adjustment Aqua : 0
Luminance Adjustment Blue : +31
Luminance Adjustment Green : 0
Luminance Adjustment Magenta : 0
Luminance Adjustment Orange : 0
Luminance Adjustment Purple : 0
Luminance Adjustment Red : 0
Luminance Adjustment Yellow : 0
Luminance Noise Reduction Contrast : 0
Luminance Noise Reduction Detail : 50
Luminance Smoothing : 44
Override Look Vignette : False
Parametric Darks : +26
Parametric Highlight Split : 75
Parametric Highlights : 0
Parametric Lights : 0
Parametric Midtone Split : 50
Parametric Shadow Split : 25
Parametric Shadows : 0
Perspective Aspect : 0
Perspective Horizontal : 0
Perspective Rotate : 0.0
Perspective Scale : 100
Perspective Upright : Off
Perspective Vertical : 0
Perspective X : 0.00
Perspective Y : 0.00
Post Crop Vignette Amount : 0
Process Version : 11.0
Raw File Name :
Red Hue : 0
Red Saturation : 0
Saturation : 0
Saturation Adjustment Aqua : -28
Saturation Adjustment Blue : +33
Saturation Adjustment Green : -28
Saturation Adjustment Magenta : 0
Saturation Adjustment Orange : 0
Saturation Adjustment Purple : 0
Saturation Adjustment Red : 0
Saturation Adjustment Yellow : -24
Shadow Tint : 0
Shadows 2012 : +17
Sharpen Detail : 25
Sharpen Edge Masking : 16
Sharpen Radius : +1.0
Sharpness : 37
Split Toning Balance : 0
Split Toning Highlight Hue : 0
Split Toning Highlight Saturation : 0
Split Toning Shadow Hue : 0
Split Toning Shadow Saturation : 0
Texture : 0
Tone Curve : 0, 0, 255, 255
Tone Curve Blue : 0, 0, 255, 255
Tone Curve Green : 0, 0, 255, 255
Tone Curve Name : Linear
Tone Curve Name 2012 : Linear
Tone Curve PV2012 : 0, 0, 255, 255
Tone Curve PV2012 Blue : 0, 0, 255, 255
Tone Curve PV2012 Green : 0, 0, 255, 255
Tone Curve PV2012 Red : 0, 0, 255, 255
Tone Curve Red : 0, 0, 255, 255
Tone Map Strength : 0
Version : 12.4
Vibrance : 0
Vignette Amount : 0
Whites 2012 : 0
Image Width : 400
Image Height : 278
Bits Per Sample : 8
Color Components : 3
Aperture : 2.4
Image Size : 400x278
Megapixels : 0.111
Scale Factor To 35 mm Equivalent : 1.0
Shutter Speed : 1/2000
Modify Date : 2021:06:20 12:07:46+02:00
Circle Of Confusion : 0.030 mm
Field Of View : 54.4 deg
Focal Length : 35.0 mm (35 mm equivalent: 35.0 mm)
Hyperfocal Distance : 16.99 m
Light Value : 12.5
Lens ID : Summicron-M 35mm f/2 (IV)