Uber Exif Photo
Make : Canon
Camera Model Name : Canon EOS 5D
Orientation : Horizontal (normal)
Software : Adobe Photoshop CC 2019 (Windows)
Modify Date : 2018:12:05 13:33:52
Exposure Time : 1/125
F Number : 5.0
Exposure Program : Program AE
ISO : 100
Date/Time Original : 2017:09:11 13:14:11
Create Date : 2017:09:11 13:14:11
Shutter Speed Value : 1/125
Aperture Value : 5.0
Exposure Compensation : -4/3
Max Aperture Value : 4.6
Metering Mode : Multi-segment
Flash : Off, Did not fire
Focal Length : 105.0 mm
Color Space : Uncalibrated
Exif Image Width : 5600
Exif Image Height : 4144
Custom Rendered : Normal
Exposure Mode : Auto
White Balance : Auto
Scene Capture Type : Standard
Serial Number : 1921201341
Lens Info : 28-105mm f/?
Lens Model : EF28-105mm f/3.5-4.5 USM
Profile Description : Adobe RGB (1998)
Lens : EF28-105mm f/3.5-4.5 USM
Image Number : 3
Flash Compensation : 0
Firmware : 1.1.0
Rating : 0
Creator Tool : Adobe Photoshop CS6 (Windows)
Date Created : 2017:09:11 13:14:11
Color Mode : RGB
ICC Profile Name : Adobe RGB (1998)
Format : image/jpeg
Photographic Sensitivity : 100
Version : 11.0
Process Version : 11.0
Incremental Temperature : 0
Incremental Tint : 0
Saturation : 0
Sharpness : 0
Luminance Smoothing : 0
Color Noise Reduction : 0
Vignette Amount : 0
Shadow Tint : 0
Red Hue : 0
Red Saturation : 0
Green Hue : 0
Green Saturation : 0
Blue Hue : 0
Blue Saturation : 0
Vibrance : +18
Hue Adjustment Red : 0
Hue Adjustment Orange : 0
Hue Adjustment Yellow : 0
Hue Adjustment Green : 0
Hue Adjustment Aqua : 0
Hue Adjustment Blue : 0
Hue Adjustment Purple : 0
Hue Adjustment Magenta : 0
Saturation Adjustment Red : 0
Saturation Adjustment Orange : 0
Saturation Adjustment Yellow : 0
Saturation Adjustment Green : 0
Saturation Adjustment Aqua : 0
Saturation Adjustment Blue : 0
Saturation Adjustment Purple : 0
Saturation Adjustment Magenta : 0
Luminance Adjustment Red : 0
Luminance Adjustment Orange : 0
Luminance Adjustment Yellow : 0
Luminance Adjustment Green : 0
Luminance Adjustment Aqua : 0
Luminance Adjustment Blue : 0
Luminance Adjustment Purple : 0
Luminance Adjustment Magenta : 0
Split Toning Shadow Hue : 0
Split Toning Shadow Saturation : 0
Split Toning Highlight Hue : 0
Split Toning Highlight Saturation : 0
Split Toning Balance : 0
Parametric Shadows : 0
Parametric Darks : 0
Parametric Lights : 0
Parametric Highlights : 0
Parametric Shadow Split : 25
Parametric Midtone Split : 50
Parametric Highlight Split : 75
Sharpen Radius : +1.0
Sharpen Detail : 25
Sharpen Edge Masking : 0
Post Crop Vignette Amount : 0
Grain Amount : 0
Lens Profile Enable : 0
Lens Manual Distortion Amount : 0
Perspective Vertical : 0
Perspective Horizontal : 0
Perspective Rotate : 0.0
Perspective Scale : 100
Perspective Aspect : 0
Perspective Upright : Off
Perspective X : 0.00
Perspective Y : 0.00
Auto Lateral CA : 0
Exposure 2012 : 0.00
Contrast 2012 : 0
Highlights 2012 : 0
Shadows 2012 : 0
Whites 2012 : 0
Blacks 2012 : 0
Clarity 2012 : +23
Defringe Purple Amount : 0
Defringe Purple Hue Lo : 30
Defringe Purple Hue Hi : 70
Defringe Green Amount : 0
Defringe Green Hue Lo : 40
Defringe Green Hue Hi : 60
Dehaze : +20
Tone Map Strength : 0
Convert To Grayscale : False
Override Look Vignette : False
Tone Curve Name : Linear
Tone Curve Name 2012 : Linear
Camera Profile : Embedded
Lens Profile Setup : LensDefaults
Has Settings : True
Has Crop : False
Already Applied : True
Raw File Name : IMG_7818.jpg
Tone Curve : 0, 0, 255, 255
Tone Curve Red : 0, 0, 255, 255
Tone Curve Green : 0, 0, 255, 255
Tone Curve Blue : 0, 0, 255, 255
Tone Curve PV2012 : 0, 0, 255, 255
Tone Curve PV2012 Red : 0, 0, 255, 255
Tone Curve PV2012 Green : 0, 0, 255, 255
Tone Curve PV2012 Blue : 0, 0, 255, 255
Image Width : 400
Image Height : 296
Bits Per Sample : 8
Color Components : 3
Aperture : 5.0
Image Size : 400x296
Megapixels : 0.118
Scale Factor To 35 mm Equivalent : 1.0
Shutter Speed : 1/125
Circle Of Confusion : 0.030 mm
Field Of View : 19.4 deg
Focal Length : 105.0 mm (35 mm equivalent: 105.2 mm)
Hyperfocal Distance : 73.54 m
Light Value : 11.6
Lens ID : Canon EF 28-105mm f/3.5-4.5 USM