Uber Exif Photo
Photometric Interpretation : RGB
Orientation : Horizontal (normal)
Samples Per Pixel : 3
Planar Configuration : Chunky
Software : Adobe Photoshop 22.2 (Windows)
Modify Date : 2021:02:17 17:54:41
Exposure Time : 1/125
F Number : 5.6
Shutter Speed Value : 1/125
Aperture Value : 5.6
Exposure Compensation : 0
Max Aperture Value : 5.6
Focal Length : 28.0 mm
Color Space : Uncalibrated
Exif Image Width : 1050
Exif Image Height : 700
Scene Type : Directly photographed
Custom Rendered : Normal
Exposure Mode : Manual
Digital Zoom Ratio : 0
Scene Capture Type : Standard
Serial Number : 5332627
Lens Info : 28mm f/5.6
Lens Make : Leica Camera AG
Lens Model : Summaron-M 1:5.6/28
Profile Description : Adobe RGB (1998)
Rating : 0
Create Date : 2021:02:10 13:08:29Z
Creator Tool : Adobe Photoshop 22.2 (Windows)
Format : image/jpeg
Lens : Summaron-M 1:5.6/28
Approximate Focus Distance : 2.14
Distortion Correction Already Applied : True
Lateral Chromatic Aberration Correction Already Applied:
True
Date Created : 2019:03:09 09:12:47
Color Mode : RGB
ICC Profile Name : Adobe RGB (1998)
Version : 13.1
Process Version : 11.0
White Balance : As Shot
Color Temperature : 4350
Tint : +18
Exposure 2012 : +0.20
Contrast 2012 : +24
Highlights 2012 : -83
Shadows 2012 : +80
Whites 2012 : +25
Blacks 2012 : -19
Texture : 0
Clarity 2012 : +21
Dehaze : +23
Vibrance : +15
Saturation : -1
Parametric Shadows : 0
Parametric Darks : 0
Parametric Lights : 0
Parametric Highlights : 0
Parametric Shadow Split : 25
Parametric Midtone Split : 50
Parametric Highlight Split : 75
Sharpness : 40
Sharpen Radius : +1.0
Sharpen Detail : 25
Sharpen Edge Masking : 0
Luminance Smoothing : 60
Luminance Noise Reduction Detail : 50
Luminance Noise Reduction Contrast : 0
Color Noise Reduction : 25
Color Noise Reduction Detail : 50
Color Noise Reduction Smoothness : 50
Hue Adjustment Red : 0
Hue Adjustment Orange : 0
Hue Adjustment Yellow : 0
Hue Adjustment Green : 0
Hue Adjustment Aqua : 0
Hue Adjustment Blue : 0
Hue Adjustment Purple : 0
Hue Adjustment Magenta : 0
Saturation Adjustment Red : 0
Saturation Adjustment Orange : 0
Saturation Adjustment Yellow : 0
Saturation Adjustment Green : 0
Saturation Adjustment Aqua : 0
Saturation Adjustment Blue : 0
Saturation Adjustment Purple : 0
Saturation Adjustment Magenta : 0
Luminance Adjustment Red : 0
Luminance Adjustment Orange : 0
Luminance Adjustment Yellow : 0
Luminance Adjustment Green : 0
Luminance Adjustment Aqua : 0
Luminance Adjustment Blue : 0
Luminance Adjustment Purple : 0
Luminance Adjustment Magenta : 0
Split Toning Shadow Hue : 0
Split Toning Shadow Saturation : 0
Split Toning Highlight Hue : 0
Split Toning Highlight Saturation : 0
Split Toning Balance : 0
Color Grade Midtone Hue : 0
Color Grade Midtone Sat : 0
Color Grade Shadow Lum : 0
Color Grade Midtone Lum : 0
Color Grade Highlight Lum : 0
Color Grade Blending : 50
Color Grade Global Hue : 0
Color Grade Global Sat : 0
Color Grade Global Lum : 0
Auto Lateral CA : 1
Lens Profile Enable : 1
Lens Manual Distortion Amount : 0
Vignette Amount : 0
Defringe Purple Amount : 0
Defringe Purple Hue Lo : 30
Defringe Purple Hue Hi : 70
Defringe Green Amount : 0
Defringe Green Hue Lo : 40
Defringe Green Hue Hi : 60
Perspective Upright : Auto
Perspective Vertical : 0
Perspective Horizontal : 0
Perspective Rotate : 0.0
Perspective Aspect : 0
Perspective Scale : 100
Perspective X : 0.00
Perspective Y : 0.00
Grain Amount : 0
Post Crop Vignette Amount : 0
Shadow Tint : 0
Red Hue : 0
Red Saturation : 0
Green Hue : 0
Green Saturation : 0
Blue Hue : 0
Blue Saturation : 0
Override Look Vignette : False
Tone Curve Name 2012 : Linear
Camera Profile : Adobe Standard
Lens Profile Setup : Custom
Lens Profile Name : Adobe (Leica SUMMARON-M 28mm f/5.6)
Lens Profile Filename : Leica Camera AG (Leica SUMMARON-M 28mm f5.6) - RAW.lcp
Lens Profile Is Embedded : False
Lens Profile Distortion Scale : 100
Lens Profile Vignetting Scale : 100
Has Settings : True
Has Crop : False
Already Applied : True
Tone Curve PV2012 : 0, 0, 255, 255
Tone Curve PV2012 Red : 0, 0, 255, 255
Tone Curve PV2012 Green : 0, 0, 255, 255
Tone Curve PV2012 Blue : 0, 0, 255, 255
Look Name : Adobe Color
Look Amount : 1.000000
Look Supports Amount : false
Look Supports Monochrome : false
Look Supports Output Referred : false
Look Copyright : © 2018 Adobe Systems, Inc.
Look Group : Profiles
Look Parameters Version : 13.1
Look Parameters Process Version : 11.0
Look Parameters Convert To Grayscale : False
Look Parameters Camera Profile : Adobe Standard
Look Parameters Look Table : E1095149FDB39D7A057BAB208837E2E1
Look Parameters Tone Curve PV2012 : 0, 0, 22, 16, 40, 35, 127, 127, 224, 230, 240, 246, 255, 255
Look Parameters Tone Curve PV2012 Red : 0, 0, 255, 255
Look Parameters Tone Curve PV2012 Green : 0, 0, 255, 255
Look Parameters Tone Curve PV2012 Blue : 0, 0, 255, 255
Image Width : 400
Image Height : 267
Bits Per Sample : 8
Color Components : 3
Aperture : 5.6
Image Size : 400x267
Megapixels : 0.107
Scale Factor To 35 mm Equivalent : 5.7
Shutter Speed : 1/125
Circle Of Confusion : 0.005 mm
Depth Of Field : 0.34 m (1.98 - 2.33 m)
Date/Time Original : 2019:03:09 09:12:47
Field Of View : 12.9 deg
Focal Length : 28.0 mm (35 mm equivalent: 158.7 mm)
Hyperfocal Distance : 26.41 m
Lens ID : Summaron-M 1:5.6/28