Uber Exif Photo
Copyright Flag : False
Orientation : Horizontal (normal)
Software : Adobe Photoshop CS Windows
Modify Date : 2020:09:17 17:15:59
Color Space : sRGB
Exif Image Width : 2334
Exif Image Height : 3553
Profile Description : sRGB IEC61966-2.1
Version : 6.5
Process Version : 5.7
White Balance : Custom
Incremental Temperature : +18
Incremental Tint : -18
Exposure : 0.00
Shadows : 12
Brightness : +6
Contrast : +12
Saturation : 0
Sharpness : 61
Luminance Smoothing : 0
Color Noise Reduction : 25
Chromatic Aberration R : 0
Chromatic Aberration B : 0
Vignette Amount : -42
Vignette Midpoint : 30
Shadow Tint : 0
Red Hue : 0
Red Saturation : 0
Green Hue : 0
Green Saturation : 0
Blue Hue : 0
Blue Saturation : 0
Fill Light : 0
Vibrance : +30
Highlight Recovery : 42
Clarity : +18
Defringe : 0
Hue Adjustment Red : 0
Hue Adjustment Orange : 0
Hue Adjustment Yellow : 0
Hue Adjustment Green : 0
Hue Adjustment Aqua : 0
Hue Adjustment Blue : 0
Hue Adjustment Purple : 0
Hue Adjustment Magenta : 0
Saturation Adjustment Red : -60
Saturation Adjustment Orange : -55
Saturation Adjustment Yellow : -50
Saturation Adjustment Green : -70
Saturation Adjustment Aqua : -60
Saturation Adjustment Blue : -40
Saturation Adjustment Purple : -55
Saturation Adjustment Magenta : -20
Luminance Adjustment Red : 0
Luminance Adjustment Orange : 0
Luminance Adjustment Yellow : 0
Luminance Adjustment Green : 0
Luminance Adjustment Aqua : 0
Luminance Adjustment Blue : 0
Luminance Adjustment Purple : 0
Luminance Adjustment Magenta : 0
Split Toning Shadow Hue : 0
Split Toning Shadow Saturation : 0
Split Toning Highlight Hue : 0
Split Toning Highlight Saturation : 0
Split Toning Balance : 0
Parametric Shadows : 0
Parametric Darks : 0
Parametric Lights : -12
Parametric Highlights : -24
Parametric Shadow Split : 25
Parametric Midtone Split : 50
Parametric Highlight Split : 75
Sharpen Radius : +1.1
Sharpen Detail : 21
Sharpen Edge Masking : 11
Post Crop Vignette Amount : 0
Grain Amount : 0
Color Noise Reduction Detail : 50
Lens Profile Enable : 0
Lens Manual Distortion Amount : +1
Perspective Vertical : 0
Perspective Horizontal : 0
Perspective Rotate : +0.3
Perspective Scale : 101
Convert To Grayscale : False
Tone Curve Name : Medium Contrast
Camera Profile : Embedded
Lens Profile Setup : LensDefaults
Has Settings : True
Crop Top : 0.073791
Crop Left : 0.046316
Crop Bottom : 0.992366
Crop Right : 1
Crop Angle : 0
Crop Constrain To Warp : 0
Crop Width : 2404
Crop Height : 3835
Crop Unit : pixels
Has Crop : True
Already Applied : True
Tone Curve : 0, 0, 32, 22, 64, 56, 128, 128, 192, 196, 255, 255
Creator Tool : Adobe Photoshop CS Windows
Create Date : 2020:09:15 11:02:49+02:00
Format : image/jpeg
Image Width : 400
Image Height : 609
Bits Per Sample : 8
Color Components : 3
Image Size : 400x609
Megapixels : 0.244