Uber Exif Photo
By-line : Charles Zewe
Copyright Notice : Charles Zewe
Copyright Flag : True
Make : LEICA
Camera Model Name : D-LUX 4
Software : Adobe Photoshop Lightroom 6.14 (Macintosh)
Modify Date : 2021:08:04 15:46:40
Artist : Charles Zewe
Copyright : Charles Zewe
Exposure Time : 1/1000
F Number : 5.0
Exposure Program : Landscape
ISO : 80
Date/Time Original : 2011:07:13 03:14:45
Create Date : 2011:07:13 03:14:45
Shutter Speed Value : 1/1000
Aperture Value : 5.0
Exposure Compensation : 0
Max Aperture Value : 2.0
Metering Mode : Multi-segment
Light Source : Unknown
Flash : Off, Did not fire
Focal Length : 5.1 mm
Color Space : sRGB
Sensing Method : One-chip color area
Scene Type : Directly photographed
Custom Rendered : Normal
Exposure Mode : Auto
White Balance : Auto
Digital Zoom Ratio : 0
Focal Length In 35mm Format : 24 mm
Scene Capture Type : Landscape
Gain Control : None
Contrast : Normal
Saturation : Normal
Sharpness : Normal
Profile Description : sRGB IEC61966-2.1
Creator Tool : Adobe Photoshop Lightroom 6.14 (Macintosh)
Date Created : 2011:07:13 03:14:45
Format : image/jpeg
Marked : True
Version : 10.1
Process Version : 6.7
Auto White Version : 134348800
Incremental Temperature : 0
Incremental Tint : 0
Luminance Smoothing : 0
Color Noise Reduction : 0
Vignette Amount : 0
Shadow Tint : 0
Red Hue : 0
Red Saturation : 0
Green Hue : 0
Green Saturation : 0
Blue Hue : 0
Blue Saturation : 0
Vibrance : +22
Hue Adjustment Red : 0
Hue Adjustment Orange : 0
Hue Adjustment Yellow : 0
Hue Adjustment Green : 0
Hue Adjustment Aqua : 0
Hue Adjustment Blue : 0
Hue Adjustment Purple : 0
Hue Adjustment Magenta : 0
Saturation Adjustment Red : 0
Saturation Adjustment Orange : 0
Saturation Adjustment Yellow : +7
Saturation Adjustment Green : -52
Saturation Adjustment Aqua : -16
Saturation Adjustment Blue : +16
Saturation Adjustment Purple : 0
Saturation Adjustment Magenta : 0
Luminance Adjustment Red : 0
Luminance Adjustment Orange : 0
Luminance Adjustment Yellow : -18
Luminance Adjustment Green : -22
Luminance Adjustment Aqua : -4
Luminance Adjustment Blue : -48
Luminance Adjustment Purple : 0
Luminance Adjustment Magenta : 0
Split Toning Shadow Hue : 0
Split Toning Shadow Saturation : 0
Split Toning Highlight Hue : 0
Split Toning Highlight Saturation : 0
Split Toning Balance : 0
Parametric Shadows : 0
Parametric Darks : 0
Parametric Lights : 0
Parametric Highlights : 0
Parametric Shadow Split : 25
Parametric Midtone Split : 50
Parametric Highlight Split : 75
Sharpen Radius : +1.2
Sharpen Detail : 31
Sharpen Edge Masking : 58
Post Crop Vignette Amount : 0
Grain Amount : 0
Lens Profile Enable : 0
Lens Manual Distortion Amount : 0
Perspective Vertical : 0
Perspective Horizontal : 0
Perspective Rotate : 0.0
Perspective Scale : 100
Perspective Aspect : 0
Perspective Upright : Off
Perspective X : 0.00
Perspective Y : 0.00
Auto Lateral CA : 0
Exposure 2012 : 0.00
Contrast 2012 : +17
Highlights 2012 : -100
Shadows 2012 : +100
Whites 2012 : +64
Blacks 2012 : -50
Clarity 2012 : +23
Defringe Purple Amount : 0
Defringe Purple Hue Lo : 30
Defringe Purple Hue Hi : 70
Defringe Green Amount : 0
Defringe Green Hue Lo : 40
Defringe Green Hue Hi : 60
Dehaze : 0
Tone Map Strength : 0
Convert To Grayscale : False
Tone Curve Name : Linear
Tone Curve Name 2012 : Linear
Camera Profile : Embedded
Lens Profile Setup : LensDefaults
Has Settings : True
Has Crop : False
Already Applied : True
Creator : Charles Zewe
Rights : Charles Zewe
Usage Terms : With written permission from Charles Zewe
Creator Postal Code : 70124
Creator Work Telephone : 504-251-5400
Creator Region : LA
Creator Country : USA
Creator City : New Orleans
Creator Work Email : czewe@bellsouth.net
Tone Curve : 0, 0, 255, 255
Tone Curve Red : 0, 0, 255, 255
Tone Curve Green : 0, 0, 255, 255
Tone Curve Blue : 0, 0, 255, 255
Tone Curve PV2012 : 0, 0, 255, 255
Tone Curve PV2012 Red : 0, 0, 255, 255
Tone Curve PV2012 Green : 0, 0, 255, 255
Tone Curve PV2012 Blue : 0, 0, 255, 255
Image Width : 400
Image Height : 300
Bits Per Sample : 8
Color Components : 3
Aperture : 5.0
Image Size : 400x300
Megapixels : 0.120
Scale Factor To 35 mm Equivalent : 4.7
Shutter Speed : 1/1000
Circle Of Confusion : 0.006 mm
Field Of View : 73.7 deg
Focal Length : 5.1 mm (35 mm equivalent: 24.0 mm)
Hyperfocal Distance : 0.81 m
Light Value : 14.9