Uber Exif Photo
Keywords : Skye
Make : LEICA CAMERA AG
Camera Model Name : V-Lux 5
Software : Adobe Photoshop Lightroom Classic 10.3 (Macintosh)
Modify Date : 2021:08:19 19:06:14
Exposure Time : 1/640
F Number : 4.0
Exposure Program : Aperture-priority AE
ISO : 200
Sensitivity Type : Standard Output Sensitivity
Standard Output Sensitivity : 200
Date/Time Original : 2021:05:25 08:27:10
Create Date : 2021:05:25 08:27:10
Shutter Speed Value : 1/640
Aperture Value : 4.0
Exposure Compensation : 0
Max Aperture Value : 3.9
Metering Mode : Multi-segment
Light Source : Unknown
Flash : Off, Did not fire
Focal Length : 52.4 mm
Color Space : sRGB
Sensing Method : One-chip color area
Scene Type : Directly photographed
Custom Rendered : Normal
Exposure Mode : Auto
White Balance : Auto
Digital Zoom Ratio : 0
Focal Length In 35mm Format : 144 mm
Scene Capture Type : Standard
Gain Control : Low gain up
Contrast : Normal
Saturation : Normal
Sharpness : Normal
Profile Description : sRGB IEC61966-2.1
Creator Tool : Adobe Photoshop Lightroom Classic 10.3 (Macintosh)
Preserved File Name : L1001051.JPG
Date Created : 2021:05:25 08:27:10.993Z
Format : image/jpeg
Raw File Name :
Version : 13.3
Process Version : 11.0
Incremental Temperature : 0
Incremental Tint : 0
Exposure 2012 : +0.20
Contrast 2012 : +54
Highlights 2012 : +25
Shadows 2012 : 0
Whites 2012 : +24
Blacks 2012 : 0
Texture : 0
Clarity 2012 : +98
Dehaze : +43
Vibrance : 0
Parametric Shadows : 0
Parametric Darks : 0
Parametric Lights : 0
Parametric Highlights : 0
Parametric Shadow Split : 25
Parametric Midtone Split : 50
Parametric Highlight Split : 75
Sharpen Radius : +1.0
Sharpen Detail : 25
Sharpen Edge Masking : 0
Luminance Smoothing : 50
Luminance Noise Reduction Detail : 50
Luminance Noise Reduction Contrast : 0
Color Noise Reduction : 0
Hue Adjustment Red : 0
Hue Adjustment Orange : 0
Hue Adjustment Yellow : 0
Hue Adjustment Green : 0
Hue Adjustment Aqua : 0
Hue Adjustment Blue : 0
Hue Adjustment Purple : 0
Hue Adjustment Magenta : 0
Saturation Adjustment Red : 0
Saturation Adjustment Orange : 0
Saturation Adjustment Yellow : 0
Saturation Adjustment Green : 0
Saturation Adjustment Aqua : 0
Saturation Adjustment Blue : 0
Saturation Adjustment Purple : 0
Saturation Adjustment Magenta : 0
Luminance Adjustment Red : 0
Luminance Adjustment Orange : 0
Luminance Adjustment Yellow : 0
Luminance Adjustment Green : 0
Luminance Adjustment Aqua : 0
Luminance Adjustment Blue : 0
Luminance Adjustment Purple : 0
Luminance Adjustment Magenta : 0
Split Toning Shadow Hue : 0
Split Toning Shadow Saturation : 0
Split Toning Highlight Hue : 0
Split Toning Highlight Saturation : 0
Split Toning Balance : 0
Color Grade Midtone Hue : 0
Color Grade Midtone Sat : 0
Color Grade Shadow Lum : 0
Color Grade Midtone Lum : 0
Color Grade Highlight Lum : 0
Color Grade Blending : 50
Color Grade Global Hue : 0
Color Grade Global Sat : 0
Color Grade Global Lum : 0
Auto Lateral CA : 0
Lens Profile Enable : 0
Lens Manual Distortion Amount : 0
Vignette Amount : 0
Defringe Purple Amount : 0
Defringe Purple Hue Lo : 30
Defringe Purple Hue Hi : 70
Defringe Green Amount : 0
Defringe Green Hue Lo : 40
Defringe Green Hue Hi : 60
Perspective Upright : Off
Perspective Vertical : 0
Perspective Horizontal : 0
Perspective Rotate : 0.0
Perspective Aspect : 0
Perspective Scale : 100
Perspective X : 0.00
Perspective Y : 0.00
Grain Amount : 0
Post Crop Vignette Amount : 0
Shadow Tint : 0
Red Hue : 0
Red Saturation : 0
Green Hue : 0
Green Saturation : 0
Blue Hue : 0
Blue Saturation : 0
Convert To Grayscale : False
Override Look Vignette : False
Tone Curve Name 2012 : Linear
Camera Profile : Embedded
Has Settings : True
Crop Top : 0.207991
Crop Left : 0.039506
Crop Bottom : 0.982907
Crop Right : 0.7503
Crop Angle : 1.36858
Crop Constrain To Warp : 0
Has Crop : True
Already Applied : True
Subject : Skye
Tone Curve PV2012 : 0, 0, 255, 255
Tone Curve PV2012 Red : 0, 0, 255, 255
Tone Curve PV2012 Green : 0, 0, 255, 255
Tone Curve PV2012 Blue : 0, 0, 255, 255
Image Width : 400
Image Height : 276
Bits Per Sample : 8
Color Components : 3
Aperture : 4.0
Image Size : 400x276
Megapixels : 0.110
Scale Factor To 35 mm Equivalent : 2.7
Shutter Speed : 1/640
Create Date : 2021:05:25 08:27:10.993+00:00
Date/Time Original : 2021:05:25 08:27:10.993+00:00
Modify Date : 2021:08:19 19:06:14+01:00
Circle Of Confusion : 0.011 mm
Field Of View : 14.3 deg
Focal Length : 52.4 mm (35 mm equivalent: 144.0 mm)
Hyperfocal Distance : 62.78 m
Light Value : 12.3