Uber Exif Photo
Copyright Notice : Charles Zewe
By-line : Charles Zewe
Make : NORITSU KOKI
Camera Model Name : QSS-32_33
Orientation : Horizontal (normal)
Software : Adobe Photoshop Lightroom 6.14 (Macintosh)
Modify Date : 2021:08:23 11:07:03
Artist : Charles Zewe
Copyright : Charles Zewe
Color Space : sRGB
Exif Image Width : 1791
Exif Image Height : 1188
Luminance Adjustment Green : 0
Hue Adjustment Green : 0
Saturation Adjustment Yellow : 0
Parametric Darks : 0
Perspective Scale : 100
Clarity 2012 : +36
Hue Adjustment Magenta : 0
Color Noise Reduction : 0
Perspective Upright : Off
Has Crop : False
Hue Adjustment Aqua : 0
Red Saturation : 0
Parametric Shadows : 0
Perspective Y : 0.00
Hue Adjustment Orange : 0
White Balance : As Shot
Hue Adjustment Yellow : 0
Split Toning Shadow Saturation : 0
Lens Manual Distortion Amount : 0
Tone Curve Name : Linear
Luminance Noise Reduction Contrast : 0
Shadows 2012 : -19
Hue Adjustment Blue : 0
Luminance Adjustment Magenta : 0
Convert To Grayscale : False
Blacks 2012 : -71
Luminance Smoothing : 23
Tone Curve Name 2012 : Linear
Highlights 2012 : -100
Luminance Adjustment Yellow : 0
Incremental Tint : 0
Parametric Midtone Split : 50
Perspective Aspect : 0
Shadow Tint : 0
Hue Adjustment Red : 0
Split Toning Highlight Saturation : 0
Split Toning Shadow Hue : 0
Has Settings : True
Lens Profile Setup : LensDefaults
Defringe Purple Hue Hi : 70
Dehaze : 0
Saturation Adjustment Orange : 0
Defringe Purple Hue Lo : 30
Post Crop Vignette Amount : 0
Split Toning Balance : 0
Lens Profile Enable : 0
Vignette Amount : 0
Perspective Rotate : 0.0
Process Version : 6.7
Saturation Adjustment Purple : 0
Saturation Adjustment Green : 0
Vibrance : +24
Parametric Highlights : 0
Green Saturation : 0
Parametric Shadow Split : 25
Luminance Adjustment Purple : 0
Green Hue : 0
Perspective Vertical : 0
Luminance Adjustment Orange : 0
Sharpness : 97
Blue Saturation : 0
Perspective Horizontal : 0
Sharpen Detail : 75
Luminance Noise Reduction Detail : 50
Blue Hue : 0
Luminance Adjustment Aqua : 0
Parametric Highlight Split : 75
Auto Lateral CA : 0
Incremental Temperature : 0
Red Hue : 0
Split Toning Highlight Hue : 0
Camera Profile : Embedded
Saturation Adjustment Red : 0
Saturation Adjustment Aqua : 0
Defringe Purple Amount : 0
Parametric Lights : 0
Sharpen Radius : +2.3
Luminance Adjustment Blue : 0
Perspective X : 0.00
Tone Map Strength : 0
Luminance Adjustment Red : 0
Saturation : +3
Hue Adjustment Purple : 0
Auto White Version : 134348800
Saturation Adjustment Blue : 0
Contrast 2012 : +33
Already Applied : True
Defringe Green Hue Hi : 60
Grain Amount : 0
Version : 10.1
Defringe Green Amount : 0
Whites 2012 : +30
Defringe Green Hue Lo : 40
Sharpen Edge Masking : 67
Exposure 2012 : -0.10
Saturation Adjustment Magenta : 0
Creator Tool : Adobe Photoshop Lightroom 6.14 (Macintosh)
Marked : True
Format : image/jpeg
Tone Curve PV2012 Red : 0, 0, 255, 255
Tone Curve PV2012 Green : 0, 0, 255, 255
Tone Curve PV2012 : 0, 0, 255, 255
Tone Curve Green : 0, 0, 255, 255
Tone Curve Red : 0, 0, 255, 255
Tone Curve Blue : 0, 0, 255, 255
Tone Curve : 0, 0, 255, 255
Tone Curve PV2012 Blue : 0, 0, 255, 255
Creator Region : LA
Creator Work Telephone : 504-251-5400
Creator Country : USA
Creator City : New Orleans
Creator Postal Code : 70124
Creator Work Email : czewe@bellsouth.net
Usage Terms : With written permission from Charles Zewe
Creator : Charles Zewe
Rights : Charles Zewe
Image Width : 400
Image Height : 265
Bits Per Sample : 8
Color Components : 3
Image Size : 400x265
Megapixels : 0.106