Uber Exif Photo
Copyright Flag : False
Orientation : Horizontal (normal)
Software : Adobe Photoshop CS Windows
Modify Date : 2021:08:31 22:54:41
Color Space : sRGB
Exif Image Width : 2257
Exif Image Height : 3837
Profile Description : sRGB IEC61966-2.1
Version : 6.6
Process Version : 5.7
White Balance : Custom
Incremental Temperature : +8
Incremental Tint : -16
Exposure : 0.00
Shadows : 9
Brightness : -2
Contrast : -2
Sharpness : 41
Luminance Smoothing : 0
Color Noise Reduction : 25
Chromatic Aberration R : 0
Chromatic Aberration B : 0
Vignette Amount : 0
Shadow Tint : 0
Red Hue : 0
Red Saturation : 0
Green Hue : 0
Green Saturation : 0
Blue Hue : 0
Blue Saturation : 0
Fill Light : 0
Highlight Recovery : 24
Clarity : -20
Defringe : 0
Gray Mixer Red : +39
Gray Mixer Orange : +12
Gray Mixer Yellow : -9
Gray Mixer Green : -17
Gray Mixer Aqua : -10
Gray Mixer Blue : +20
Gray Mixer Purple : +25
Gray Mixer Magenta : +32
Split Toning Shadow Hue : 37
Split Toning Shadow Saturation : 32
Split Toning Highlight Hue : 51
Split Toning Highlight Saturation : 22
Split Toning Balance : 0
Parametric Shadows : -7
Parametric Darks : -7
Parametric Lights : -12
Parametric Highlights : -24
Parametric Shadow Split : 25
Parametric Midtone Split : 50
Parametric Highlight Split : 75
Sharpen Radius : +1.1
Sharpen Detail : 21
Sharpen Edge Masking : 0
Post Crop Vignette Amount : 0
Grain Amount : 0
Color Noise Reduction Detail : 50
Lens Profile Enable : 0
Lens Manual Distortion Amount : -1
Perspective Vertical : 0
Perspective Horizontal : 0
Perspective Rotate : -0.1
Perspective Scale : 101
Convert To Grayscale : True
Tone Curve Name : Linear
Camera Profile : Embedded
Lens Profile Setup : LensDefaults
Has Settings : True
Crop Top : 0.012012
Crop Left : 0.005168
Crop Bottom : 0.990991
Crop Right : 0.994832
Crop Angle : 0
Crop Constrain To Warp : 0
Crop Width : 2533
Crop Height : 4312
Crop Unit : pixels
Has Crop : True
Already Applied : True
Tone Curve : 0, 0, 255, 255
Creator Tool : Adobe Photoshop CS Windows
Create Date : 2021:08:31 22:52:03+02:00
Format : image/jpeg
Image Width : 400
Image Height : 680
Bits Per Sample : 8
Color Components : 3
Image Size : 400x680
Megapixels : 0.272