Uber Exif Photo
Make : Leica Camera AG
Camera Model Name : M Monochrom
Software : Adobe Photoshop Lightroom Classic 11.0.1 (Macintosh)
Modify Date : 2021:12:11 08:45:51
Exposure Time : 1/350
F Number : 6.7
Exposure Program : Aperture-priority AE
ISO : 400
Date/Time Original : 2021:11:28 16:58:53
Shutter Speed Value : 1/350
Aperture Value : 6.7
Exposure Compensation : +1.33
Metering Mode : Center-weighted average
Focal Length : 50.0 mm
Color Space : sRGB
Serial Number : 4351044
Lens Model : Leica Summilux-M 50mm f/1.4 ASPH.
Profile Description : sRGB IEC61966-2.1
Lens : Leica Summilux-M 50mm f/1.4 ASPH.
Creator Tool : Adobe Photoshop Lightroom Classic 11.0.1 (Macintosh)
Date Created : 2021:11:28 16:58:53
Preserved File Name : L1790756.DNG
Format : image/jpeg
Raw File Name :
Version : 14.0
Compatible Version : 234881024
Process Version : 11.0
White Balance : As Shot
Incremental Temperature : 0
Incremental Tint : 0
Exposure 2012 : 0.00
Contrast 2012 : 0
Highlights 2012 : -21
Shadows 2012 : -9
Whites 2012 : +7
Blacks 2012 : -39
Texture : 0
Clarity 2012 : 0
Dehaze : 0
Vibrance : 0
Saturation : 0
Parametric Shadows : 0
Parametric Darks : 0
Parametric Lights : 0
Parametric Highlights : 0
Parametric Shadow Split : 25
Parametric Midtone Split : 50
Parametric Highlight Split : 75
Sharpness : 0
Luminance Smoothing : 0
Color Noise Reduction : 0
Hue Adjustment Red : 0
Hue Adjustment Orange : 0
Hue Adjustment Yellow : 0
Hue Adjustment Green : 0
Hue Adjustment Aqua : 0
Hue Adjustment Blue : 0
Hue Adjustment Purple : 0
Hue Adjustment Magenta : 0
Saturation Adjustment Red : 0
Saturation Adjustment Orange : 0
Saturation Adjustment Yellow : 0
Saturation Adjustment Green : 0
Saturation Adjustment Aqua : 0
Saturation Adjustment Blue : 0
Saturation Adjustment Purple : 0
Saturation Adjustment Magenta : 0
Luminance Adjustment Red : 0
Luminance Adjustment Orange : 0
Luminance Adjustment Yellow : 0
Luminance Adjustment Green : 0
Luminance Adjustment Aqua : 0
Luminance Adjustment Blue : 0
Luminance Adjustment Purple : 0
Luminance Adjustment Magenta : 0
Split Toning Shadow Hue : 0
Split Toning Shadow Saturation : 0
Split Toning Highlight Hue : 0
Split Toning Highlight Saturation : 0
Split Toning Balance : 0
Color Grade Midtone Hue : 0
Color Grade Midtone Sat : 0
Color Grade Shadow Lum : 0
Color Grade Midtone Lum : 0
Color Grade Highlight Lum : 0
Color Grade Blending : 50
Color Grade Global Hue : 0
Color Grade Global Sat : 0
Color Grade Global Lum : 0
Auto Lateral CA : 0
Lens Profile Enable : 0
Lens Manual Distortion Amount : 0
Vignette Amount : 0
Defringe Purple Amount : 0
Defringe Purple Hue Lo : 30
Defringe Purple Hue Hi : 70
Defringe Green Amount : 0
Defringe Green Hue Lo : 40
Defringe Green Hue Hi : 60
Perspective Upright : Off
Perspective Vertical : 0
Perspective Horizontal : 0
Perspective Rotate : 0.0
Perspective Aspect : 0
Perspective Scale : 100
Perspective X : 0.00
Perspective Y : 0.00
Grain Amount : 0
Post Crop Vignette Amount : 0
Shadow Tint : 0
Red Hue : 0
Red Saturation : 0
Green Hue : 0
Green Saturation : 0
Blue Hue : 0
Blue Saturation : 0
Convert To Grayscale : False
Override Look Vignette : False
Tone Curve Name 2012 : Linear
Camera Profile : Embedded
Has Settings : True
Crop Top : 0
Crop Left : 0
Crop Bottom : 1
Crop Right : 0.959666
Crop Angle : 0
Crop Constrain To Warp : 0
Has Crop : True
Already Applied : True
Tone Curve PV2012 : 0, 0, 255, 255
Tone Curve PV2012 Red : 0, 0, 255, 255
Tone Curve PV2012 Green : 0, 0, 255, 255
Tone Curve PV2012 Blue : 0, 0, 255, 255
0
false
Image Width : 400
Image Height : 626
Bits Per Sample : 8
Color Components : 3
Aperture : 6.7
Image Size : 400x626
Megapixels : 0.250
Shutter Speed : 1/350
Modify Date : 2021:12:11 08:45:51+08:00
Light Value : 11.9
Lens ID : Leica Summilux-M 50mm f/1.4 ASPH.