Uber Exif Photo
Province-State : Georgia
Country-Primary Location Name : USA
Country-Primary Location Code : USA
Keywords : clouds, sky, daylight, tree top, Leica, M10, 21mm, Visoflex
By-line : Louie Favorite
Caption-Abstract : February 18, 2022 - Decatur, Georgia, USA
Special Instructions : original clouds
Copyright Notice : ©2022 Louie Favorite, Atlanta, GA
Sub-location : 101
Copyright Flag : True
Make : Leica Camera AG
Camera Model Name : LEICA M10
Orientation : Horizontal (normal)
Modify Date : 2022:02:18 15:44:47
Artist : Louie Favorite
Exposure Time : 1/750
F Number : 5.6
Exposure Program : Aperture-priority AE
ISO : 200
Date/Time Original : 2022:02:18 14:55:35
Create Date : 2022:02:18 14:55:35
Shutter Speed Value : 1/750
Aperture Value : 4.8
Exposure Compensation : 0
Max Aperture Value : 1.0
Metering Mode : Multi-spot
Light Source : Unknown
Flash : No Flash
Color Space : Uncalibrated
Exif Image Width : 4000
Exif Image Height : 2667
Scene Type : Directly photographed
Custom Rendered : Normal
Exposure Mode : Auto
White Balance : Auto
Digital Zoom Ratio : 0
Scene Capture Type : Standard
Contrast : Normal
Saturation : Normal
Sharpness : Normal
Serial Number : 5230664
Lens Make : Leica Camera AG
Lens Model : Leica 21mm F/2.8 Elmarit
GPS Version ID : 2.2.0.0
Approximate Focus Distance : 2.26
Lateral Chromatic Aberration Correction Already Applied:
True
Lens : Leica 21mm F/2.8 Elmarit
Image Number : 7476
Format : image/jpeg
Color Mode : RGB
ICC Profile Name : Adobe RGB (1998)
City : Decatur
State : Georgia
Country : USA
Instructions : original clouds
Date Created : 2022:02:18 14:55:35
Creator Tool : 2.6.5.0
Rating : 0
Already Applied : True
Auto Lateral CA : 1
Blacks 2012 : -8
Blue Hue : 0
Blue Saturation : 0
Camera Profile : Adobe Standard
Clarity 2012 : +58
Color Grade Blending : 50
Color Grade Global Hue : 0
Color Grade Global Lum : 0
Color Grade Global Sat : 0
Color Grade Highlight Lum : 0
Color Grade Midtone Hue : 0
Color Grade Midtone Lum : 0
Color Grade Midtone Sat : 0
Color Grade Shadow Lum : 0
Color Noise Reduction : 25
Color Noise Reduction Detail : 50
Color Noise Reduction Smoothness : 50
Contrast 2012 : 0
Defringe Green Amount : 0
Defringe Green Hue Hi : 60
Defringe Green Hue Lo : 40
Defringe Purple Amount : 0
Defringe Purple Hue Hi : 70
Defringe Purple Hue Lo : 30
Dehaze : +14
Exposure 2012 : 0.00
Grain Amount : 0
Green Hue : 0
Green Saturation : 0
Has Settings : True
Highlights 2012 : -20
Hue Adjustment Aqua : 0
Hue Adjustment Blue : 0
Hue Adjustment Green : 0
Hue Adjustment Magenta : 0
Hue Adjustment Orange : 0
Hue Adjustment Purple : 0
Hue Adjustment Red : 0
Hue Adjustment Yellow : 0
Lens Manual Distortion Amount : 0
Lens Profile Enable : 1
Lens Profile Setup : LensDefaults
Luminance Adjustment Aqua : 0
Luminance Adjustment Blue : 0
Luminance Adjustment Green : 0
Luminance Adjustment Magenta : 0
Luminance Adjustment Orange : 0
Luminance Adjustment Purple : 0
Luminance Adjustment Red : 0
Luminance Adjustment Yellow : 0
Luminance Noise Reduction Contrast : 0
Luminance Noise Reduction Detail : 50
Luminance Smoothing : 5
Override Look Vignette : False
Parametric Darks : 0
Parametric Highlight Split : 75
Parametric Highlights : 0
Parametric Lights : 0
Parametric Midtone Split : 50
Parametric Shadow Split : 25
Parametric Shadows : 0
Perspective Aspect : 0
Perspective Horizontal : 0
Perspective Rotate : 0.0
Perspective Scale : 100
Perspective Upright : Off
Perspective Vertical : 0
Perspective X : 0.00
Perspective Y : 0.00
Post Crop Vignette Amount : 0
Process Version : 11.0
Red Hue : 0
Red Saturation : 0
Saturation Adjustment Aqua : 0
Saturation Adjustment Blue : 0
Saturation Adjustment Green : 0
Saturation Adjustment Magenta : 0
Saturation Adjustment Orange : 0
Saturation Adjustment Purple : 0
Saturation Adjustment Red : 0
Saturation Adjustment Yellow : 0
Shadow Tint : 0
Shadows 2012 : +16
Sharpen Detail : 25
Sharpen Edge Masking : 0
Sharpen Radius : +1.0
Split Toning Balance : 0
Split Toning Highlight Hue : 0
Split Toning Highlight Saturation : 0
Split Toning Shadow Hue : 0
Split Toning Shadow Saturation : 0
Color Temperature : 5300
Texture : 0
Tint : +19
Tone Curve Name 2012 : Linear
Version : 13.3
Vibrance : 0
Vignette Amount : 0
Whites 2012 : 0
Marked : True
Web Statement : louiefavorite.com
Country Code : USA
Location : 101
Color Class : 0 (None)
Tagged : Yes
Prefs : Tagged:1, ColorClass:0, Rating:0, FrameNum:007476
PM Version : PM6
Subject : clouds, sky, daylight, tree top, Leica, M10, 21mm, Visoflex
Description : February 18, 2022 - Decatur, Georgia, USA
Creator : Louie Favorite
Rights : ©2022 Louie Favorite, Atlanta, GA
Supplemental Categories : LEICA M10, lens=, fstop=5.6, shutter=1/750, ASA=200
Look Amount : 1.000000
Look Copyright : © 2018 Adobe Systems, Inc.
Look Name : Adobe Color
Look Supports Amount : false
Look Supports Monochrome : false
Look Supports Output Referred : false
Look Group : Profiles
Look Parameters Camera Profile : Adobe Standard
Look Parameters Convert To Grayscale : False
Look Parameters Look Table : E1095149FDB39D7A057BAB208837E2E1
Look Parameters Process Version : 11.0
Look Parameters Version : 13.3
Look Parameters Tone Curve PV2012 : 0, 0, 22, 16, 40, 35, 127, 127, 224, 230, 240, 246, 255, 255
Look Parameters Tone Curve PV2012 Blue : 0, 0, 255, 255
Look Parameters Tone Curve PV2012 Green : 0, 0, 255, 255
Look Parameters Tone Curve PV2012 Red : 0, 0, 255, 255
Tone Curve PV2012 : 0, 0, 255, 255
Tone Curve PV2012 Blue : 0, 0, 255, 255
Tone Curve PV2012 Green : 0, 0, 255, 255
Tone Curve PV2012 Red : 0, 0, 255, 255
Usage Terms : ©2022 Louie Favorite, Atlanta, GA
Creator City : Decatur
Creator Region : Georgia
Creator Postal Code : 30030
Creator Country : United States
Creator Work Email : lfavorite@mac.com
Location Created Sublocation : 101
Location Created City : Decatur
Location Created Province State : Georgia
Location Created Country Name : USA
Location Created Country Code : USA
Location Created World Region :
Location Shown Sublocation : 101
Location Shown City : Decatur
Location Shown Province State : Georgia
Location Shown Country Name : USA
Location Shown Country Code : USA
Location Shown World Region :
Image Width : 400
Image Height : 267
Bits Per Sample : 8
Color Components : 3
Aperture : 5.6
Image Size : 400x267
Megapixels : 0.107
Scale Factor To 35 mm Equivalent : 1.5
Shutter Speed : 1/750
GPS Latitude : 33 deg 46' 29.40" N
GPS Longitude : 84 deg 17' 46.74" W
GPS Latitude Ref : North
GPS Longitude Ref : West
Circle Of Confusion : 0.020 mm
GPS Position : 33 deg 46' 29.40" N, 84 deg 17' 46.74" W
Light Value : 13.5
Lens ID : Leica 21mm F/2.8 Elmarit