Uber Exif Photo
By-line : JQHN ANGARONI
Copyright Notice : JQHN ANGARQNI
Photometric Interpretation : RGB
Make : FUJIFILM
Camera Model Name : X-E3
Orientation : Horizontal (normal)
Samples Per Pixel : 3
Software : Adobe Photoshop 24.1 (Windows)
Modify Date : 2023:01:09 11:22:05
Artist : JQHN ANGARONI
Copyright : JQHN ANGARQNI
Exposure Time : 1/680
F Number : 1.0
Exposure Program : Aperture-priority AE
ISO : 800
Sensitivity Type : Standard Output Sensitivity
Date/Time Original : 2023:01:06 17:04:43
Create Date : 2023:01:06 17:04:43
Shutter Speed Value : 1/680
Aperture Value : 1.0
Brightness Value : 1.4
Exposure Compensation : -0.67
Metering Mode : Multi-segment
Light Source : Unknown
Flash : No Flash
Focal Length : 23.0 mm
Color Space : Uncalibrated
Exif Image Width : 5109
Exif Image Height : 3406
Sensing Method : One-chip color area
Scene Type : Directly photographed
Custom Rendered : Custom
Exposure Mode : Auto
White Balance : Auto
Focal Length In 35mm Format : 35 mm
Scene Capture Type : Standard
Sharpness : Soft
Subject Distance Range : Unknown
Serial Number : 9CA00631
Lens Info : 23mm f/?
Lens Model : 23.0 mm
Profile Description : Adobe RGB (1998)
Creator Tool : Adobe Photoshop Lightroom Classic 12.1 (Windows)
Fuji Rating Already Applied : True
Lens : 23.0 mm
Lateral Chromatic Aberration Correction Already Applied:
True
Format : image/jpeg
Date Created : 2023:01:06 17:04:43
Color Mode : RGB
ICC Profile Name : Adobe RGB (1998)
Preserved File Name : JRA23616.RAF
Raw File Name : JRA23616.RAF
Version : 15.1
Compatible Version : 251658240
Process Version : 11.0
Color Temperature : 4650
Tint : +11
Exposure 2012 : -0.09
Contrast 2012 : +19
Highlights 2012 : -93
Shadows 2012 : +61
Whites 2012 : -18
Blacks 2012 : +7
Texture : 0
Clarity 2012 : +19
Dehaze : 0
Vibrance : +20
Saturation : +8
Parametric Shadows : 0
Parametric Darks : 0
Parametric Lights : 0
Parametric Highlights : 0
Parametric Shadow Split : 25
Parametric Midtone Split : 50
Parametric Highlight Split : 75
Sharpen Radius : +1.0
Sharpen Detail : 25
Sharpen Edge Masking : 0
Luminance Smoothing : 0
Color Noise Reduction : 25
Color Noise Reduction Detail : 50
Color Noise Reduction Smoothness : 50
Saturation Adjustment Orange : +60
Saturation Adjustment Yellow : +18
Saturation Adjustment Blue : +52
Saturation Adjustment Purple : +53
Split Toning Shadow Hue : 0
Split Toning Shadow Saturation : 0
Split Toning Highlight Hue : 0
Split Toning Highlight Saturation : 0
Split Toning Balance : 0
Color Grade Midtone Hue : 0
Color Grade Midtone Sat : 0
Color Grade Shadow Lum : 0
Color Grade Midtone Lum : 0
Color Grade Highlight Lum : 0
Color Grade Blending : 50
Color Grade Global Hue : 0
Color Grade Global Sat : 0
Color Grade Global Lum : 0
Auto Lateral CA : 1
Lens Profile Enable : 0
Lens Manual Distortion Amount : 0
Vignette Amount : 0
Perspective Upright : Off
Perspective Vertical : 0
Perspective Horizontal : 0
Perspective Rotate : 0.0
Perspective Aspect : 0
Perspective Scale : 100
Perspective X : 0.00
Perspective Y : 0.00
Grain Amount : 0
Post Crop Vignette Amount : 0
Shadow Tint : 0
Red Hue : 0
Red Saturation : 0
Green Hue : 0
Green Saturation : 0
Blue Hue : 0
Blue Saturation : 0
Convert To Grayscale : True
Override Look Vignette : False
Tone Curve Name 2012 : Linear
Camera Profile : Camera ACROS+R FILTER
Has Settings : True
Crop Top : 0.005398
Crop Left : 0
Crop Bottom : 0.85695
Crop Right : 0.851552
Crop Angle : 0
Crop Constrain To Warp : 0
Has Crop : True
Already Applied : True
Creator : JQHN ANGARONI
Rights : JQHN ANGARQNI
Tone Curve PV2012 : 0, 0, 255, 255
Tone Curve PV2012 Red : 0, 0, 255, 255
Tone Curve PV2012 Green : 0, 0, 255, 255
Tone Curve PV2012 Blue : 0, 0, 255, 255
Image Width : 400
Image Height : 267
Bits Per Sample : 8
Color Components : 1
Aperture : 1.0
Image Size : 400x267
Megapixels : 0.107
Scale Factor To 35 mm Equivalent : 1.5
Shutter Speed : 1/680
Modify Date : 2023:01:09 11:22:05-05:00
Circle Of Confusion : 0.020 mm
Field Of View : 54.4 deg
Focal Length : 23.0 mm (35 mm equivalent: 35.0 mm)
Hyperfocal Distance : 26.79 m
Light Value : 6.4
Lens ID : 23.0mm