Uber Exif Photo
Keywords : 5D Mark II, 5DMKII, Canon, Carl Zeiss, Easter, Family, MF, Manual Focus
By-line : Ekin Photography
Copyright Notice : Ekin Photography
URL : www.ekinphotography.com
Make : Canon
Camera Model Name : Canon EOS 5D Mark II
Modify Date : 2010:04:06 00:14:40
Artist : Ekin
Copyright : Ekin Photography
Exposure Time : 1/160
F Number : 1.6
Exposure Program : Aperture-priority AE
ISO : 1250
Date/Time Original : 2010:04:04 14:04:05
Create Date : 2010:04:04 14:04:05
Shutter Speed Value : 1/160
Aperture Value : 1.6
Exposure Compensation : 0
Max Aperture Value : 1.6
Metering Mode : Multi-segment
Focal Length : 50.0 mm
Color Space : Uncalibrated
Custom Rendered : Normal
Exposure Mode : Auto
White Balance : Auto
Scene Capture Type : Standard
Profile Description : sRGB IEC61966-2.1
Creator City : O
Creator Work URL : www.ekinphotography.com
Firmware : 2.0.4
Flash Compensation : 0
Image Number : 0
Lens : 1-65535mm
Owner Name : Ekin
Serial Number : 320212923
Creator : Ekin Photography
Rights : Ekin Photography
Subject : 5D Mark II, 5DMKII, Canon, Carl Zeiss, Easter, Family, MF, Manual Focus
Contrast : High
Date/Time Digitized : 2010:04:04 14:04:05.42-04:00
Flash Fired : False
Flash Function : False
Flash Mode : Off
Flash Red Eye Mode : False
Flash Return : No return detection
Exif Image Width : 533
Exif Image Height : 800
Saturation : High
Sharpness : Hard
Creator Tool : Adobe Photoshop Lightroom
Label : Blue
Web Statement : www.ekinphotography.com
Already Applied : True
Blue Hue : 0
Blue Saturation : 0
Brightness : +50
Camera Profile : Camera Standard
Chromatic Aberration B : 0
Chromatic Aberration R : 0
Clarity : -17
Color Noise Reduction : 25
Convert To Grayscale : False
Defringe : 0
Exposure : +0.22
Fill Light : 7
Green Hue : 0
Green Saturation : 0
Has Crop : False
Has Settings : True
Highlight Recovery : 0
Hue Adjustment Aqua : 0
Hue Adjustment Blue : 0
Hue Adjustment Green : 0
Hue Adjustment Magenta : 0
Hue Adjustment Orange : 0
Hue Adjustment Purple : 0
Hue Adjustment Red : 0
Hue Adjustment Yellow : 0
Luminance Adjustment Aqua : 0
Luminance Adjustment Blue : -30
Luminance Adjustment Green : 0
Luminance Adjustment Magenta : 0
Luminance Adjustment Orange : 0
Luminance Adjustment Purple : -2
Luminance Adjustment Red : 0
Luminance Adjustment Yellow : 0
Luminance Smoothing : 0
Parametric Darks : -31
Parametric Highlight Split : 75
Parametric Highlights : -10
Parametric Lights : +2
Parametric Midtone Split : 50
Parametric Shadow Split : 25
Parametric Shadows : +33
Post Crop Vignette Amount : 0
Red Hue : 0
Red Saturation : 0
Saturation Adjustment Aqua : 0
Saturation Adjustment Blue : -20
Saturation Adjustment Green : 0
Saturation Adjustment Magenta : 0
Saturation Adjustment Orange : -5
Saturation Adjustment Purple : -1
Saturation Adjustment Red : -7
Saturation Adjustment Yellow : -10
Shadow Tint : 0
Shadows : 15
Sharpen Detail : 25
Sharpen Edge Masking : 0
Sharpen Radius : +1.0
Split Toning Balance : 0
Split Toning Highlight Hue : 0
Split Toning Highlight Saturation : 0
Split Toning Shadow Hue : 0
Split Toning Shadow Saturation : 0
Color Temperature : 3800
Tint : -5
Tone Curve : 0, 0, 32, 16, 64, 50, 128, 128, 192, 202, 255, 255
Tone Curve Name : Strong Contrast
Version : 5.5
Vibrance : +24
Vignette Amount : 0
Image Width : 203
Image Height : 300
Bits Per Sample : 8
Color Components : 3
Aperture : 1.6
Image Size : 203x300
Megapixels : 0.061
Scale Factor To 35 mm Equivalent : 6.9
Shutter Speed : 1/160
Create Date : 2010:04:04 14:04:05.42
Date/Time Original : 2010:04:04 14:04:05.42
Flash : Off, Did not fire
Circle Of Confusion : 0.004 mm
Field Of View : 6.0 deg
Focal Length : 50.0 mm (35 mm equivalent: 344.6 mm)
Hyperfocal Distance : 358.44 m
Light Value : 5.0
Lens ID : 1-65535mm