Uber Exif Photo
Keywords : 5D Mark II, 5DMKII, Canon, Carl Zeiss, Easter, Family, MF, Manual Focus
By-line : Ekin Photography
Copyright Notice : Ekin Photography
URL : www.ekinphotography.com
Make : Canon
Camera Model Name : Canon EOS 5D Mark II
Modify Date : 2010:04:06 00:10:26
Artist : Ekin
Copyright : Ekin Photography
Exposure Time : 1/320
F Number : 1.6
Exposure Program : Aperture-priority AE
ISO : 1250
Date/Time Original : 2010:04:04 13:44:03
Create Date : 2010:04:04 13:44:03
Shutter Speed Value : 1/320
Aperture Value : 1.6
Exposure Compensation : 0
Max Aperture Value : 1.6
Metering Mode : Spot
Focal Length : 50.0 mm
Color Space : Uncalibrated
Custom Rendered : Normal
Exposure Mode : Auto
White Balance : Auto
Scene Capture Type : Standard
Profile Description : sRGB IEC61966-2.1
Creator City : O
Creator Work URL : www.ekinphotography.com
Firmware : 2.0.4
Flash Compensation : 0
Image Number : 0
Lens : 1-65535mm
Owner Name : Ekin
Serial Number : 320212923
Creator : Ekin Photography
Rights : Ekin Photography
Subject : 5D Mark II, 5DMKII, Canon, Carl Zeiss, Easter, Family, MF, Manual Focus
Contrast : High
Date/Time Digitized : 2010:04:04 13:44:03.99-04:00
Flash Fired : False
Flash Function : False
Flash Mode : Off
Flash Red Eye Mode : False
Flash Return : No return detection
Exif Image Width : 800
Exif Image Height : 533
Saturation : Normal
Sharpness : Hard
Creator Tool : Adobe Photoshop Lightroom
Label : Blue
Web Statement : www.ekinphotography.com
Already Applied : True
Blue Hue : 0
Blue Saturation : 0
Brightness : +50
Camera Profile : Adobe Standard
Chromatic Aberration B : 0
Chromatic Aberration R : 0
Clarity : +36
Color Noise Reduction : 25
Convert To Grayscale : False
Defringe : 0
Exposure : +0.58
Fill Light : 0
Green Hue : 0
Green Saturation : 0
Has Crop : False
Has Settings : True
Highlight Recovery : 0
Hue Adjustment Aqua : 0
Hue Adjustment Blue : 0
Hue Adjustment Green : 0
Hue Adjustment Magenta : 0
Hue Adjustment Orange : 0
Hue Adjustment Purple : 0
Hue Adjustment Red : 0
Hue Adjustment Yellow : 0
Luminance Adjustment Aqua : 0
Luminance Adjustment Blue : 0
Luminance Adjustment Green : 0
Luminance Adjustment Magenta : 0
Luminance Adjustment Orange : 0
Luminance Adjustment Purple : 0
Luminance Adjustment Red : 0
Luminance Adjustment Yellow : 0
Luminance Smoothing : 0
Parametric Darks : -7
Parametric Highlight Split : 75
Parametric Highlights : 0
Parametric Lights : 0
Parametric Midtone Split : 50
Parametric Shadow Split : 25
Parametric Shadows : +40
Post Crop Vignette Amount : 0
Red Hue : 0
Red Saturation : 0
Saturation Adjustment Aqua : 0
Saturation Adjustment Blue : 0
Saturation Adjustment Green : 0
Saturation Adjustment Magenta : 0
Saturation Adjustment Orange : 0
Saturation Adjustment Purple : 0
Saturation Adjustment Red : 0
Saturation Adjustment Yellow : 0
Shadow Tint : 0
Shadows : 10
Sharpen Detail : 25
Sharpen Edge Masking : 0
Sharpen Radius : +1.0
Split Toning Balance : 0
Split Toning Highlight Hue : 0
Split Toning Highlight Saturation : 0
Split Toning Shadow Hue : 0
Split Toning Shadow Saturation : 0
Color Temperature : 3850
Tint : +13
Tone Curve : 0, 0, 32, 16, 64, 50, 128, 128, 192, 202, 255, 255
Tone Curve Name : Strong Contrast
Version : 5.5
Vibrance : +38
Vignette Amount : 0
Image Width : 300
Image Height : 237
Bits Per Sample : 8
Color Components : 3
Aperture : 1.6
Image Size : 300x237
Megapixels : 0.071
Scale Factor To 35 mm Equivalent : 6.9
Shutter Speed : 1/320
Create Date : 2010:04:04 13:44:03.99
Date/Time Original : 2010:04:04 13:44:03.99
Flash : Off, Did not fire
Circle Of Confusion : 0.004 mm
Field Of View : 6.0 deg
Focal Length : 50.0 mm (35 mm equivalent: 342.6 mm)
Hyperfocal Distance : 356.35 m
Light Value : 6.0
Lens ID : 1-65535mm