Uber Exif Photo
Keywords : 5D Mark II, 5DMKII, Asia, Canon, Ekin, Ekin Photography, Family, Hue, Travel, Vietnam
By-line : Ekin Photography
Copyright Notice : Ekin Photography
URL : www.ekinphotography.com
Make : Canon
Camera Model Name : Canon EOS 5D Mark II
Modify Date : 2010:04:13 00:03:44
Artist : Ekin
Copyright : Ekin Photography
Exposure Time : 1/2000
F Number : 2.0
Exposure Program : Aperture-priority AE
ISO : 400
Date/Time Original : 2010:03:02 18:24:49
Create Date : 2010:03:02 18:24:49
Shutter Speed Value : 1/2000
Aperture Value : 2.0
Exposure Compensation : 0
Max Aperture Value : 1.4
Metering Mode : Spot
Focal Length : 50.0 mm
Color Space : Uncalibrated
Custom Rendered : Normal
Exposure Mode : Auto
White Balance : Manual
Scene Capture Type : Standard
Profile Description : sRGB IEC61966-2.1
Creator City : O
Creator Work URL : www.ekinphotography.com
Firmware : 1.1.0
Flash Compensation : 0
Image Number : 0
Lens : 50mm
Lens Info : 50mm f/?
Owner Name : Ekin
Serial Number : 320212923
Creator : Ekin Photography
Rights : Ekin Photography
Subject : 5D Mark II, 5DMKII, Asia, Canon, Ekin, Ekin Photography, Family, Hue, Travel, Vietnam
Contrast : High
Date/Time Digitized : 2010:03:02 18:24:49.63-05:00
Flash Fired : False
Flash Function : False
Flash Mode : Off
Flash Red Eye Mode : False
Flash Return : No return detection
Exif Image Width : 800
Exif Image Height : 533
Saturation : High
Sharpness : Hard
Creator Tool : Adobe Photoshop Lightroom
Label : Blue
Web Statement : www.ekinphotography.com
Already Applied : True
Blue Hue : 0
Blue Saturation : 0
Brightness : 0
Camera Profile : Embedded
Chromatic Aberration B : 0
Chromatic Aberration R : 0
Clarity : +21
Color Noise Reduction : 0
Convert To Grayscale : False
Defringe : 0
Exposure : +0.29
Fill Light : 26
Green Hue : 0
Green Saturation : 0
Has Crop : False
Has Settings : True
Highlight Recovery : 0
Hue Adjustment Aqua : 0
Hue Adjustment Blue : 0
Hue Adjustment Green : 0
Hue Adjustment Magenta : 0
Hue Adjustment Orange : 0
Hue Adjustment Purple : 0
Hue Adjustment Red : 0
Hue Adjustment Yellow : 0
Incremental Temperature : +6
Incremental Tint : 0
Luminance Adjustment Aqua : 0
Luminance Adjustment Blue : 0
Luminance Adjustment Green : 0
Luminance Adjustment Magenta : 0
Luminance Adjustment Orange : 0
Luminance Adjustment Purple : 0
Luminance Adjustment Red : 0
Luminance Adjustment Yellow : 0
Luminance Smoothing : 0
Parametric Darks : +24
Parametric Highlight Split : 75
Parametric Highlights : 0
Parametric Lights : 0
Parametric Midtone Split : 50
Parametric Shadow Split : 25
Parametric Shadows : -12
Post Crop Vignette Amount : 0
Red Hue : 0
Red Saturation : 0
Saturation Adjustment Aqua : 0
Saturation Adjustment Blue : 0
Saturation Adjustment Green : 0
Saturation Adjustment Magenta : 0
Saturation Adjustment Orange : -10
Saturation Adjustment Purple : 0
Saturation Adjustment Red : -3
Saturation Adjustment Yellow : 0
Shadow Tint : 0
Shadows : 2
Sharpen Detail : 25
Sharpen Edge Masking : 0
Sharpen Radius : +1.0
Split Toning Balance : 0
Split Toning Highlight Hue : 0
Split Toning Highlight Saturation : 0
Split Toning Shadow Hue : 0
Split Toning Shadow Saturation : 0
Tone Curve : 0, 0, 32, 22, 64, 56, 128, 128, 192, 196, 255, 255
Tone Curve Name : Medium Contrast
Version : 5.5
Vibrance : +29
Vignette Amount : -51
Vignette Midpoint : 50
Image Width : 300
Image Height : 237
Bits Per Sample : 8
Color Components : 3
Aperture : 2.0
Image Size : 300x237
Megapixels : 0.071
Scale Factor To 35 mm Equivalent : 6.9
Shutter Speed : 1/2000
Create Date : 2010:03:02 18:24:49.63
Date/Time Original : 2010:03:02 18:24:49.63
Flash : Off, Did not fire
Circle Of Confusion : 0.004 mm
Field Of View : 6.0 deg
Focal Length : 50.0 mm (35 mm equivalent: 342.6 mm)
Hyperfocal Distance : 285.08 m
Light Value : 11.0
Lens ID : 50mm