Uber Exif Photo
Keywords : 5D Mark II, 5DMKII, Asia, Canon, Ekin, Ekin Photography, Family, Hue, Travel, Vietnam
By-line : Ekin Photography
Copyright Notice : Ekin Photography
URL : www.ekinphotography.com
Make : Canon
Camera Model Name : Canon EOS 5D Mark II
Modify Date : 2010:04:13 23:52:09
Artist : Ekin
Copyright : Ekin Photography
Exposure Time : 1/60
F Number : 1.4
Exposure Program : Aperture-priority AE
ISO : 200
Date/Time Original : 2010:03:05 19:13:48
Create Date : 2010:03:05 19:13:48
Shutter Speed Value : 1/60
Aperture Value : 1.4
Exposure Compensation : 0
Max Aperture Value : 1.4
Metering Mode : Spot
Focal Length : 50.0 mm
Color Space : Uncalibrated
Custom Rendered : Normal
Exposure Mode : Auto
White Balance : Auto
Scene Capture Type : Standard
Profile Description : sRGB IEC61966-2.1
Creator City : O
Creator Work URL : www.ekinphotography.com
Firmware : 1.1.0
Flash Compensation : 0
Image Number : 0
Lens : 50mm
Lens Info : 50mm f/?
Owner Name : Ekin
Serial Number : 320212923
Creator : Ekin Photography
Rights : Ekin Photography
Subject : 5D Mark II, 5DMKII, Asia, Canon, Ekin, Ekin Photography, Family, Hue, Travel, Vietnam
Contrast : Normal
Date/Time Digitized : 2010:03:05 19:13:48.19-05:00
Flash Fired : False
Flash Function : False
Flash Mode : Off
Flash Red Eye Mode : False
Flash Return : No return detection
Exif Image Width : 800
Exif Image Height : 533
Saturation : Normal
Sharpness : Hard
Creator Tool : Adobe Photoshop Lightroom
Label : Blue
Web Statement : www.ekinphotography.com
Already Applied : True
Blue Hue : 0
Blue Saturation : 0
Brightness : 0
Camera Profile : Embedded
Chromatic Aberration B : 0
Chromatic Aberration R : 0
Clarity : -2
Color Noise Reduction : 0
Convert To Grayscale : False
Crop Angle : -2.57601
Crop Bottom : 0.936781
Crop Height : 533
Crop Left : 0.024351
Crop Right : 0.989229
Crop Top : 0.063219
Crop Unit : pixels
Crop Width : 800
Defringe : 0
Exposure : 0.00
Fill Light : 0
Green Hue : 0
Green Saturation : 0
Has Crop : True
Has Settings : True
Highlight Recovery : 0
Hue Adjustment Aqua : 0
Hue Adjustment Blue : 0
Hue Adjustment Green : 0
Hue Adjustment Magenta : 0
Hue Adjustment Orange : 0
Hue Adjustment Purple : 0
Hue Adjustment Red : 0
Hue Adjustment Yellow : 0
Incremental Temperature : 0
Incremental Tint : 0
Luminance Adjustment Aqua : 0
Luminance Adjustment Blue : 0
Luminance Adjustment Green : 0
Luminance Adjustment Magenta : 0
Luminance Adjustment Orange : +20
Luminance Adjustment Purple : 0
Luminance Adjustment Red : +11
Luminance Adjustment Yellow : 0
Luminance Smoothing : 0
Parametric Darks : 0
Parametric Highlight Split : 75
Parametric Highlights : 0
Parametric Lights : 0
Parametric Midtone Split : 50
Parametric Shadow Split : 25
Parametric Shadows : 0
Post Crop Vignette Amount : 0
Red Hue : 0
Red Saturation : 0
Saturation Adjustment Aqua : 0
Saturation Adjustment Blue : 0
Saturation Adjustment Green : 0
Saturation Adjustment Magenta : 0
Saturation Adjustment Orange : -10
Saturation Adjustment Purple : 0
Saturation Adjustment Red : -16
Saturation Adjustment Yellow : 0
Shadow Tint : 0
Shadows : 0
Sharpen Detail : 25
Sharpen Edge Masking : 0
Sharpen Radius : +1.0
Split Toning Balance : 0
Split Toning Highlight Hue : 0
Split Toning Highlight Saturation : 0
Split Toning Shadow Hue : 0
Split Toning Shadow Saturation : 0
Tone Curve : 0, 0, 255, 255
Tone Curve Name : Linear
Version : 5.5
Vibrance : +36
Vignette Amount : 0
Image Width : 300
Image Height : 237
Bits Per Sample : 8
Color Components : 3
Aperture : 1.4
Image Size : 300x237
Megapixels : 0.071
Scale Factor To 35 mm Equivalent : 6.9
Shutter Speed : 1/60
Create Date : 2010:03:05 19:13:48.19
Date/Time Original : 2010:03:05 19:13:48.19
Flash : Off, Did not fire
Circle Of Confusion : 0.004 mm
Field Of View : 6.0 deg
Focal Length : 50.0 mm (35 mm equivalent: 342.6 mm)
Hyperfocal Distance : 407.25 m
Light Value : 5.9
Lens ID : 50mm