Uber Exif Photo
By-line : Kung Hing Kuen (Eric)
Make : Canon
Camera Model Name : Canon EOS 20D
Orientation : Horizontal (normal)
Software : Adobe Photoshop CS4 Macintosh
Modify Date : 2010:05:31 04:26:15
Artist : Kung Hing Kuen (Eric)
Exposure Time : 1/40
F Number : 2.0
Exposure Program : Aperture-priority AE
ISO : 1600
Date/Time Original : 2010:05:31 11:18:44
Create Date : 2010:05:31 11:18:44
Shutter Speed Value : 1/40
Aperture Value : 2.0
Exposure Compensation : 0
Max Aperture Value : 2.0
Metering Mode : Multi-segment
Focal Length : 85.0 mm
Color Space : Uncalibrated
Exif Image Width : 800
Exif Image Height : 533
Custom Rendered : Normal
Exposure Mode : Auto
White Balance : Auto
Scene Capture Type : Standard
Profile Description : Adobe RGB (1998)
Date/Time Digitized : 2010:05:31 11:18:44+01:00
Rating : 0
Format : image/jpeg
Serial Number : 730415708
Lens Info : 50mm f/?
Lens : 50.0 mm
Image Number : 76
Flash Compensation : 0
Owner Name : Kung Hing Kuen (Eric)
Firmware : 2.0.3
Raw File Name : _MG_0332.CR2
Version : 5.0
Color Temperature : 3900
Tint : +2
Exposure : +0.55
Shadows : 9
Brightness : +50
Contrast : +25
Saturation : +3
Sharpness : 25
Luminance Smoothing : 0
Color Noise Reduction : 25
Chromatic Aberration R : 0
Chromatic Aberration B : 0
Vignette Amount : 0
Shadow Tint : 0
Red Hue : 0
Red Saturation : 0
Green Hue : 0
Green Saturation : 0
Blue Hue : 0
Blue Saturation : 0
Fill Light : 0
Vibrance : +24
Highlight Recovery : 0
Clarity : 0
Defringe : 0
Hue Adjustment Red : 0
Hue Adjustment Orange : 0
Hue Adjustment Yellow : 0
Hue Adjustment Green : 0
Hue Adjustment Aqua : 0
Hue Adjustment Blue : 0
Hue Adjustment Purple : 0
Hue Adjustment Magenta : 0
Saturation Adjustment Red : 0
Saturation Adjustment Orange : 0
Saturation Adjustment Yellow : 0
Saturation Adjustment Green : 0
Saturation Adjustment Aqua : 0
Saturation Adjustment Blue : 0
Saturation Adjustment Purple : 0
Saturation Adjustment Magenta : 0
Luminance Adjustment Red : 0
Luminance Adjustment Orange : 0
Luminance Adjustment Yellow : 0
Luminance Adjustment Green : 0
Luminance Adjustment Aqua : 0
Luminance Adjustment Blue : 0
Luminance Adjustment Purple : 0
Luminance Adjustment Magenta : 0
Split Toning Shadow Hue : 0
Split Toning Shadow Saturation : 0
Split Toning Highlight Hue : 0
Split Toning Highlight Saturation : 0
Split Toning Balance : 0
Parametric Shadows : 0
Parametric Darks : 0
Parametric Lights : 0
Parametric Highlights : 0
Parametric Shadow Split : 25
Parametric Midtone Split : 50
Parametric Highlight Split : 75
Sharpen Radius : +1.0
Sharpen Detail : 25
Sharpen Edge Masking : 0
Post Crop Vignette Amount : 0
Convert To Grayscale : False
Tone Curve Name : Strong Contrast
Camera Profile : ACR 4.4
Has Settings : True
Has Crop : False
Already Applied : True
Color Mode : RGB
ICC Profile Name : Adobe RGB (1998)
Flash Fired : False
Flash Return : No return detection
Flash Mode : Off
Flash Function : False
Flash Red Eye Mode : False
Creator : Kung Hing Kuen (Eric)
Tone Curve : 0, 0, 32, 16, 64, 50, 128, 128, 192, 202, 255, 255
Image Width : 300
Image Height : 200
Bits Per Sample : 8
Color Components : 3
Aperture : 2.0
Image Size : 300x200
Megapixels : 0.060
Scale Factor To 35 mm Equivalent : 1.6
Shutter Speed : 1/40
Flash : Off, Did not fire
Circle Of Confusion : 0.019 mm
Field Of View : 15.1 deg
Focal Length : 85.0 mm (35 mm equivalent: 136.1 mm)
Hyperfocal Distance : 192.55 m
Light Value : 3.3
Lens ID : 50.0mm