Uber Exif Photo
Copyright Flag : False
Orientation : Horizontal (normal)
Software : Adobe Photoshop CS2 Windows
Modify Date : 2010:06:03 12:00:48
Color Space : sRGB
Exif Image Width : 900
Exif Image Height : 664
Profile Description : sRGB IEC61966-2.1
Creator Tool : Adobe Photoshop CS2 Windows
Create Date : 2010:06:03 12:00:48-07:00
Version : 4.5
White Balance : Custom
Incremental Temperature : +19
Incremental Tint : -29
Exposure : 0.00
Shadows : 0
Brightness : +34
Contrast : +5
Saturation : 0
Sharpness : 0
Luminance Smoothing : 0
Color Noise Reduction : 28
Chromatic Aberration R : 0
Chromatic Aberration B : 0
Vignette Amount : -15
Vignette Midpoint : 50
Shadow Tint : 0
Red Hue : 0
Red Saturation : 0
Green Hue : 0
Green Saturation : 0
Blue Hue : 0
Blue Saturation : 0
Fill Light : 0
Vibrance : 0
Highlight Recovery : 25
Clarity : 0
Defringe : 0
Hue Adjustment Red : -23
Hue Adjustment Orange : +11
Hue Adjustment Yellow : -22
Hue Adjustment Green : 0
Hue Adjustment Aqua : 0
Hue Adjustment Blue : +23
Hue Adjustment Purple : -9
Hue Adjustment Magenta : -15
Saturation Adjustment Red : +36
Saturation Adjustment Orange : +55
Saturation Adjustment Yellow : +26
Saturation Adjustment Green : 0
Saturation Adjustment Aqua : +32
Saturation Adjustment Blue : +49
Saturation Adjustment Purple : +32
Saturation Adjustment Magenta : +15
Luminance Adjustment Red : -2
Luminance Adjustment Orange : -13
Luminance Adjustment Yellow : -13
Luminance Adjustment Green : 0
Luminance Adjustment Aqua : -28
Luminance Adjustment Blue : -55
Luminance Adjustment Purple : -28
Luminance Adjustment Magenta : -13
Split Toning Shadow Hue : 245
Split Toning Shadow Saturation : 73
Split Toning Highlight Hue : 69
Split Toning Highlight Saturation : 6
Split Toning Balance : +85
Parametric Shadows : 0
Parametric Darks : -27
Parametric Lights : 0
Parametric Highlights : -30
Parametric Shadow Split : 25
Parametric Midtone Split : 50
Parametric Highlight Split : 75
Sharpen Radius : +1.0
Sharpen Detail : 50
Sharpen Edge Masking : 0
Post Crop Vignette Amount : 0
Convert To Grayscale : False
Tone Curve Name : Linear
Camera Profile : ACR 2.4
Has Settings : True
Crop Top : 0
Crop Left : 0
Crop Bottom : 0.847107
Crop Right : 1
Crop Angle : 0
Crop Width : 4339
Crop Height : 3201
Crop Unit : pixels
Has Crop : True
Already Applied : True
Tone Curve : 0, 0, 255, 255
Format : image/jpeg
Color Mode : RGB
ICC Profile Name : sRGB IEC61966-2.1
Image Width : 300
Image Height : 221
Bits Per Sample : 8
Color Components : 3
Image Size : 300x221
Megapixels : 0.066