Uber Exif Photo
Caption-Abstract : SONY DSC
Copyright Flag : False
Image Description : SONY DSC
Make : SONY
Camera Model Name : DSLR-A700
Orientation : Horizontal (normal)
Software : Adobe Photoshop CS2 Windows
Modify Date : 2010:06:03 12:02:58
Exposure Time : 1/400
F Number : 16.0
Exposure Program : Aperture-priority AE
ISO : 400
Date/Time Original : 2010:05:06 17:59:10
Create Date : 2010:05:06 17:59:10
Shutter Speed Value : 1/400
Aperture Value : 16.0
Brightness Value : 9.62
Exposure Compensation : 0
Max Aperture Value : 4.0
Metering Mode : Center-weighted average
Light Source : Unknown
Focal Length : 24.0 mm
Color Space : sRGB
Exif Image Width : 900
Exif Image Height : 410
Scene Type : Directly photographed
Custom Rendered : Normal
Exposure Mode : Auto
White Balance : Auto
Digital Zoom Ratio : 0
Focal Length In 35mm Format : 36 mm
Scene Capture Type : Standard
Contrast : Normal
Saturation : Normal
Sharpness : Normal
Profile Description : sRGB IEC61966-2.1
Date/Time Digitized : 2010:05:06 17:59:10-07:00
Flash Fired : False
Flash Return : No return detection
Flash Mode : Off
Flash Function : False
Flash Red Eye Mode : False
Creator Tool : Adobe Photoshop CS2 Windows
Version : 4.5
Color Temperature : 9776
Tint : -74
Exposure : -0.05
Shadows : 0
Brightness : +65
Luminance Smoothing : 100
Color Noise Reduction : 100
Chromatic Aberration R : -100
Chromatic Aberration B : 0
Vignette Amount : -17
Vignette Midpoint : 45
Shadow Tint : +100
Red Hue : -74
Red Saturation : -6
Green Hue : +6
Green Saturation : 0
Blue Hue : -100
Blue Saturation : -13
Fill Light : 71
Vibrance : 0
Highlight Recovery : 100
Clarity : +100
Defringe : 0
Hue Adjustment Red : 0
Hue Adjustment Orange : 0
Hue Adjustment Yellow : 0
Hue Adjustment Green : 0
Hue Adjustment Aqua : 0
Hue Adjustment Blue : 0
Hue Adjustment Purple : 0
Hue Adjustment Magenta : 0
Saturation Adjustment Red : 0
Saturation Adjustment Orange : 0
Saturation Adjustment Yellow : 0
Saturation Adjustment Green : 0
Saturation Adjustment Aqua : 0
Saturation Adjustment Blue : 0
Saturation Adjustment Purple : 0
Saturation Adjustment Magenta : 0
Luminance Adjustment Red : 0
Luminance Adjustment Orange : 0
Luminance Adjustment Yellow : 0
Luminance Adjustment Green : 0
Luminance Adjustment Aqua : 0
Luminance Adjustment Blue : 0
Luminance Adjustment Purple : 0
Luminance Adjustment Magenta : 0
Split Toning Shadow Hue : 0
Split Toning Shadow Saturation : 0
Split Toning Highlight Hue : 59
Split Toning Highlight Saturation : 26
Split Toning Balance : 0
Parametric Shadows : -95
Parametric Darks : -40
Parametric Lights : -64
Parametric Highlights : +67
Parametric Shadow Split : 25
Parametric Midtone Split : 50
Parametric Highlight Split : 75
Sharpen Radius : +1.0
Sharpen Detail : 50
Sharpen Edge Masking : 0
Post Crop Vignette Amount : 0
Convert To Grayscale : False
Tone Curve Name : Custom
Camera Profile : Embedded
Has Settings : True
Crop Top : 0
Crop Left : 0
Crop Bottom : 0.683517
Crop Right : 1
Crop Angle : 0
Crop Width : 4272
Crop Height : 1947
Crop Unit : pixels
Has Crop : True
Already Applied : True
Tone Curve : 0, 0, 32, 22, 64, 56, 136, 128, 192, 196, 255, 255
Gradient Based Corr What : Correction
Gradient Based Corr Amount : 1.000000
Gradient Based Corr Active : true
Gradient Based Corr Exposure : -0.200000
Gradient Based Corr Saturation : 0.000000
Gradient Based Corr Contrast : 0.000000
Gradient Based Corr Clarity : 0.000000
Gradient Based Corr Sharpness : 0.000000
Gradient Based Corr Brightness : -0.100000
Gradient Based Corr Toning Hue : 0.000000
Gradient Based Corr Toning Saturation : 0.000000
Gradient Based Corr Mask What : Mask/Gradient
Gradient Based Corr Mask Value : 1.000000
Gradient Based Corr Mask Zero X : 0.502933
Gradient Based Corr Mask Zero Y : 0.492307
Gradient Based Corr Mask Full X : 0.502933
Gradient Based Corr Mask Full Y : -0.006593
Color Mode : RGB
ICC Profile Name : sRGB IEC61966-2.1
Description : SONY DSC
Format : image/jpeg
Image Width : 300
Image Height : 137
Bits Per Sample : 8
Color Components : 3
Aperture : 16.0
Image Size : 300x137
Megapixels : 0.041
Scale Factor To 35 mm Equivalent : 1.5
Shutter Speed : 1/400
Flash : Off, Did not fire
Circle Of Confusion : 0.020 mm
Field Of View : 53.1 deg
Focal Length : 24.0 mm (35 mm equivalent: 36.0 mm)
Hyperfocal Distance : 1.80 m
Light Value : 14.6