Uber Exif Photo
Caption-Abstract : SONY DSC
Copyright Flag : False
Image Description : SONY DSC
Make : SONY
Camera Model Name : DSLR-A700
Orientation : Horizontal (normal)
Software : Adobe Photoshop CS2 Windows
Modify Date : 2010:06:03 12:37:38
Exposure Time : 1/1600
F Number : 9.0
Exposure Program : Program AE
ISO : 400
Date/Time Original : 2009:09:19 12:00:35
Create Date : 2009:09:19 12:00:35
Shutter Speed Value : 1/1600
Aperture Value : 9.0
Brightness Value : 10
Exposure Compensation : 0
Max Aperture Value : 4.0
Metering Mode : Multi-segment
Light Source : Unknown
Focal Length : 30.0 mm
Color Space : sRGB
Exif Image Width : 900
Exif Image Height : 598
Scene Type : Directly photographed
Custom Rendered : Normal
Exposure Mode : Auto
White Balance : Auto
Digital Zoom Ratio : 0
Focal Length In 35mm Format : 45 mm
Scene Capture Type : Standard
Contrast : Normal
Saturation : Normal
Sharpness : Normal
Profile Description : sRGB IEC61966-2.1
Date/Time Digitized : 2009:09:19 12:00:35-07:00
Flash Fired : False
Flash Return : No return detection
Flash Mode : Off
Flash Function : False
Flash Red Eye Mode : False
Creator Tool : Adobe Photoshop CS2 Windows
Version : 4.5
Incremental Temperature : +77
Incremental Tint : +8
Exposure : -3.22
Shadows : 38
Brightness : -36
Luminance Smoothing : 0
Color Noise Reduction : 0
Chromatic Aberration R : 0
Chromatic Aberration B : 0
Vignette Amount : 0
Shadow Tint : 0
Red Hue : 0
Red Saturation : 0
Green Hue : 0
Green Saturation : 0
Blue Hue : 0
Blue Saturation : 0
Fill Light : 5
Vibrance : +50
Highlight Recovery : 0
Clarity : +18
Defringe : 0
Hue Adjustment Red : +19
Hue Adjustment Orange : +38
Hue Adjustment Yellow : -33
Hue Adjustment Green : -99
Hue Adjustment Aqua : +57
Hue Adjustment Blue : +18
Hue Adjustment Purple : -12
Hue Adjustment Magenta : +38
Saturation Adjustment Red : +1
Saturation Adjustment Orange : +38
Saturation Adjustment Yellow : -2
Saturation Adjustment Green : +86
Saturation Adjustment Aqua : 0
Saturation Adjustment Blue : +35
Saturation Adjustment Purple : 0
Saturation Adjustment Magenta : 0
Luminance Adjustment Red : 0
Luminance Adjustment Orange : 0
Luminance Adjustment Yellow : 0
Luminance Adjustment Green : 0
Luminance Adjustment Aqua : 0
Luminance Adjustment Blue : 0
Luminance Adjustment Purple : +4
Luminance Adjustment Magenta : +2
Split Toning Shadow Hue : 228
Split Toning Shadow Saturation : 55
Split Toning Highlight Hue : 40
Split Toning Highlight Saturation : 17
Split Toning Balance : +55
Parametric Shadows : +100
Parametric Darks : +100
Parametric Lights : +100
Parametric Highlights : +100
Parametric Shadow Split : 25
Parametric Midtone Split : 50
Parametric Highlight Split : 75
Sharpen Radius : +1.0
Sharpen Detail : 25
Sharpen Edge Masking : 0
Post Crop Vignette Amount : 0
Convert To Grayscale : False
Tone Curve Name : Medium Contrast
Camera Profile : Embedded
Has Settings : True
Crop Top : 0
Crop Left : 0.019834
Crop Bottom : 1
Crop Right : 0.980166
Crop Angle : 1.07748
Crop Width : 3020
Crop Height : 2007
Crop Unit : pixels
Has Crop : True
Already Applied : True
Tone Curve : 0, 0, 32, 22, 64, 56, 128, 128, 192, 196, 255, 255
Gradient Based Corr What : Correction
Gradient Based Corr Amount : 1.000000
Gradient Based Corr Active : true
Gradient Based Corr Exposure : -0.100000
Gradient Based Corr Saturation : 0.000000
Gradient Based Corr Contrast : 0.000000
Gradient Based Corr Clarity : 0.350000
Gradient Based Corr Sharpness : 0.000000
Gradient Based Corr Brightness : 0.000000
Gradient Based Corr Toning Hue : 106.000000
Gradient Based Corr Toning Saturation : 0.000000
Gradient Based Corr Mask What : Mask/Gradient
Gradient Based Corr Mask Value : 1.000000
Gradient Based Corr Mask Zero X : 0.308254
Gradient Based Corr Mask Zero Y : 0.548147
Gradient Based Corr Mask Full X : 0.309861
Gradient Based Corr Mask Full Y : 0.419624
Color Mode : RGB
ICC Profile Name : sRGB IEC61966-2.1
Description : SONY DSC
Format : image/jpeg
Image Width : 300
Image Height : 199
Bits Per Sample : 8
Color Components : 3
Aperture : 9.0
Image Size : 300x199
Megapixels : 0.060
Scale Factor To 35 mm Equivalent : 1.5
Shutter Speed : 1/1600
Flash : Off, Did not fire
Circle Of Confusion : 0.020 mm
Field Of View : 43.6 deg
Focal Length : 30.0 mm (35 mm equivalent: 45.0 mm)
Hyperfocal Distance : 4.99 m
Light Value : 15.0