Uber Exif Photo
Keywords : 5D Mark II, 5DMKII, Canon, Family, MF, Manual Focus
By-line : Ekin Photography
Copyright Notice : Ekin Photography
URL : www.ekinphotography.com
Make : Canon
Camera Model Name : Canon EOS 5D Mark II
Modify Date : 2010:06:06 23:33:28
Artist : Ekin
Copyright : Ekin Photography
Exposure Time : 1/250
F Number : 2.0
Exposure Program : Aperture-priority AE
ISO : 2000
Date/Time Original : 2010:06:05 20:08:50
Create Date : 2010:06:05 20:08:50
Shutter Speed Value : 1/250
Aperture Value : 2.0
Exposure Compensation : +4/3
Max Aperture Value : 2.0
Metering Mode : Multi-segment
Focal Length : 50.0 mm
Color Space : Uncalibrated
Custom Rendered : Normal
Exposure Mode : Auto
White Balance : Auto
Scene Capture Type : Standard
Profile Description : sRGB IEC61966-2.1
Creator City : O
Creator Work URL : www.ekinphotography.com
Firmware : 2.0.4
Flash Compensation : 0
Image Number : 0
Lens : 50-50mm
Lens Info : 50mm f/?
Owner Name : Ekin
Serial Number : 320212923
Creator : Ekin Photography
Rights : Ekin Photography
Subject : 5D Mark II, 5DMKII, Canon, Family, MF, Manual Focus
Contrast : Normal
Date/Time Digitized : 2010:06:05 20:08:50.25-04:00
Flash Fired : False
Flash Function : False
Flash Mode : Off
Flash Red Eye Mode : False
Flash Return : No return detection
Exif Image Width : 633
Exif Image Height : 950
Saturation : Normal
Sharpness : Hard
Creator Tool : Adobe Photoshop Lightroom
Web Statement : www.ekinphotography.com
Already Applied : True
Blue Hue : 0
Blue Saturation : 0
Brightness : 0
Camera Profile : Embedded
Chromatic Aberration B : 0
Chromatic Aberration R : 0
Clarity : 0
Color Noise Reduction : 0
Convert To Grayscale : False
Defringe : 0
Exposure : -0.19
Fill Light : 25
Green Hue : 0
Green Saturation : 0
Has Crop : False
Has Settings : True
Highlight Recovery : 0
Hue Adjustment Aqua : 0
Hue Adjustment Blue : 0
Hue Adjustment Green : 0
Hue Adjustment Magenta : 0
Hue Adjustment Orange : 0
Hue Adjustment Purple : 0
Hue Adjustment Red : 0
Hue Adjustment Yellow : 0
Incremental Temperature : 0
Incremental Tint : 0
Luminance Adjustment Aqua : 0
Luminance Adjustment Blue : 0
Luminance Adjustment Green : 0
Luminance Adjustment Magenta : 0
Luminance Adjustment Orange : 0
Luminance Adjustment Purple : 0
Luminance Adjustment Red : 0
Luminance Adjustment Yellow : 0
Luminance Smoothing : 0
Parametric Darks : +43
Parametric Highlight Split : 75
Parametric Highlights : 0
Parametric Lights : +7
Parametric Midtone Split : 50
Parametric Shadow Split : 25
Parametric Shadows : -5
Post Crop Vignette Amount : 0
Red Hue : 0
Red Saturation : 0
Saturation Adjustment Aqua : 0
Saturation Adjustment Blue : 0
Saturation Adjustment Green : 0
Saturation Adjustment Magenta : 0
Saturation Adjustment Orange : 0
Saturation Adjustment Purple : 0
Saturation Adjustment Red : 0
Saturation Adjustment Yellow : 0
Shadow Tint : 0
Shadows : 0
Sharpen Detail : 25
Sharpen Edge Masking : 0
Sharpen Radius : +1.0
Split Toning Balance : 0
Split Toning Highlight Hue : 0
Split Toning Highlight Saturation : 0
Split Toning Shadow Hue : 0
Split Toning Shadow Saturation : 0
Tone Curve : 0, 0, 32, 16, 64, 50, 128, 128, 192, 202, 255, 255
Tone Curve Name : Strong Contrast
Version : 5.5
Vibrance : 0
Vignette Amount : -43
Vignette Midpoint : 18
Image Width : 181
Image Height : 300
Bits Per Sample : 8
Color Components : 3
Aperture : 2.0
Image Size : 181x300
Megapixels : 0.054
Scale Factor To 35 mm Equivalent : 5.8
Shutter Speed : 1/250
Create Date : 2010:06:05 20:08:50.25
Date/Time Original : 2010:06:05 20:08:50.25
Flash : Off, Did not fire
Circle Of Confusion : 0.005 mm
Field Of View : 7.1 deg
Focal Length : 50.0 mm (35 mm equivalent: 290.2 mm)
Hyperfocal Distance : 241.47 m
Light Value : 5.6
Lens ID : 50-50mm