Uber Exif Photo
Keywords : 5D Mark II, 5DMKII, Canon, Family, MF, Manual Focus
By-line : Ekin Photography
Copyright Notice : Ekin Photography
URL : www.ekinphotography.com
Make : Canon
Camera Model Name : Canon EOS 5D Mark II
Modify Date : 2010:06:04 01:46:10
Artist : Ekin
Copyright : Ekin Photography
Exposure Time : 1/400
Exposure Program : Aperture-priority AE
ISO : 800
Date/Time Original : 2010:04:15 16:37:18
Create Date : 2010:04:15 16:37:18
Shutter Speed Value : 1/400
Exposure Compensation : 0
Metering Mode : Spot
Focal Length : 50.0 mm
Color Space : Uncalibrated
Custom Rendered : Normal
Exposure Mode : Auto
White Balance : Auto
Scene Capture Type : Standard
Profile Description : sRGB IEC61966-2.1
Creator City : O
Creator Work URL : www.ekinphotography.com
Firmware : 2.0.4
Flash Compensation : 0
Image Number : 0
Owner Name : Ekin
Serial Number : 320212923
Creator : Ekin Photography
Rights : Ekin Photography
Subject : 5D Mark II, 5DMKII, Canon, Family, MF, Manual Focus
Contrast : High
Date/Time Digitized : 2010:04:15 16:37:18.11-04:00
Flash Fired : False
Flash Function : False
Flash Mode : Off
Flash Red Eye Mode : False
Flash Return : No return detection
Exif Image Width : 533
Exif Image Height : 800
Saturation : High
Sharpness : Hard
Creator Tool : Adobe Photoshop Lightroom
Label : Blue
Web Statement : www.ekinphotography.com
Already Applied : True
Blue Hue : 0
Blue Saturation : 0
Brightness : +50
Camera Profile : Camera Standard
Chromatic Aberration B : 0
Chromatic Aberration R : 0
Clarity : -17
Color Noise Reduction : 25
Convert To Grayscale : False
Defringe : 0
Exposure : +0.10
Fill Light : 11
Green Hue : 0
Green Saturation : 0
Has Crop : False
Has Settings : True
Highlight Recovery : 0
Hue Adjustment Aqua : 0
Hue Adjustment Blue : 0
Hue Adjustment Green : 0
Hue Adjustment Magenta : 0
Hue Adjustment Orange : 0
Hue Adjustment Purple : 0
Hue Adjustment Red : 0
Hue Adjustment Yellow : 0
Luminance Adjustment Aqua : 0
Luminance Adjustment Blue : -30
Luminance Adjustment Green : 0
Luminance Adjustment Magenta : 0
Luminance Adjustment Orange : 0
Luminance Adjustment Purple : -2
Luminance Adjustment Red : 0
Luminance Adjustment Yellow : 0
Luminance Smoothing : 0
Parametric Darks : -19
Parametric Highlight Split : 75
Parametric Highlights : -10
Parametric Lights : +2
Parametric Midtone Split : 50
Parametric Shadow Split : 25
Parametric Shadows : +33
Post Crop Vignette Amount : 0
Red Hue : 0
Red Saturation : 0
Saturation Adjustment Aqua : 0
Saturation Adjustment Blue : -20
Saturation Adjustment Green : 0
Saturation Adjustment Magenta : 0
Saturation Adjustment Orange : -5
Saturation Adjustment Purple : -1
Saturation Adjustment Red : -7
Saturation Adjustment Yellow : -10
Shadow Tint : 0
Shadows : 10
Sharpen Detail : 25
Sharpen Edge Masking : 0
Sharpen Radius : +1.0
Split Toning Balance : 0
Split Toning Highlight Hue : 0
Split Toning Highlight Saturation : 0
Split Toning Shadow Hue : 0
Split Toning Shadow Saturation : 0
Color Temperature : 4857
Tint : +1
Tone Curve : 0, 0, 32, 16, 64, 50, 128, 128, 192, 202, 255, 255
Tone Curve Name : Strong Contrast
Version : 5.5
Vibrance : +24
Vignette Amount : -43
Vignette Midpoint : 6
Image Width : 178
Image Height : 300
Bits Per Sample : 8
Color Components : 3
Image Size : 178x300
Megapixels : 0.053
Scale Factor To 35 mm Equivalent : 6.9
Shutter Speed : 1/400
Create Date : 2010:04:15 16:37:18.11
Date/Time Original : 2010:04:15 16:37:18.11
Flash : Off, Did not fire
Circle Of Confusion : 0.004 mm
Field Of View : 6.0 deg
Focal Length : 50.0 mm (35 mm equivalent: 344.6 mm)